BEGIN:VCALENDAR
VERSION:2.0
PRODID:-//Concord Academy - ECPv6.15.17.1//NONSGML v1.0//EN
CALSCALE:GREGORIAN
METHOD:PUBLISH
X-ORIGINAL-URL:https://concordacademy.org
X-WR-CALDESC:Events for Concord Academy
REFRESH-INTERVAL;VALUE=DURATION:PT1H
X-Robots-Tag:noindex
X-PUBLISHED-TTL:PT1H
BEGIN:VTIMEZONE
TZID:America/New_York
BEGIN:DAYLIGHT
TZOFFSETFROM:-0500
TZOFFSETTO:-0400
TZNAME:EDT
DTSTART:20240310T070000
END:DAYLIGHT
BEGIN:STANDARD
TZOFFSETFROM:-0400
TZOFFSETTO:-0500
TZNAME:EST
DTSTART:20241103T060000
END:STANDARD
BEGIN:DAYLIGHT
TZOFFSETFROM:-0500
TZOFFSETTO:-0400
TZNAME:EDT
DTSTART:20250309T070000
END:DAYLIGHT
BEGIN:STANDARD
TZOFFSETFROM:-0400
TZOFFSETTO:-0500
TZNAME:EST
DTSTART:20251102T060000
END:STANDARD
BEGIN:DAYLIGHT
TZOFFSETFROM:-0500
TZOFFSETTO:-0400
TZNAME:EDT
DTSTART:20260308T070000
END:DAYLIGHT
BEGIN:STANDARD
TZOFFSETFROM:-0400
TZOFFSETTO:-0500
TZNAME:EST
DTSTART:20261101T060000
END:STANDARD
BEGIN:DAYLIGHT
TZOFFSETFROM:-0500
TZOFFSETTO:-0400
TZNAME:EDT
DTSTART:20270314T070000
END:DAYLIGHT
BEGIN:STANDARD
TZOFFSETFROM:-0400
TZOFFSETTO:-0500
TZNAME:EST
DTSTART:20271107T060000
END:STANDARD
END:VTIMEZONE
BEGIN:VEVENT
DTSTART;TZID=America/New_York:20260328T200000
DTEND;TZID=America/New_York:20260328T220000
DTSTAMP:20260419T182019
CREATED:20251106T161206Z
LAST-MODIFIED:20260419T215525Z
UID:10011392-1774728000-1774735200@concordacademy.org
SUMMARY:Coffeehouse
DESCRIPTION:
URL:https://concordacademy.org/event/coffeehouse/
LOCATION:PAC – Auditorium
CATEGORIES:All School Events
ORGANIZER;CN="concordacademy.org_lg8bsrdt1orqabfoh4mupn6k38@group.calendar.google.com":MAILTO:concordacademy.org_lg8bsrdt1orqabfoh4mupn6k38@group.calendar.google.com
END:VEVENT
BEGIN:VEVENT
DTSTART;TZID=America/New_York:20260222T183000
DTEND;TZID=America/New_York:20260222T200000
DTSTAMP:20260419T182019
CREATED:20251106T161204Z
LAST-MODIFIED:20260419T215520Z
UID:10011389-1771785000-1771790400@concordacademy.org
SUMMARY:Lunar New Year Dance
DESCRIPTION:
URL:https://concordacademy.org/event/lunar-new-year-dance/
LOCATION:PAC – Auditorium
CATEGORIES:All School Events
ORGANIZER;CN="concordacademy.org_lg8bsrdt1orqabfoh4mupn6k38@group.calendar.google.com":MAILTO:concordacademy.org_lg8bsrdt1orqabfoh4mupn6k38@group.calendar.google.com
END:VEVENT
BEGIN:VEVENT
DTSTART;TZID=America/New_York:20251017T190000
DTEND;TZID=America/New_York:20251017T210000
DTSTAMP:20260419T182019
CREATED:20251016T153812Z
LAST-MODIFIED:20260419T215428Z
UID:10011335-1760727600-1760734800@concordacademy.org
SUMMARY:Chandler Bowl Pep Rally
DESCRIPTION:
URL:https://concordacademy.org/event/chandler-bowl-pep-rally/
LOCATION:PAC – Auditorium
CATEGORIES:All School Events
ORGANIZER;CN="concordacademy.org_lg8bsrdt1orqabfoh4mupn6k38@group.calendar.google.com":MAILTO:concordacademy.org_lg8bsrdt1orqabfoh4mupn6k38@group.calendar.google.com
END:VEVENT
END:VCALENDAR