BEGIN:VCALENDAR
VERSION:2.0
PRODID:-//Concord Academy - ECPv6.15.17.1//NONSGML v1.0//EN
CALSCALE:GREGORIAN
METHOD:PUBLISH
X-WR-CALNAME:Concord Academy
X-ORIGINAL-URL:https://concordacademy.org
X-WR-CALDESC:Events for Concord Academy
REFRESH-INTERVAL;VALUE=DURATION:PT1H
X-Robots-Tag:noindex
X-PUBLISHED-TTL:PT1H
BEGIN:VTIMEZONE
TZID:America/New_York
BEGIN:DAYLIGHT
TZOFFSETFROM:-0500
TZOFFSETTO:-0400
TZNAME:EDT
DTSTART:20240310T070000
END:DAYLIGHT
BEGIN:STANDARD
TZOFFSETFROM:-0400
TZOFFSETTO:-0500
TZNAME:EST
DTSTART:20241103T060000
END:STANDARD
BEGIN:DAYLIGHT
TZOFFSETFROM:-0500
TZOFFSETTO:-0400
TZNAME:EDT
DTSTART:20250309T070000
END:DAYLIGHT
BEGIN:STANDARD
TZOFFSETFROM:-0400
TZOFFSETTO:-0500
TZNAME:EST
DTSTART:20251102T060000
END:STANDARD
BEGIN:DAYLIGHT
TZOFFSETFROM:-0500
TZOFFSETTO:-0400
TZNAME:EDT
DTSTART:20260308T070000
END:DAYLIGHT
BEGIN:STANDARD
TZOFFSETFROM:-0400
TZOFFSETTO:-0500
TZNAME:EST
DTSTART:20261101T060000
END:STANDARD
END:VTIMEZONE
BEGIN:VEVENT
DTSTART;TZID=America/New_York:20251110T190000
DTEND;TZID=America/New_York:20251110T203000
DTSTAMP:20260423T025628
CREATED:20250814T144336Z
LAST-MODIFIED:20260423T065401Z
UID:10011259-1762801200-1762806600@concordacademy.org
SUMMARY:CA Parents Health & Wellness Series
DESCRIPTION:
URL:https://concordacademy.org/event/ca-parents-health-wellness-series/
LOCATION:MAC – 105 Ransome Room
CATEGORIES:All School Events
ORGANIZER;CN="concordacademy.org_lg8bsrdt1orqabfoh4mupn6k38@group.calendar.google.com":MAILTO:concordacademy.org_lg8bsrdt1orqabfoh4mupn6k38@group.calendar.google.com
END:VEVENT
BEGIN:VEVENT
DTSTART;TZID=America/New_York:20251112T140000
DTEND;TZID=America/New_York:20251112T153000
DTSTAMP:20260423T025628
CREATED:20250820T120000Z
LAST-MODIFIED:20251113T005419Z
UID:10011216-1762956000-1762961400@concordacademy.org
SUMMARY:Boys Varsity Soccer NEPSAC Quarterfinals vs. Millbrook School (Away)
DESCRIPTION:\n\nEVENT DETAILS\n\nOpponent: Millbrook School\nHome/Away: Away\nLocation: Suffield Academy, 222 North Main St., Suffield, CT.\nResult: L 0-3\nTransportation: Josephs Transportation\nShuttle At: 11:00 a.m.\nExcused At: 10:30 a.m.\nEstimated Return Time: 6:00 p.m.
URL:https://concordacademy.org/event/boys-varsity-soccer-nepsac-quarterfinals/
CATEGORIES:Athletics Calendar,Boys Varsity Soccer
END:VEVENT
BEGIN:VEVENT
DTSTART;TZID=America/New_York:20251114T180000
DTEND;TZID=America/New_York:20251114T230000
DTSTAMP:20260423T025628
CREATED:20251106T161131Z
LAST-MODIFIED:20260423T065401Z
UID:10011380-1763143200-1763161200@concordacademy.org
SUMMARY:SHAC Night with Gelato
DESCRIPTION:
URL:https://concordacademy.org/event/shac-night-with-gelato/
CATEGORIES:All School Events
ORGANIZER;CN="concordacademy.org_lg8bsrdt1orqabfoh4mupn6k38@group.calendar.google.com":MAILTO:concordacademy.org_lg8bsrdt1orqabfoh4mupn6k38@group.calendar.google.com
END:VEVENT
END:VCALENDAR