BEGIN:VCALENDAR
VERSION:2.0
PRODID:-//Concord Academy - ECPv6.15.17.1//NONSGML v1.0//EN
CALSCALE:GREGORIAN
METHOD:PUBLISH
X-ORIGINAL-URL:https://concordacademy.org
X-WR-CALDESC:Events for Concord Academy
REFRESH-INTERVAL;VALUE=DURATION:PT1H
X-Robots-Tag:noindex
X-PUBLISHED-TTL:PT1H
BEGIN:VTIMEZONE
TZID:America/New_York
BEGIN:DAYLIGHT
TZOFFSETFROM:-0500
TZOFFSETTO:-0400
TZNAME:EDT
DTSTART:20230312T070000
END:DAYLIGHT
BEGIN:STANDARD
TZOFFSETFROM:-0400
TZOFFSETTO:-0500
TZNAME:EST
DTSTART:20231105T060000
END:STANDARD
BEGIN:DAYLIGHT
TZOFFSETFROM:-0500
TZOFFSETTO:-0400
TZNAME:EDT
DTSTART:20240310T070000
END:DAYLIGHT
BEGIN:STANDARD
TZOFFSETFROM:-0400
TZOFFSETTO:-0500
TZNAME:EST
DTSTART:20241103T060000
END:STANDARD
BEGIN:DAYLIGHT
TZOFFSETFROM:-0500
TZOFFSETTO:-0400
TZNAME:EDT
DTSTART:20250309T070000
END:DAYLIGHT
BEGIN:STANDARD
TZOFFSETFROM:-0400
TZOFFSETTO:-0500
TZNAME:EST
DTSTART:20251102T060000
END:STANDARD
END:VTIMEZONE
BEGIN:VEVENT
DTSTART;TZID=America/New_York:20241121T190000
DTEND;TZID=America/New_York:20241121T203000
DTSTAMP:20260425T163358
CREATED:20240910T170036Z
LAST-MODIFIED:20260425T194044Z
UID:10010399-1732215600-1732221000@concordacademy.org
SUMMARY:10th Grade Parent Social
DESCRIPTION:Please join fellow tenth grade parents and guardians for an informal evening to socialize and connect. Drinks and hors d’oeuvres will be served. \nMore information\, including how to register\, will become available closer to the event.
URL:https://concordacademy.org/event/10th-grade-parent-social/
LOCATION:Moriarty Athletic Campus\, 153 Fairhaven Rd\, Concord\, MA\, 01742
CATEGORIES:All School Events
END:VEVENT
BEGIN:VEVENT
DTSTART;TZID=America/New_York:20241122T160000
DTEND;TZID=America/New_York:20241122T180000
DTSTAMP:20260425T163358
CREATED:20241106T192657Z
LAST-MODIFIED:20241106T192657Z
UID:10010590-1732291200-1732298400@concordacademy.org
SUMMARY:Boys Varsity Basketball vs Belmont Hill School (Away)–Scrimmage
DESCRIPTION:\n\nEVENT DETAILS\n\nOpponent: Belmont Hill School\nHome/Away: Away\nLocation: Belmont Hill\nTransportation: Bedford Charter\nShuttle At: 2:45 PM
URL:https://concordacademy.org/event/boys-varsity-basketball-vs-belmont-hill-school-away-scrimmage/
CATEGORIES:Athletics Calendar,Boys Varsity Basketball
END:VEVENT
BEGIN:VEVENT
DTSTART;TZID=America/New_York:20241122T161500
DTEND;TZID=America/New_York:20241122T181500
DTSTAMP:20260425T163358
CREATED:20241106T192702Z
LAST-MODIFIED:20241106T192702Z
UID:10010634-1732292100-1732299300@concordacademy.org
SUMMARY:Girls Varsity Basketball vs St. Marks (Scrimmage) (Home)
DESCRIPTION:\n\nEVENT DETAILS\n\nOpponent: St. Marks (Scrimmage)\nHome/Away: Home\nLocation: SHAC
URL:https://concordacademy.org/event/girls-varsity-basketball-vs-st-marks-scrimmage-home/
CATEGORIES:Athletics Calendar,Girls Varsity Basketball
END:VEVENT
BEGIN:VEVENT
DTSTART;VALUE=DATE:20241123
DTEND;VALUE=DATE:20241202
DTSTAMP:20260425T163358
CREATED:20241018T200312Z
LAST-MODIFIED:20260425T194047Z
UID:10010572-1732320000-1733097599@concordacademy.org
SUMMARY:Thanksgiving Break
DESCRIPTION:
URL:https://concordacademy.org/event/thanksgiving-break/
CATEGORIES:All School Events
END:VEVENT
BEGIN:VEVENT
DTSTART;TZID=America/New_York:20241123T080000
DTEND;TZID=America/New_York:20241123T120000
DTSTAMP:20260425T163358
CREATED:20240910T170036Z
LAST-MODIFIED:20260425T194044Z
UID:10010400-1732348800-1732363200@concordacademy.org
SUMMARY:Boarding Students Depart; Houses and School Closed
DESCRIPTION:
URL:https://concordacademy.org/event/boarding-students-depart-by-houses-close-and-school-is-closed/
CATEGORIES:All School Events
ORGANIZER;CN="concordacademy.org_lg8bsrdt1orqabfoh4mupn6k38@group.calendar.google.com":MAILTO:concordacademy.org_lg8bsrdt1orqabfoh4mupn6k38@group.calendar.google.com
END:VEVENT
END:VCALENDAR