BEGIN:VCALENDAR
VERSION:2.0
PRODID:-//Concord Academy - ECPv6.15.17.1//NONSGML v1.0//EN
CALSCALE:GREGORIAN
METHOD:PUBLISH
X-WR-CALNAME:Concord Academy
X-ORIGINAL-URL:https://concordacademy.org
X-WR-CALDESC:Events for Concord Academy
REFRESH-INTERVAL;VALUE=DURATION:PT1H
X-Robots-Tag:noindex
X-PUBLISHED-TTL:PT1H
BEGIN:VTIMEZONE
TZID:America/New_York
BEGIN:DAYLIGHT
TZOFFSETFROM:-0500
TZOFFSETTO:-0400
TZNAME:EDT
DTSTART:20230312T070000
END:DAYLIGHT
BEGIN:STANDARD
TZOFFSETFROM:-0400
TZOFFSETTO:-0500
TZNAME:EST
DTSTART:20231105T060000
END:STANDARD
BEGIN:DAYLIGHT
TZOFFSETFROM:-0500
TZOFFSETTO:-0400
TZNAME:EDT
DTSTART:20240310T070000
END:DAYLIGHT
BEGIN:STANDARD
TZOFFSETFROM:-0400
TZOFFSETTO:-0500
TZNAME:EST
DTSTART:20241103T060000
END:STANDARD
BEGIN:DAYLIGHT
TZOFFSETFROM:-0500
TZOFFSETTO:-0400
TZNAME:EDT
DTSTART:20250309T070000
END:DAYLIGHT
BEGIN:STANDARD
TZOFFSETFROM:-0400
TZOFFSETTO:-0500
TZNAME:EST
DTSTART:20251102T060000
END:STANDARD
END:VTIMEZONE
BEGIN:VEVENT
DTSTART;TZID=America/New_York:20240916T163000
DTEND;TZID=America/New_York:20240916T181500
DTSTAMP:20260425T112844
CREATED:20240822T210607Z
LAST-MODIFIED:20240823T142043Z
UID:10010212-1726504200-1726510500@concordacademy.org
SUMMARY:Girls Varsity Soccer vs Winsor School (Away)
DESCRIPTION:\n\nEVENT DETAILS\n\nOpponent: Winsor School\nHome/Away: Away\nLocation: Winsor School\nTransportation: Bedford Charter\nShuttle At: 2:45 p.m.
URL:https://concordacademy.org/event/girls-varsity-soccer-vs-winsor-school-away/
LOCATION:Winsor School
CATEGORIES:Athletics Calendar,Girls Varsity Soccer
END:VEVENT
BEGIN:VEVENT
DTSTART;TZID=America/New_York:20240918T161500
DTEND;TZID=America/New_York:20240918T180000
DTSTAMP:20260425T112844
CREATED:20240822T210518Z
LAST-MODIFIED:20240919T004738Z
UID:10010186-1726676100-1726682400@concordacademy.org
SUMMARY:Boys Junior Varsity Soccer vs Portsmouth Abbey School (Away)
DESCRIPTION:\n\nEVENT DETAILS\n\nOpponent: Portsmouth Abbey School\nHome/Away: Away\nLocation: Portsmouth Abbey School\nResult: W 2-1\nTransportation: Bedford Charter\nShuttle At: 1:50 p.m.
URL:https://concordacademy.org/event/boys-junior-varsity-soccer-vs-portsmouth-abbey-school-away/
LOCATION:Portsmouth Abbey School
CATEGORIES:Athletics Calendar,Boys Junior Varsity Soccer
END:VEVENT
BEGIN:VEVENT
DTSTART;TZID=America/New_York:20240918T161500
DTEND;TZID=America/New_York:20240918T180000
DTSTAMP:20260425T112844
CREATED:20240822T210600Z
LAST-MODIFIED:20240919T004658Z
UID:10010199-1726676100-1726682400@concordacademy.org
SUMMARY:Boys Thirds Soccer vs Portsmouth Abbey School (Away)
DESCRIPTION:\n\nEVENT DETAILS\n\nOpponent: Portsmouth Abbey School\nHome/Away: Away\nLocation: Portsmouth Abbey School\nResult: W 8-2\nTransportation: Bedford Charter\nShuttle At: 1:50 p.m.
URL:https://concordacademy.org/event/boys-thirds-soccer-vs-portsmouth-abbey-school-away/
LOCATION:Portsmouth Abbey School
CATEGORIES:Athletics Calendar,Boys Thirds Soccer
END:VEVENT
BEGIN:VEVENT
DTSTART;TZID=America/New_York:20240918T161500
DTEND;TZID=America/New_York:20240918T180000
DTSTAMP:20260425T112844
CREATED:20240822T210621Z
LAST-MODIFIED:20240919T004951Z
UID:10010233-1726676100-1726682400@concordacademy.org
SUMMARY:Girls Junior Varsity Soccer vs Portsmouth Abbey School (Away)
DESCRIPTION:\n\nEVENT DETAILS\n\nOpponent: Portsmouth Abbey School\nHome/Away: Away\nLocation: Portsmouth Abbey School\nResult: W 4-0\nTransportation: Bedford Charter\nShuttle At: 1:50 p.m.
URL:https://concordacademy.org/event/girls-junior-varsity-soccer-vs-portsmouth-abbey-school-away/
LOCATION:Portsmouth Abbey School
CATEGORIES:Athletics Calendar,Girls Junior Varsity Soccer
END:VEVENT
BEGIN:VEVENT
DTSTART;TZID=America/New_York:20240918T161500
DTEND;TZID=America/New_York:20240918T180000
DTSTAMP:20260425T112844
CREATED:20240822T210700Z
LAST-MODIFIED:20240919T005050Z
UID:10010299-1726676100-1726682400@concordacademy.org
SUMMARY:Girls Varsity Field Hockey vs Portsmouth Abbey School (Away)
DESCRIPTION:\n\nEVENT DETAILS\n\nOpponent: Portsmouth Abbey School\nHome/Away: Away\nLocation: Portsmouth Abbey School\nResult: L 1-6\nTransportation: Bedford Charter\nShuttle At: 1:50 p.m.
URL:https://concordacademy.org/event/girls-varsity-field-hockey-vs-portsmouth-abbey-school-away/
LOCATION:Portsmouth Abbey School
CATEGORIES:Athletics Calendar,Girls Varsity Field Hockey
END:VEVENT
BEGIN:VEVENT
DTSTART;TZID=America/New_York:20240918T161500
DTEND;TZID=America/New_York:20240918T181500
DTSTAMP:20260425T112844
CREATED:20240822T210213Z
LAST-MODIFIED:20240919T004849Z
UID:10010166-1726676100-1726683300@concordacademy.org
SUMMARY:Boys Varsity Soccer vs Portsmouth Abbey School (Away)
DESCRIPTION: \n\nEVENT DETAILS\n\nOpponent: Portsmouth Abbey School\nHome/Away: Away\nLocation: Portsmouth Abbey School\nResult: L 0-1\nTransportation: Bedford Charter\nShuttle At: 1:50 p.m.
URL:https://concordacademy.org/event/boys-varsity-soccer-vs-portsmouth-abbey-school-away/
LOCATION:Portsmouth Abbey School
CATEGORIES:Athletics Calendar,Boys Varsity Soccer
END:VEVENT
BEGIN:VEVENT
DTSTART;TZID=America/New_York:20240918T161500
DTEND;TZID=America/New_York:20240918T181500
DTSTAMP:20260425T112844
CREATED:20240822T210609Z
LAST-MODIFIED:20240919T005137Z
UID:10010213-1726676100-1726683300@concordacademy.org
SUMMARY:Girls Varsity Soccer vs Portsmouth Abbey School (Home)
DESCRIPTION:\n\nEVENT DETAILS\n\nOpponent: Portsmouth Abbey School\nHome/Away: Home\nLocation: Moriarty Athletic Campus\nResult: L 1-2\nTransportation: Shuttle\nShuttle At: 3:15 p.m.
URL:https://concordacademy.org/event/girls-varsity-soccer-vs-portsmouth-abbey-school-home/
LOCATION:Moriarty Athletic Campus\, 153 Fairhaven Rd\, Concord\, MA\, 01742
CATEGORIES:Athletics Calendar,Girls Varsity Soccer
END:VEVENT
BEGIN:VEVENT
DTSTART;TZID=America/New_York:20240918T163000
DTEND;TZID=America/New_York:20240918T174500
DTSTAMP:20260425T112844
CREATED:20240822T210640Z
LAST-MODIFIED:20240919T005348Z
UID:10010270-1726677000-1726681500@concordacademy.org
SUMMARY:Girls Junior Varsity Volleyball vs Portsmouth Abbey School (Away)
DESCRIPTION:\n\nEVENT DETAILS\n\nOpponent: Portsmouth Abbey School\nHome/Away: Away\nLocation: Portsmouth Abbey School\nResult: W 2-1\nTransportation: Bedford Charter\nShuttle At: 1:50 p.m.
URL:https://concordacademy.org/event/girls-junior-varsity-volleyball-vs-portsmouth-abbey-school-away/
LOCATION:Portsmouth Abbey School
CATEGORIES:Athletics Calendar,Girls Junior Varsity Volleyball
END:VEVENT
BEGIN:VEVENT
DTSTART;TZID=America/New_York:20240918T163000
DTEND;TZID=America/New_York:20240918T180000
DTSTAMP:20260425T112844
CREATED:20240822T210629Z
LAST-MODIFIED:20240919T005238Z
UID:10010248-1726677000-1726682400@concordacademy.org
SUMMARY:Girls Varsity Volleyball vs Portsmouth Abbey School (Away)
DESCRIPTION:\n\nEVENT DETAILS\n\nOpponent: Portsmouth Abbey School\nHome/Away: Away\nLocation: Portsmouth Abbey School\nResult: L 1-3\nTransportation: Bedford Charter\nShuttle At: 1:50 p.m.
URL:https://concordacademy.org/event/girls-varsity-volleyball-vs-portsmouth-abbey-school-away/
LOCATION:Portsmouth Abbey School
CATEGORIES:Athletics Calendar,Girls Varsity Volleyball
END:VEVENT
BEGIN:VEVENT
DTSTART;TZID=America/New_York:20240918T163000
DTEND;TZID=America/New_York:20240918T180000
DTSTAMP:20260425T112844
CREATED:20240822T210649Z
LAST-MODIFIED:20240919T013937Z
UID:10010283-1726677000-1726682400@concordacademy.org
SUMMARY:Girls Varsity Cross Country Meet
DESCRIPTION:\n\nEVENT DETAILS\n\nOpponent: Berwick Academy, Wheeler School\nHome/Away: Home\nLocation: Great Brook, Carlisle\nResult: L 29-27 (BA) L 43-18 (WS)\nTransportation: Bedford Charter\nShuttle At: 2:35 p.m.
URL:https://concordacademy.org/event/girls-varsity-cross-country-meet/
LOCATION:Great Brook
CATEGORIES:Athletics Calendar,Girls Varsity Cross Country
END:VEVENT
BEGIN:VEVENT
DTSTART;TZID=America/New_York:20240918T163000
DTEND;TZID=America/New_York:20240918T180000
DTSTAMP:20260425T112844
CREATED:20240822T210654Z
LAST-MODIFIED:20240919T013735Z
UID:10010290-1726677000-1726682400@concordacademy.org
SUMMARY:Boys Varsity Cross Country Meet
DESCRIPTION:\n\nEVENT DETAILS\n\nOpponent: Berwick Academy , Wheeler School\nHome/Away: Home\nLocation: Great Brook, Carlisle\nResult: W 24-37 (BA), L 39-20 (WS)\nTransportation: Bedford Charter\nShuttle At: 2:35 p.m.
URL:https://concordacademy.org/event/boys-varsity-cross-country-meet/
LOCATION:Great Brook
CATEGORIES:Athletics Calendar,Boys Varsity Cross Country
END:VEVENT
BEGIN:VEVENT
DTSTART;TZID=America/New_York:20240920T160000
DTEND;TZID=America/New_York:20240920T173000
DTSTAMP:20260425T112844
CREATED:20240822T210700Z
LAST-MODIFIED:20240923T024625Z
UID:10010300-1726848000-1726853400@concordacademy.org
SUMMARY:Girls Varsity Field Hockey vs Beaver Country Day School (Home)
DESCRIPTION:\n\nEVENT DETAILS\n\nOpponent: Beaver Country Day School\nHome/Away: Home\nLocation: Moriarty Athletic Campus\nResult: W 6-3\nTransportation: Shuttle\nShuttle At: 3:00 p.m.
URL:https://concordacademy.org/event/girls-varsity-field-hockey-vs-beaver-country-day-school-home/
LOCATION:Moriarty Athletic Campus\, 153 Fairhaven Rd\, Concord\, MA\, 01742
CATEGORIES:Athletics Calendar,Girls Varsity Field Hockey
END:VEVENT
BEGIN:VEVENT
DTSTART;TZID=America/New_York:20240920T160000
DTEND;TZID=America/New_York:20240920T174500
DTSTAMP:20260425T112844
CREATED:20240822T210609Z
LAST-MODIFIED:20240926T165055Z
UID:10010214-1726848000-1726854300@concordacademy.org
SUMMARY:Girls Varsity Soccer vs Beaver Country Day School (Home)
DESCRIPTION:\n\nEVENT DETAILS\n\nOpponent: Beaver Country Day School\nHome/Away: Home\nLocation: Moriarty Athletic Campus\nResult: W 3-0\nTransportation: Shuttle\nShuttle At: 3:00 p.m.
URL:https://concordacademy.org/event/girls-varsity-soccer-vs-beaver-country-day-school-home/
LOCATION:Moriarty Athletic Campus\, 153 Fairhaven Rd\, Concord\, MA\, 01742
CATEGORIES:Athletics Calendar,Girls Varsity Soccer
END:VEVENT
BEGIN:VEVENT
DTSTART;TZID=America/New_York:20240920T161500
DTEND;TZID=America/New_York:20240920T173000
DTSTAMP:20260425T112844
CREATED:20240822T210641Z
LAST-MODIFIED:20240823T143609Z
UID:10010271-1726848900-1726853400@concordacademy.org
SUMMARY:Girls Junior Varsity Volleyball vs Pingree School (Away)
DESCRIPTION:\n\nEVENT DETAILS\n\nOpponent: Pingree School\nHome/Away: Away\nLocation: Pingree School\nTransportation: Bedford Charter\nShuttle At: 2:35 p.m.
URL:https://concordacademy.org/event/girls-junior-varsity-volleyball-vs-pingree-school-away/
LOCATION:Pingree School\, 537 Highland St\, South Hamilton\, MA\, United States
CATEGORIES:Athletics Calendar,Girls Junior Varsity Volleyball
GEO:42.642327;-70.882903
X-APPLE-STRUCTURED-LOCATION;VALUE=URI;X-ADDRESS=Pingree School 537 Highland St South Hamilton MA United States;X-APPLE-RADIUS=500;X-TITLE=537 Highland St:geo:-70.882903,42.642327
END:VEVENT
BEGIN:VEVENT
DTSTART;TZID=America/New_York:20240920T161500
DTEND;TZID=America/New_York:20240920T174500
DTSTAMP:20260425T112844
CREATED:20240822T210629Z
LAST-MODIFIED:20240823T143130Z
UID:10010249-1726848900-1726854300@concordacademy.org
SUMMARY:Girls Varsity Volleyball vs Pingree School (Away)
DESCRIPTION:\n\nEVENT DETAILS\n\nOpponent: Pingree School\nHome/Away: Away\nLocation: Pingree School\nTransportation: Bedford Charter\nShuttle At: 2:35 p.m.
URL:https://concordacademy.org/event/girls-varsity-volleyball-vs-pingree-school-away/
LOCATION:Pingree School\, 537 Highland St\, South Hamilton\, MA\, United States
CATEGORIES:Athletics Calendar,Girls Varsity Volleyball
GEO:42.642327;-70.882903
X-APPLE-STRUCTURED-LOCATION;VALUE=URI;X-ADDRESS=Pingree School 537 Highland St South Hamilton MA United States;X-APPLE-RADIUS=500;X-TITLE=537 Highland St:geo:-70.882903,42.642327
END:VEVENT
BEGIN:VEVENT
DTSTART;TZID=America/New_York:20240920T161500
DTEND;TZID=America/New_York:20240920T174500
DTSTAMP:20260425T112844
CREATED:20240905T220154Z
LAST-MODIFIED:20240923T024722Z
UID:10010335-1726848900-1726854300@concordacademy.org
SUMMARY:Girls Junior Varsity Soccer vs BU Academy (Home)
DESCRIPTION:\n\nEVENT DETAILS\n\nOpponent: BU Academy\nHome/Away: Home\nLocation: Main Campus\nResult: W 2-0
URL:https://concordacademy.org/event/girls-junior-varsity-soccer-vs-bu-academy-home/
LOCATION:Main Campus\, 166 Main Street\, Concord\, MA\, 01742\, United States
CATEGORIES:Athletics Calendar,Girls Junior Varsity Soccer
END:VEVENT
BEGIN:VEVENT
DTSTART;TZID=America/New_York:20240920T163000
DTEND;TZID=America/New_York:20240920T174500
DTSTAMP:20260425T112844
CREATED:20240919T004204Z
LAST-MODIFIED:20240923T190228Z
UID:10010473-1726849800-1726854300@concordacademy.org
SUMMARY:Boys Thirds Soccer vs Cushing Academy (Home)
DESCRIPTION:\n\nEVENT DETAILS\n\nOpponent: Cushing Academy\nHome/Away: Home\nLocation: Main Campus\nResult: W 2-1
URL:https://concordacademy.org/event/boys-thirds-soccer-vs-cushing-academy-home/
LOCATION:Main Campus\, 166 Main Street\, Concord\, MA\, 01742\, United States
CATEGORIES:Athletics Calendar,Boys Thirds Soccer
END:VEVENT
BEGIN:VEVENT
DTSTART;TZID=America/New_York:20240921T110000
DTEND;TZID=America/New_York:20240921T123000
DTSTAMP:20260425T112844
CREATED:20240822T210519Z
LAST-MODIFIED:20240822T210519Z
UID:10010187-1726916400-1726921800@concordacademy.org
SUMMARY:Boys Junior Varsity Soccer vs Berwick Academy (Away)
DESCRIPTION:\n\nEVENT DETAILS\n\nOpponent: Berwick Academy\nHome/Away: Away\nLocation: Berwick Academy\nTransportation: Bedford Charter\nShuttle At: 8:45 a.m.
URL:https://concordacademy.org/event/boys-junior-varsity-soccer-vs-berwick-academy-away/
LOCATION:Berwick Academy
CATEGORIES:Athletics Calendar,Boys Junior Varsity Soccer
END:VEVENT
BEGIN:VEVENT
DTSTART;TZID=America/New_York:20240921T110000
DTEND;TZID=America/New_York:20240921T124500
DTSTAMP:20260425T112844
CREATED:20240822T210213Z
LAST-MODIFIED:20241104T184611Z
UID:10010167-1726916400-1726922700@concordacademy.org
SUMMARY:Boys Varsity Soccer vs Berwick Academy (Away)
DESCRIPTION: \n\nEVENT DETAILS\n\nOpponent: Berwick Academy\nHome/Away: Away\nLocation: Berwick Academy\nResult: W 1-0\nTransportation: Bedford Charter\nShuttle At: 8:45 a.m.
URL:https://concordacademy.org/event/boys-varsity-soccer-vs-berwick-academy-away/
LOCATION:Berwick Academy
CATEGORIES:Athletics Calendar,Boys Varsity Soccer
END:VEVENT
END:VCALENDAR