BEGIN:VCALENDAR
VERSION:2.0
PRODID:-//Concord Academy - ECPv6.15.17.1//NONSGML v1.0//EN
CALSCALE:GREGORIAN
METHOD:PUBLISH
X-ORIGINAL-URL:https://concordacademy.org
X-WR-CALDESC:Events for Concord Academy
REFRESH-INTERVAL;VALUE=DURATION:PT1H
X-Robots-Tag:noindex
X-PUBLISHED-TTL:PT1H
BEGIN:VTIMEZONE
TZID:America/New_York
BEGIN:DAYLIGHT
TZOFFSETFROM:-0500
TZOFFSETTO:-0400
TZNAME:EDT
DTSTART:20230312T070000
END:DAYLIGHT
BEGIN:STANDARD
TZOFFSETFROM:-0400
TZOFFSETTO:-0500
TZNAME:EST
DTSTART:20231105T060000
END:STANDARD
BEGIN:DAYLIGHT
TZOFFSETFROM:-0500
TZOFFSETTO:-0400
TZNAME:EDT
DTSTART:20240310T070000
END:DAYLIGHT
BEGIN:STANDARD
TZOFFSETFROM:-0400
TZOFFSETTO:-0500
TZNAME:EST
DTSTART:20241103T060000
END:STANDARD
BEGIN:DAYLIGHT
TZOFFSETFROM:-0500
TZOFFSETTO:-0400
TZNAME:EDT
DTSTART:20250309T070000
END:DAYLIGHT
BEGIN:STANDARD
TZOFFSETFROM:-0400
TZOFFSETTO:-0500
TZNAME:EST
DTSTART:20251102T060000
END:STANDARD
END:VTIMEZONE
BEGIN:VEVENT
DTSTART;TZID=America/New_York:20240826T180000
DTEND;TZID=America/New_York:20240826T193000
DTSTAMP:20260420T201505
CREATED:20240812T173048Z
LAST-MODIFIED:20260420T233848Z
UID:10009498-1724695200-1724700600@concordacademy.org
SUMMARY:CA Parents - New Families Campus Tours
DESCRIPTION:
URL:https://concordacademy.org/event/ca-parents-new-families-campus-tours-3/
CATEGORIES:All School Events
ORGANIZER;CN="https%3A//concordacademy.org_lg8bsrdt1orqabfoh4mupn6k38@group.calendar.google.com":MAILTO:https://concordacademy.org_lg8bsrdt1orqabfoh4mupn6k38@group.calendar.google.com
END:VEVENT
BEGIN:VEVENT
DTSTART;TZID=America/New_York:20240827T083000
DTEND;TZID=America/New_York:20240827T100000
DTSTAMP:20260420T201505
CREATED:20240823T215234Z
LAST-MODIFIED:20260420T233848Z
UID:10010318-1724747400-1724752800@concordacademy.org
SUMMARY:CA Parents - New Families Campus Tours
DESCRIPTION:
URL:https://concordacademy.org/event/ca-parents-new-families-campus-tours/
CATEGORIES:All School Events
ORGANIZER;CN="https%3A//concordacademy.org_lg8bsrdt1orqabfoh4mupn6k38@group.calendar.google.com":MAILTO:https://concordacademy.org_lg8bsrdt1orqabfoh4mupn6k38@group.calendar.google.com
END:VEVENT
BEGIN:VEVENT
DTSTART;VALUE=DATE:20240830
DTEND;VALUE=DATE:20240901
DTSTAMP:20260420T201505
CREATED:20240803T011042Z
LAST-MODIFIED:20260420T233849Z
UID:10008350-1724976000-1725148799@concordacademy.org
SUMMARY:First Night
DESCRIPTION:
URL:https://concordacademy.org/event/first-night/
CATEGORIES:All School Events
END:VEVENT
BEGIN:VEVENT
DTSTART;VALUE=DATE:20240830
DTEND;VALUE=DATE:20240902
DTSTAMP:20260420T201505
CREATED:20240803T011041Z
LAST-MODIFIED:20260420T233900Z
UID:10008349-1724976000-1725235199@concordacademy.org
SUMMARY:New Student Registration and Orientation
DESCRIPTION:\n\nEVENT DETAILS\n\nHome/Away: Home
URL:https://concordacademy.org/event/new-student-registration-and-orientation-2/
CATEGORIES:All School Events
END:VEVENT
BEGIN:VEVENT
DTSTART;TZID=America/New_York:20240830T110000
DTEND;TZID=America/New_York:20240830T114500
DTSTAMP:20260420T201505
CREATED:20240803T010045Z
LAST-MODIFIED:20260420T233849Z
UID:10008351-1725015600-1725018300@concordacademy.org
SUMMARY:New Boarding Student Registration
DESCRIPTION:
URL:https://concordacademy.org/event/new-boarding-student-registration/
CATEGORIES:All School Events
END:VEVENT
BEGIN:VEVENT
DTSTART;TZID=America/New_York:20240830T130000
DTEND;TZID=America/New_York:20240830T133000
DTSTAMP:20260420T201505
CREATED:20240803T010051Z
LAST-MODIFIED:20260420T233849Z
UID:10008352-1725022800-1725024600@concordacademy.org
SUMMARY:New Day Student Registration
DESCRIPTION:
URL:https://concordacademy.org/event/new-day-student-registration/
CATEGORIES:All School Events
END:VEVENT
BEGIN:VEVENT
DTSTART;TZID=America/New_York:20240830T134500
DTEND;TZID=America/New_York:20240830T141500
DTSTAMP:20260420T201505
CREATED:20240803T010117Z
LAST-MODIFIED:20260420T233854Z
UID:10008353-1725025500-1725027300@concordacademy.org
SUMMARY:Welcome from School Leadership
DESCRIPTION:
URL:https://concordacademy.org/event/welcome-from-school-leadership-and-shos/
CATEGORIES:All School Events
END:VEVENT
BEGIN:VEVENT
DTSTART;TZID=America/New_York:20240830T151500
DTEND;TZID=America/New_York:20240830T154500
DTSTAMP:20260420T201505
CREATED:20240803T010131Z
LAST-MODIFIED:20260420T233854Z
UID:10008354-1725030900-1725032700@concordacademy.org
SUMMARY:CA Parents Welcome
DESCRIPTION:
URL:https://concordacademy.org/event/ca-parents-welcome/
CATEGORIES:All School Events
END:VEVENT
BEGIN:VEVENT
DTSTART;TZID=America/New_York:20240830T160000
DTEND;TZID=America/New_York:20240830T173000
DTSTAMP:20260420T201505
CREATED:20240805T202936Z
LAST-MODIFIED:20260420T233855Z
UID:10008843-1725033600-1725039000@concordacademy.org
SUMMARY:Opening Days Parent Social
DESCRIPTION:\n\nEVENT DETAILS\n\nHome/Away: Home
URL:https://concordacademy.org/event/opening-days-parent-social/
CATEGORIES:All School Events
END:VEVENT
BEGIN:VEVENT
DTSTART;TZID=America/New_York:20240830T173000
DTEND;TZID=America/New_York:20240830T230000
DTSTAMP:20260420T201505
CREATED:20240803T010427Z
LAST-MODIFIED:20260420T233854Z
UID:10008357-1725039000-1725058800@concordacademy.org
SUMMARY:First Night Programming
DESCRIPTION:\n\nEVENT DETAILS\n\nHome/Away: Home
URL:https://concordacademy.org/event/first-night-programming/
CATEGORIES:All School Events
END:VEVENT
BEGIN:VEVENT
DTSTART;TZID=America/New_York:20240831T163000
DTEND;TZID=America/New_York:20240831T203000
DTSTAMP:20260420T201505
CREATED:20240803T011041Z
LAST-MODIFIED:20260420T233855Z
UID:10008358-1725121800-1725136200@concordacademy.org
SUMMARY:Kimball Farm Trip
DESCRIPTION:
URL:https://concordacademy.org/event/kimball-farm/
CATEGORIES:All School Events
END:VEVENT
END:VCALENDAR