BEGIN:VCALENDAR
VERSION:2.0
PRODID:-//Concord Academy - ECPv6.15.17.1//NONSGML v1.0//EN
CALSCALE:GREGORIAN
METHOD:PUBLISH
X-ORIGINAL-URL:https://concordacademy.org
X-WR-CALDESC:Events for Concord Academy
REFRESH-INTERVAL;VALUE=DURATION:PT1H
X-Robots-Tag:noindex
X-PUBLISHED-TTL:PT1H
BEGIN:VTIMEZONE
TZID:America/New_York
BEGIN:DAYLIGHT
TZOFFSETFROM:-0500
TZOFFSETTO:-0400
TZNAME:EDT
DTSTART:20230312T070000
END:DAYLIGHT
BEGIN:STANDARD
TZOFFSETFROM:-0400
TZOFFSETTO:-0500
TZNAME:EST
DTSTART:20231105T060000
END:STANDARD
BEGIN:DAYLIGHT
TZOFFSETFROM:-0500
TZOFFSETTO:-0400
TZNAME:EDT
DTSTART:20240310T070000
END:DAYLIGHT
BEGIN:STANDARD
TZOFFSETFROM:-0400
TZOFFSETTO:-0500
TZNAME:EST
DTSTART:20241103T060000
END:STANDARD
BEGIN:DAYLIGHT
TZOFFSETFROM:-0500
TZOFFSETTO:-0400
TZNAME:EDT
DTSTART:20250309T070000
END:DAYLIGHT
BEGIN:STANDARD
TZOFFSETFROM:-0400
TZOFFSETTO:-0500
TZNAME:EST
DTSTART:20251102T060000
END:STANDARD
END:VTIMEZONE
BEGIN:VEVENT
DTSTART;TZID=America/New_York:20240221T160000
DTEND;TZID=America/New_York:20240221T171500
DTSTAMP:20260425T153226
CREATED:20240625T201159Z
LAST-MODIFIED:20240625T201159Z
UID:10005591-1708531200-1708535700@concordacademy.org
SUMMARY:Boys JV Basketball
DESCRIPTION:\n\nEVENT DETAILS\n\nOpponent: Landmark School\nHome/Away: Away\nLocation: Landmark School
URL:https://concordacademy.org/event/boys-jv-basketball-28/
CATEGORIES:Athletics Calendar,Boys Junior Varsity Basketball
END:VEVENT
BEGIN:VEVENT
DTSTART;TZID=America/New_York:20240221T160000
DTEND;TZID=America/New_York:20240221T173000
DTSTAMP:20260425T153226
CREATED:20240625T201358Z
LAST-MODIFIED:20240625T201358Z
UID:10005587-1708531200-1708536600@concordacademy.org
SUMMARY:Girls Varsity Squash
DESCRIPTION:\n\nEVENT DETAILS\n\nOpponent: Middlesex School\nHome/Away: Home\nLocation: SHAC
URL:https://concordacademy.org/event/girls-varsity-squash-30/
CATEGORIES:Athletics Calendar,Girls Varsity Squash
END:VEVENT
BEGIN:VEVENT
DTSTART;TZID=America/New_York:20240221T163000
DTEND;TZID=America/New_York:20240221T174500
DTSTAMP:20260425T153226
CREATED:20240625T201226Z
LAST-MODIFIED:20240625T201226Z
UID:10005589-1708533000-1708537500@concordacademy.org
SUMMARY:Girls Junior Varsity Basketball
DESCRIPTION:\n\nEVENT DETAILS\n\nOpponent: Wheeler School\nHome/Away: Away\nLocation: Wheeler School- 640 Prospect Street, Seekonk, MA
URL:https://concordacademy.org/event/girls-junior-varsity-basketball-30/
CATEGORIES:Athletics Calendar,Girls Junior Varsity Basketball
END:VEVENT
BEGIN:VEVENT
DTSTART;TZID=America/New_York:20240221T163000
DTEND;TZID=America/New_York:20240221T180000
DTSTAMP:20260425T153226
CREATED:20240625T201234Z
LAST-MODIFIED:20240625T201234Z
UID:10005588-1708533000-1708538400@concordacademy.org
SUMMARY:Girls Varsity Basketball
DESCRIPTION:\n\nEVENT DETAILS\n\nOpponent: Wheeler School\nHome/Away: Away\nLocation: Wheeler School- 640 Prospect Street, Seekonk, MA\nResult: W 53-45
URL:https://concordacademy.org/event/girls-varsity-basketball-35/
CATEGORIES:Athletics Calendar,Girls Varsity Basketball
END:VEVENT
BEGIN:VEVENT
DTSTART;TZID=America/New_York:20240221T171500
DTEND;TZID=America/New_York:20240221T184500
DTSTAMP:20260425T153226
CREATED:20240625T201207Z
LAST-MODIFIED:20240625T201207Z
UID:10005590-1708535700-1708541100@concordacademy.org
SUMMARY:Boys Varsity Basketball
DESCRIPTION:\n\nEVENT DETAILS\n\nOpponent: Landmark School\nHome/Away: Away\nLocation: Landmark School
URL:https://concordacademy.org/event/boys-varsity-basketball-38/
CATEGORIES:Athletics Calendar,Boys Varsity Basketball
END:VEVENT
BEGIN:VEVENT
DTSTART;VALUE=DATE:20240223
DTEND;VALUE=DATE:20240225
DTSTAMP:20260425T153226
CREATED:20240625T201207Z
LAST-MODIFIED:20240625T201207Z
UID:10005614-1708646400-1708819199@concordacademy.org
SUMMARY:Boys Varsity Basketball
DESCRIPTION:EIL Tournament\n\nEVENT DETAILS\n\nOpponent: EIL Tournament\nHome/Away: TBD\nLocation: TBA
URL:https://concordacademy.org/event/boys-varsity-basketball-39/
CATEGORIES:Athletics Calendar,Boys Varsity Basketball
END:VEVENT
BEGIN:VEVENT
DTSTART;TZID=America/New_York:20240223T163000
DTEND;TZID=America/New_York:20240223T174500
DTSTAMP:20260425T153226
CREATED:20240625T201234Z
LAST-MODIFIED:20240625T201234Z
UID:10005613-1708705800-1708710300@concordacademy.org
SUMMARY:Girls Varsity Basketball
DESCRIPTION:EIL Tournament\n\nEVENT DETAILS\n\nOpponent: EIL Tournament\nHome/Away: Away\nLocation: Pingree School\nResult: L 41-49
URL:https://concordacademy.org/event/girls-varsity-basketball-36/
CATEGORIES:Athletics Calendar,Girls Varsity Basketball
END:VEVENT
BEGIN:VEVENT
DTSTART;VALUE=DATE:20240224
DTEND;VALUE=DATE:20240226
DTSTAMP:20260425T153226
CREATED:20240625T201208Z
LAST-MODIFIED:20240625T201208Z
UID:10005631-1708732800-1708905599@concordacademy.org
SUMMARY:Boys Varsity Basketball
DESCRIPTION:EIL Tournament\n\nEVENT DETAILS\n\nOpponent: EIL Tournament\nHome/Away: TBD\nLocation: TBA
URL:https://concordacademy.org/event/boys-varsity-basketball-40/
CATEGORIES:Athletics Calendar,Boys Varsity Basketball
END:VEVENT
BEGIN:VEVENT
DTSTART;VALUE=DATE:20240224
DTEND;VALUE=DATE:20240226
DTSTAMP:20260425T153226
CREATED:20240625T201234Z
LAST-MODIFIED:20240625T201234Z
UID:10005630-1708732800-1708905599@concordacademy.org
SUMMARY:Girls Varsity Basketball
DESCRIPTION:EIL Tournament\n\nEVENT DETAILS\n\nOpponent: EIL Tournament\nHome/Away: TBD\nLocation: TBD
URL:https://concordacademy.org/event/girls-varsity-basketball-37/
CATEGORIES:Athletics Calendar,Girls Varsity Basketball
END:VEVENT
END:VCALENDAR