BEGIN:VCALENDAR
VERSION:2.0
PRODID:-//Concord Academy - ECPv6.15.17.1//NONSGML v1.0//EN
CALSCALE:GREGORIAN
METHOD:PUBLISH
X-ORIGINAL-URL:https://concordacademy.org
X-WR-CALDESC:Events for Concord Academy
REFRESH-INTERVAL;VALUE=DURATION:PT1H
X-Robots-Tag:noindex
X-PUBLISHED-TTL:PT1H
BEGIN:VTIMEZONE
TZID:America/New_York
BEGIN:DAYLIGHT
TZOFFSETFROM:-0500
TZOFFSETTO:-0400
TZNAME:EDT
DTSTART:20230312T070000
END:DAYLIGHT
BEGIN:STANDARD
TZOFFSETFROM:-0400
TZOFFSETTO:-0500
TZNAME:EST
DTSTART:20231105T060000
END:STANDARD
BEGIN:DAYLIGHT
TZOFFSETFROM:-0500
TZOFFSETTO:-0400
TZNAME:EDT
DTSTART:20240310T070000
END:DAYLIGHT
BEGIN:STANDARD
TZOFFSETFROM:-0400
TZOFFSETTO:-0500
TZNAME:EST
DTSTART:20241103T060000
END:STANDARD
BEGIN:DAYLIGHT
TZOFFSETFROM:-0500
TZOFFSETTO:-0400
TZNAME:EDT
DTSTART:20250309T070000
END:DAYLIGHT
BEGIN:STANDARD
TZOFFSETFROM:-0400
TZOFFSETTO:-0500
TZNAME:EST
DTSTART:20251102T060000
END:STANDARD
END:VTIMEZONE
BEGIN:VEVENT
DTSTART;TZID=America/New_York:20240206T160000
DTEND;TZID=America/New_York:20240206T173000
DTSTAMP:20260422T191330
CREATED:20240625T201234Z
LAST-MODIFIED:20240625T201234Z
UID:10005405-1707235200-1707240600@concordacademy.org
SUMMARY:Girls Varsity Basketball
DESCRIPTION:\n\nEVENT DETAILS\n\nOpponent: Brimmer &amp; May School\nHome/Away: Home\nLocation: West Court, SHAC\nResult: W 66-25
URL:https://concordacademy.org/event/girls-varsity-basketball-30/
CATEGORIES:Athletics Calendar,Girls Varsity Basketball
END:VEVENT
BEGIN:VEVENT
DTSTART;TZID=America/New_York:20240206T170000
DTEND;TZID=America/New_York:20240206T183000
DTSTAMP:20260422T191330
CREATED:20240625T201207Z
LAST-MODIFIED:20240625T201207Z
UID:10005406-1707238800-1707244200@concordacademy.org
SUMMARY:Boys Varsity Basketball
DESCRIPTION:\n\nEVENT DETAILS\n\nOpponent: Groton School\nHome/Away: Away\nLocation: Groton School
URL:https://concordacademy.org/event/boys-varsity-basketball-33/
CATEGORIES:Athletics Calendar,Boys Varsity Basketball
END:VEVENT
BEGIN:VEVENT
DTSTART;TZID=America/New_York:20240206T170000
DTEND;TZID=America/New_York:20240206T183000
DTSTAMP:20260422T191330
CREATED:20240625T201358Z
LAST-MODIFIED:20240625T201358Z
UID:10005404-1707238800-1707244200@concordacademy.org
SUMMARY:Girls Varsity Squash
DESCRIPTION:\n\nEVENT DETAILS\n\nOpponent: Buckingham Browne &amp; Nichols School\nHome/Away: Home\nLocation: SHAC\nResult: W 4-3
URL:https://concordacademy.org/event/girls-varsity-squash-25/
CATEGORIES:Athletics Calendar,Girls Varsity Squash
END:VEVENT
BEGIN:VEVENT
DTSTART;TZID=America/New_York:20240206T173000
DTEND;TZID=America/New_York:20240206T184500
DTSTAMP:20260422T191330
CREATED:20240625T201159Z
LAST-MODIFIED:20240625T201159Z
UID:10005407-1707240600-1707245100@concordacademy.org
SUMMARY:Boys JV Basketball
DESCRIPTION:\n\nEVENT DETAILS\n\nOpponent: Gann Academy\nHome/Away: Home\nLocation: East Court, SHAC
URL:https://concordacademy.org/event/boys-jv-basketball-24/
CATEGORIES:Athletics Calendar,Boys Junior Varsity Basketball
END:VEVENT
BEGIN:VEVENT
DTSTART;TZID=America/New_York:20240207T160000
DTEND;TZID=America/New_York:20240207T183000
DTSTAMP:20260422T191330
CREATED:20240625T201151Z
LAST-MODIFIED:20241106T191306Z
UID:10005425-1707321600-1707330600@concordacademy.org
SUMMARY:All Gender Wrestling
DESCRIPTION:\n\nEVENT DETAILS\n\nOpponent: St. Mark&#039;s School\nHome/Away: Away\nLocation: St. Mark&#039;s School\nResult: W 45-30
URL:https://concordacademy.org/event/all-gender-wrestling-11/
CATEGORIES:All-Gender Varsity Wrestling,Athletics Calendar
END:VEVENT
BEGIN:VEVENT
DTSTART;TZID=America/New_York:20240207T163000
DTEND;TZID=America/New_York:20240207T174500
DTSTAMP:20260422T191330
CREATED:20240625T201159Z
LAST-MODIFIED:20240625T201159Z
UID:10005424-1707323400-1707327900@concordacademy.org
SUMMARY:Boys JV Basketball
DESCRIPTION:\n\nEVENT DETAILS\n\nOpponent: Berwick Academy\nHome/Away: Home\nLocation: East Court, SHAC
URL:https://concordacademy.org/event/boys-jv-basketball-25/
CATEGORIES:Athletics Calendar,Boys Junior Varsity Basketball
END:VEVENT
BEGIN:VEVENT
DTSTART;TZID=America/New_York:20240207T163000
DTEND;TZID=America/New_York:20240207T180000
DTSTAMP:20260422T191330
CREATED:20240625T201207Z
LAST-MODIFIED:20240625T201207Z
UID:10005423-1707323400-1707328800@concordacademy.org
SUMMARY:Boys Varsity Basketball
DESCRIPTION:\n\nEVENT DETAILS\n\nOpponent: Proctor Academy\nHome/Away: Away\nLocation: Proctor Academy\nResult: L 50-80
URL:https://concordacademy.org/event/boys-varsity-basketball-34/
CATEGORIES:Athletics Calendar,Boys Varsity Basketball
END:VEVENT
BEGIN:VEVENT
DTSTART;TZID=America/New_York:20240207T163000
DTEND;TZID=America/New_York:20240207T180000
DTSTAMP:20260422T191330
CREATED:20240625T201234Z
LAST-MODIFIED:20240625T201234Z
UID:10005420-1707323400-1707328800@concordacademy.org
SUMMARY:Girls Varsity Basketball
DESCRIPTION:\n\nEVENT DETAILS\n\nOpponent: Berwick Academy\nHome/Away: Away\nLocation: Berwick Academy\nResult: L 49-52
URL:https://concordacademy.org/event/girls-varsity-basketball-31/
CATEGORIES:Athletics Calendar,Girls Varsity Basketball
END:VEVENT
BEGIN:VEVENT
DTSTART;TZID=America/New_York:20240207T170000
DTEND;TZID=America/New_York:20240207T183000
DTSTAMP:20260422T191330
CREATED:20240625T201216Z
LAST-MODIFIED:20240625T201216Z
UID:10005422-1707325200-1707330600@concordacademy.org
SUMMARY:Boys Varsity Squash
DESCRIPTION:\n\nEVENT DETAILS\n\nOpponent: Portsmouth Abbey School\nHome/Away: Home\nLocation: SHAC
URL:https://concordacademy.org/event/boys-varsity-squash-26/
CATEGORIES:Athletics Calendar,Boys Varsity Squash
END:VEVENT
BEGIN:VEVENT
DTSTART;TZID=America/New_York:20240207T171500
DTEND;TZID=America/New_York:20240207T183000
DTSTAMP:20260422T191330
CREATED:20240625T201226Z
LAST-MODIFIED:20240625T201226Z
UID:10005421-1707326100-1707330600@concordacademy.org
SUMMARY:Girls Junior Varsity Basketball
DESCRIPTION:\n\nEVENT DETAILS\n\nOpponent: Maimonides School\nHome/Away: Away\nLocation: Maimonides School\nResult: W 32-24
URL:https://concordacademy.org/event/girls-junior-varsity-basketball-26/
CATEGORIES:Athletics Calendar,Girls Junior Varsity Basketball
END:VEVENT
BEGIN:VEVENT
DTSTART;TZID=America/New_York:20240209T161500
DTEND;TZID=America/New_York:20240209T173000
DTSTAMP:20260422T191330
CREATED:20240625T201226Z
LAST-MODIFIED:20240625T201226Z
UID:10005445-1707495300-1707499800@concordacademy.org
SUMMARY:Girls Junior Varsity Basketball
DESCRIPTION:\n\nEVENT DETAILS\n\nOpponent: Bancroft School\nHome/Away: Away\nLocation: Bancroft School
URL:https://concordacademy.org/event/girls-junior-varsity-basketball-27/
CATEGORIES:Athletics Calendar,Girls Junior Varsity Basketball
END:VEVENT
BEGIN:VEVENT
DTSTART;TZID=America/New_York:20240209T161500
DTEND;TZID=America/New_York:20240209T174500
DTSTAMP:20260422T191330
CREATED:20240625T201159Z
LAST-MODIFIED:20240625T201159Z
UID:10005448-1707495300-1707500700@concordacademy.org
SUMMARY:Boys JV Basketball
DESCRIPTION:\n\nEVENT DETAILS\n\nOpponent: Bancroft School\nHome/Away: Home\nLocation: East Court, SHAC\nResult: W 41-38
URL:https://concordacademy.org/event/boys-jv-basketball-26/
CATEGORIES:Athletics Calendar,Boys Junior Varsity Basketball
END:VEVENT
BEGIN:VEVENT
DTSTART;TZID=America/New_York:20240209T161500
DTEND;TZID=America/New_York:20240209T174500
DTSTAMP:20260422T191330
CREATED:20240625T201207Z
LAST-MODIFIED:20240625T201207Z
UID:10005447-1707495300-1707500700@concordacademy.org
SUMMARY:Boys Varsity Basketball
DESCRIPTION:\n\nEVENT DETAILS\n\nOpponent: Bancroft School\nHome/Away: Home\nLocation: West Court, SHAC\nResult: L 52-59
URL:https://concordacademy.org/event/boys-varsity-basketball-35/
CATEGORIES:Athletics Calendar,Boys Varsity Basketball
END:VEVENT
BEGIN:VEVENT
DTSTART;TZID=America/New_York:20240209T161500
DTEND;TZID=America/New_York:20240209T174500
DTSTAMP:20260422T191330
CREATED:20240625T201234Z
LAST-MODIFIED:20240625T201234Z
UID:10005444-1707495300-1707500700@concordacademy.org
SUMMARY:Girls Varsity Basketball
DESCRIPTION:\n\nEVENT DETAILS\n\nOpponent: Bancroft School\nHome/Away: Away\nLocation: Bancroft School\nResult: W 70-21
URL:https://concordacademy.org/event/girls-varsity-basketball-32/
CATEGORIES:Athletics Calendar,Girls Varsity Basketball
END:VEVENT
BEGIN:VEVENT
DTSTART;TZID=America/New_York:20240209T163000
DTEND;TZID=America/New_York:20240209T183000
DTSTAMP:20260422T191330
CREATED:20240625T201152Z
LAST-MODIFIED:20240625T201152Z
UID:10005449-1707496200-1707503400@concordacademy.org
SUMMARY:Boys Alpine Skiing
DESCRIPTION:\n\nEVENT DETAILS\n\nOpponent: Central Massachusetts Ski League Race\nHome/Away: Away\nLocation: Wachusett Mountain
URL:https://concordacademy.org/event/boys-alpine-skiing-12/
CATEGORIES:Athletics Calendar,Boys Alpine Skiing
END:VEVENT
BEGIN:VEVENT
DTSTART;TZID=America/New_York:20240209T163000
DTEND;TZID=America/New_York:20240209T183000
DTSTAMP:20260422T191330
CREATED:20240625T201223Z
LAST-MODIFIED:20240625T201223Z
UID:10005446-1707496200-1707503400@concordacademy.org
SUMMARY:Girls Alpine Skiing
DESCRIPTION:\n\nEVENT DETAILS\n\nOpponent: Central Massachusetts Ski League Race\nHome/Away: Away\nLocation: Wachusett Mountain
URL:https://concordacademy.org/event/girls-alpine-skiing-13/
CATEGORIES:Athletics Calendar,Girls Alpine Skiing
END:VEVENT
BEGIN:VEVENT
DTSTART;TZID=America/New_York:20240210T090000
DTEND;TZID=America/New_York:20240210T173000
DTSTAMP:20260422T191330
CREATED:20240625T201358Z
LAST-MODIFIED:20240625T201358Z
UID:10005461-1707555600-1707586200@concordacademy.org
SUMMARY:Girls Varsity Squash
DESCRIPTION:NEPSAC Tournament\n\nEVENT DETAILS\n\nOpponent: NEPSAC\nHome/Away: TBD\nLocation: TBA
URL:https://concordacademy.org/event/girls-varsity-squash-26/
CATEGORIES:Athletics Calendar,Girls Varsity Squash
END:VEVENT
BEGIN:VEVENT
DTSTART;TZID=America/New_York:20240210T090000
DTEND;TZID=America/New_York:20240210T180000
DTSTAMP:20260422T191330
CREATED:20240625T201151Z
LAST-MODIFIED:20241106T191307Z
UID:10005463-1707555600-1707588000@concordacademy.org
SUMMARY:All Gender Wrestling
DESCRIPTION:\n\nEVENT DETAILS\n\nOpponent: EIL Tournament\nHome/Away: Away\nLocation: Lexington Christian
URL:https://concordacademy.org/event/all-gender-wrestling-12/
CATEGORIES:All-Gender Varsity Wrestling,Athletics Calendar
END:VEVENT
BEGIN:VEVENT
DTSTART;TZID=America/New_York:20240210T110000
DTEND;TZID=America/New_York:20240210T160000
DTSTAMP:20260422T191330
CREATED:20240625T201216Z
LAST-MODIFIED:20240625T201216Z
UID:10005462-1707562800-1707580800@concordacademy.org
SUMMARY:Boys Varsity Squash
DESCRIPTION:NEPSAC Tournament\n\nEVENT DETAILS\n\nOpponent: NEPSAC\nHome/Away: Away\nLocation: Pomfret School
URL:https://concordacademy.org/event/boys-varsity-squash-27/
CATEGORIES:Athletics Calendar,Boys Varsity Squash
END:VEVENT
BEGIN:VEVENT
DTSTART;TZID=America/New_York:20240211T103000
DTEND;TZID=America/New_York:20240211T123000
DTSTAMP:20260422T191330
CREATED:20240625T201358Z
LAST-MODIFIED:20240625T201358Z
UID:10005471-1707647400-1707654600@concordacademy.org
SUMMARY:Girls Varsity Squash
DESCRIPTION:NEPSAC Tournament\n\nEVENT DETAILS\n\nOpponent: NEPSAC\nHome/Away: TBD\nLocation: Portsmouth Abbey School\nResult: 2nd Place
URL:https://concordacademy.org/event/girls-varsity-squash-27/
CATEGORIES:Athletics Calendar,Girls Varsity Squash
END:VEVENT
BEGIN:VEVENT
DTSTART;TZID=America/New_York:20240211T130000
DTEND;TZID=America/New_York:20240211T150000
DTSTAMP:20260422T191330
CREATED:20240625T201216Z
LAST-MODIFIED:20240625T201216Z
UID:10005472-1707656400-1707663600@concordacademy.org
SUMMARY:Boys Varsity Squash
DESCRIPTION:NEPSAC Tournament\n\nEVENT DETAILS\n\nOpponent: NEPSAC\nHome/Away: Away\nLocation: Pomfret School\nResult: 2nd Place
URL:https://concordacademy.org/event/boys-varsity-squash-28/
CATEGORIES:Athletics Calendar,Boys Varsity Squash
END:VEVENT
END:VCALENDAR