BEGIN:VCALENDAR
VERSION:2.0
PRODID:-//Concord Academy - ECPv6.15.17.1//NONSGML v1.0//EN
CALSCALE:GREGORIAN
METHOD:PUBLISH
X-ORIGINAL-URL:https://concordacademy.org
X-WR-CALDESC:Events for Concord Academy
REFRESH-INTERVAL;VALUE=DURATION:PT1H
X-Robots-Tag:noindex
X-PUBLISHED-TTL:PT1H
BEGIN:VTIMEZONE
TZID:America/New_York
BEGIN:DAYLIGHT
TZOFFSETFROM:-0500
TZOFFSETTO:-0400
TZNAME:EDT
DTSTART:20220313T070000
END:DAYLIGHT
BEGIN:STANDARD
TZOFFSETFROM:-0400
TZOFFSETTO:-0500
TZNAME:EST
DTSTART:20221106T060000
END:STANDARD
BEGIN:DAYLIGHT
TZOFFSETFROM:-0500
TZOFFSETTO:-0400
TZNAME:EDT
DTSTART:20230312T070000
END:DAYLIGHT
BEGIN:STANDARD
TZOFFSETFROM:-0400
TZOFFSETTO:-0500
TZNAME:EST
DTSTART:20231105T060000
END:STANDARD
BEGIN:DAYLIGHT
TZOFFSETFROM:-0500
TZOFFSETTO:-0400
TZNAME:EDT
DTSTART:20240310T070000
END:DAYLIGHT
BEGIN:STANDARD
TZOFFSETFROM:-0400
TZOFFSETTO:-0500
TZNAME:EST
DTSTART:20241103T060000
END:STANDARD
END:VTIMEZONE
BEGIN:VEVENT
DTSTART;TZID=America/New_York:20231025T153000
DTEND;TZID=America/New_York:20231025T173000
DTSTAMP:20260424T144641
CREATED:20240625T201229Z
LAST-MODIFIED:20240926T151224Z
UID:10004421-1698247800-1698255000@concordacademy.org
SUMMARY:Girls Junior Varsity Soccer
DESCRIPTION:\n\nEVENT DETAILS\n\nOpponent: Dana Hall School\nHome/Away: Away\nLocation: Dana Hall School\nResult: L 6-0
URL:https://concordacademy.org/event/girls-junior-varsity-soccer-12/
CATEGORIES:Athletics Calendar,Girls Junior Varsity Soccer
END:VEVENT
BEGIN:VEVENT
DTSTART;TZID=America/New_York:20231025T160000
DTEND;TZID=America/New_York:20231025T173000
DTSTAMP:20260424T144641
CREATED:20240625T201154Z
LAST-MODIFIED:20240625T201154Z
UID:10004424-1698249600-1698255000@concordacademy.org
SUMMARY:Boys Junior Varsity Soccer
DESCRIPTION:\n\nEVENT DETAILS\n\nOpponent: Milton Academy\nHome/Away: Home\nLocation: Main Campus- Middle Field\nResult: W 5-1
URL:https://concordacademy.org/event/boys-junior-varsity-soccer-10/
CATEGORIES:Athletics Calendar,Boys Junior Varsity Soccer
END:VEVENT
BEGIN:VEVENT
DTSTART;TZID=America/New_York:20231025T160000
DTEND;TZID=America/New_York:20231025T173000
DTSTAMP:20260424T144641
CREATED:20240625T201200Z
LAST-MODIFIED:20240625T201200Z
UID:10004423-1698249600-1698255000@concordacademy.org
SUMMARY:Boys Thirds Soccer
DESCRIPTION:\n\nEVENT DETAILS\n\nOpponent: Gann Academy\nHome/Away: Home\nLocation: Main Campus-Upper Field\nResult: W 5-0
URL:https://concordacademy.org/event/boys-thirds-soccer-11/
CATEGORIES:Athletics Calendar,Boys Thirds Soccer
END:VEVENT
BEGIN:VEVENT
DTSTART;TZID=America/New_York:20231025T160000
DTEND;TZID=America/New_York:20231025T173000
DTSTAMP:20260424T144641
CREATED:20240625T201345Z
LAST-MODIFIED:20240625T201345Z
UID:10004419-1698249600-1698255000@concordacademy.org
SUMMARY:Girls Varsity Field Hockey
DESCRIPTION:\n\nEVENT DETAILS\n\nOpponent: Montrose School\nHome/Away: Away\nLocation: Montrose School\nResult: W 1-0 OT
URL:https://concordacademy.org/event/girls-varsity-field-hockey-12/
CATEGORIES:Athletics Calendar,Girls Varsity Field Hockey
END:VEVENT
BEGIN:VEVENT
DTSTART;TZID=America/New_York:20231025T160000
DTEND;TZID=America/New_York:20231025T174500
DTSTAMP:20260424T144641
CREATED:20240625T201350Z
LAST-MODIFIED:20240819T165007Z
UID:10004418-1698249600-1698255900@concordacademy.org
SUMMARY:Girls Varsity Soccer
DESCRIPTION:\n\nEVENT DETAILS\n\nOpponent: Dana Hall School\nHome/Away: Away\nLocation: Dana Hall School\nResult: L 2-0
URL:https://concordacademy.org/event/girls-varsity-soccer-12/
CATEGORIES:Athletics Calendar,Girls Varsity Soccer
END:VEVENT
BEGIN:VEVENT
DTSTART;TZID=America/New_York:20231025T161500
DTEND;TZID=America/New_York:20231025T173000
DTSTAMP:20260424T144641
CREATED:20240625T201230Z
LAST-MODIFIED:20240625T201230Z
UID:10004420-1698250500-1698255000@concordacademy.org
SUMMARY:Girls Junior Varsity Volleyball
DESCRIPTION:\n\nEVENT DETAILS\n\nOpponent: Cushing Academy\nHome/Away: Away\nLocation: Cushing Academy\nResult: L
URL:https://concordacademy.org/event/girls-junior-varsity-volleyball-10/
CATEGORIES:Athletics Calendar,Girls Junior Varsity Volleyball
END:VEVENT
BEGIN:VEVENT
DTSTART;TZID=America/New_York:20231025T161500
DTEND;TZID=America/New_York:20231025T174500
DTSTAMP:20260424T144641
CREATED:20240625T201405Z
LAST-MODIFIED:20240625T201405Z
UID:10004417-1698250500-1698255900@concordacademy.org
SUMMARY:Girls Varsity Volleyball
DESCRIPTION:\n\nEVENT DETAILS\n\nOpponent: Cushing Academy\nHome/Away: Away\nLocation: Cushing Academy\nResult: L
URL:https://concordacademy.org/event/girls-varsity-volleyball-12/
CATEGORIES:Athletics Calendar,Girls Varsity Volleyball
END:VEVENT
BEGIN:VEVENT
DTSTART;TZID=America/New_York:20231025T161500
DTEND;TZID=America/New_York:20231025T180000
DTSTAMP:20260424T144641
CREATED:20240625T201212Z
LAST-MODIFIED:20240625T201212Z
UID:10004422-1698250500-1698256800@concordacademy.org
SUMMARY:Boys Varsity Soccer
DESCRIPTION:\n\nEVENT DETAILS\n\nOpponent: Bancroft School\nHome/Away: Home\nLocation: Moriarty Athletic Campus\nResult: W 6-1\nTransportation: Shuttle\nShuttle At: 3:00 PM
URL:https://concordacademy.org/event/boys-varsity-soccer-12/
CATEGORIES:Athletics Calendar,Boys Varsity Soccer
END:VEVENT
BEGIN:VEVENT
DTSTART;TZID=America/New_York:20231027T160000
DTEND;TZID=America/New_York:20231027T173000
DTSTAMP:20260424T144641
CREATED:20240625T201154Z
LAST-MODIFIED:20240625T201154Z
UID:10004450-1698422400-1698427800@concordacademy.org
SUMMARY:Boys Junior Varsity Soccer
DESCRIPTION:\n\nEVENT DETAILS\n\nOpponent: Beaver Country Day School\nHome/Away: Home\nLocation: Main Campus- Middle Field\nResult: W 7-2
URL:https://concordacademy.org/event/boys-junior-varsity-soccer-11/
CATEGORIES:Athletics Calendar,Boys Junior Varsity Soccer
END:VEVENT
BEGIN:VEVENT
DTSTART;TZID=America/New_York:20231027T160000
DTEND;TZID=America/New_York:20231027T173000
DTSTAMP:20260424T144641
CREATED:20240625T201200Z
LAST-MODIFIED:20240625T201200Z
UID:10004449-1698422400-1698427800@concordacademy.org
SUMMARY:Boys Thirds Soccer
DESCRIPTION:\n\nEVENT DETAILS\n\nOpponent: Middlesex School\nHome/Away: Away\nLocation: Middlesex School\nResult: L 0-2
URL:https://concordacademy.org/event/boys-thirds-soccer-12/
CATEGORIES:Athletics Calendar,Boys Thirds Soccer
END:VEVENT
BEGIN:VEVENT
DTSTART;TZID=America/New_York:20231027T160000
DTEND;TZID=America/New_York:20231027T173000
DTSTAMP:20260424T144641
CREATED:20240625T201229Z
LAST-MODIFIED:20240625T201229Z
UID:10004447-1698422400-1698427800@concordacademy.org
SUMMARY:Girls Junior Varsity Soccer
DESCRIPTION:\n\nEVENT DETAILS\n\nOpponent: Brimmer &amp; May School\nHome/Away: Away\nLocation: Brimmer and May School- Orr Field (992 Dedham St.)\nResult: L 0-2
URL:https://concordacademy.org/event/girls-junior-varsity-soccer-13/
CATEGORIES:Athletics Calendar,Girls Junior Varsity Soccer
END:VEVENT
BEGIN:VEVENT
DTSTART;TZID=America/New_York:20231027T160000
DTEND;TZID=America/New_York:20231027T173000
DTSTAMP:20260424T144641
CREATED:20240625T201346Z
LAST-MODIFIED:20240625T201346Z
UID:10004445-1698422400-1698427800@concordacademy.org
SUMMARY:Girls Varsity Field Hockey
DESCRIPTION:\n\nEVENT DETAILS\n\nOpponent: Montrose School\nHome/Away: Home\nLocation: Moriarty Athletic Campus\nResult: T 0-0\nTransportation: Shuttle\nShuttle At: 3:00 PM
URL:https://concordacademy.org/event/girls-varsity-field-hockey-13/
CATEGORIES:Athletics Calendar,Girls Varsity Field Hockey
END:VEVENT
BEGIN:VEVENT
DTSTART;TZID=America/New_York:20231027T160000
DTEND;TZID=America/New_York:20231027T174500
DTSTAMP:20260424T144641
CREATED:20240625T201212Z
LAST-MODIFIED:20240625T201212Z
UID:10004448-1698422400-1698428700@concordacademy.org
SUMMARY:Boys Varsity Soccer
DESCRIPTION:\n\nEVENT DETAILS\n\nOpponent: Lexington Christian Academy\nHome/Away: Away\nLocation: Lexington Christian Academy\nResult: W 4-2
URL:https://concordacademy.org/event/boys-varsity-soccer-13/
CATEGORIES:Athletics Calendar,Boys Varsity Soccer
END:VEVENT
BEGIN:VEVENT
DTSTART;TZID=America/New_York:20231027T160000
DTEND;TZID=America/New_York:20231027T174500
DTSTAMP:20260424T144641
CREATED:20240625T201350Z
LAST-MODIFIED:20240625T201350Z
UID:10004444-1698422400-1698428700@concordacademy.org
SUMMARY:Girls Varsity Soccer
DESCRIPTION:\n\nEVENT DETAILS\n\nOpponent: Lexington Christian Academy\nHome/Away: Home\nLocation: Moriarty Athletic Campus\nTransportation: Shuttle\nShuttle At: 3:00 PM
URL:https://concordacademy.org/event/girls-varsity-soccer-13/
CATEGORIES:Athletics Calendar,Girls Varsity Soccer
END:VEVENT
BEGIN:VEVENT
DTSTART;TZID=America/New_York:20231027T161500
DTEND;TZID=America/New_York:20231027T173000
DTSTAMP:20260424T144641
CREATED:20240625T201230Z
LAST-MODIFIED:20240625T201230Z
UID:10004446-1698423300-1698427800@concordacademy.org
SUMMARY:Girls Junior Varsity Volleyball
DESCRIPTION:\n\nEVENT DETAILS\n\nOpponent: Bancroft School\nHome/Away: Home\nLocation: SHAC\nResult: W 2-1
URL:https://concordacademy.org/event/girls-junior-varsity-volleyball-11/
CATEGORIES:Athletics Calendar,Girls Junior Varsity Volleyball
END:VEVENT
BEGIN:VEVENT
DTSTART;TZID=America/New_York:20231027T161500
DTEND;TZID=America/New_York:20231027T174500
DTSTAMP:20260424T144641
CREATED:20240625T201405Z
LAST-MODIFIED:20240625T201405Z
UID:10004443-1698423300-1698428700@concordacademy.org
SUMMARY:Girls Varsity Volleyball
DESCRIPTION:\n\nEVENT DETAILS\n\nOpponent: Bancroft School\nHome/Away: Home\nLocation: SHAC
URL:https://concordacademy.org/event/girls-varsity-volleyball-13/
CATEGORIES:Athletics Calendar,Girls Varsity Volleyball
END:VEVENT
END:VCALENDAR