BEGIN:VCALENDAR
VERSION:2.0
PRODID:-//Concord Academy - ECPv6.15.17.1//NONSGML v1.0//EN
CALSCALE:GREGORIAN
METHOD:PUBLISH
X-WR-CALNAME:Concord Academy
X-ORIGINAL-URL:https://concordacademy.org
X-WR-CALDESC:Events for Concord Academy
REFRESH-INTERVAL;VALUE=DURATION:PT1H
X-Robots-Tag:noindex
X-PUBLISHED-TTL:PT1H
BEGIN:VTIMEZONE
TZID:America/New_York
BEGIN:DAYLIGHT
TZOFFSETFROM:-0500
TZOFFSETTO:-0400
TZNAME:EDT
DTSTART:20220313T070000
END:DAYLIGHT
BEGIN:STANDARD
TZOFFSETFROM:-0400
TZOFFSETTO:-0500
TZNAME:EST
DTSTART:20221106T060000
END:STANDARD
BEGIN:DAYLIGHT
TZOFFSETFROM:-0500
TZOFFSETTO:-0400
TZNAME:EDT
DTSTART:20230312T070000
END:DAYLIGHT
BEGIN:STANDARD
TZOFFSETFROM:-0400
TZOFFSETTO:-0500
TZNAME:EST
DTSTART:20231105T060000
END:STANDARD
BEGIN:DAYLIGHT
TZOFFSETFROM:-0500
TZOFFSETTO:-0400
TZNAME:EDT
DTSTART:20240310T070000
END:DAYLIGHT
BEGIN:STANDARD
TZOFFSETFROM:-0400
TZOFFSETTO:-0500
TZNAME:EST
DTSTART:20241103T060000
END:STANDARD
END:VTIMEZONE
BEGIN:VEVENT
DTSTART;TZID=America/New_York:20230926T161500
DTEND;TZID=America/New_York:20230926T174500
DTSTAMP:20260424T164257
CREATED:20240625T201159Z
LAST-MODIFIED:20240625T201159Z
UID:10004056-1695744900-1695750300@concordacademy.org
SUMMARY:Boys Thirds Soccer
DESCRIPTION:\n\nEVENT DETAILS\n\nOpponent: Pingree School\nHome/Away: Home\nLocation: Moriarty Athletic Campus\nResult: T 2-2
URL:https://concordacademy.org/event/boys-thirds-soccer-3/
CATEGORIES:Athletics Calendar,Boys Thirds Soccer
END:VEVENT
BEGIN:VEVENT
DTSTART;TZID=America/New_York:20230927T160000
DTEND;TZID=America/New_York:20230927T171500
DTSTAMP:20260424T164257
CREATED:20240625T201229Z
LAST-MODIFIED:20240625T201229Z
UID:10004072-1695830400-1695834900@concordacademy.org
SUMMARY:Girls Junior Varsity Volleyball
DESCRIPTION:\n\nEVENT DETAILS\n\nOpponent: Newton Country Day School\nHome/Away: Away\nLocation: Newton Country Day School\nResult: L 0-2
URL:https://concordacademy.org/event/girls-junior-varsity-volleyball-3/
CATEGORIES:Athletics Calendar,Girls Junior Varsity Volleyball
END:VEVENT
BEGIN:VEVENT
DTSTART;TZID=America/New_York:20230927T160000
DTEND;TZID=America/New_York:20230927T173000
DTSTAMP:20260424T164257
CREATED:20240625T201227Z
LAST-MODIFIED:20240625T201227Z
UID:10004073-1695830400-1695835800@concordacademy.org
SUMMARY:Girls Junior Varsity Soccer
DESCRIPTION:\n\nEVENT DETAILS\n\nOpponent: Newton Country Day School\nHome/Away: Home\nLocation: Main Campus\nResult: L 3-7
URL:https://concordacademy.org/event/girls-junior-varsity-soccer-5/
CATEGORIES:Athletics Calendar,Girls Junior Varsity Soccer
END:VEVENT
BEGIN:VEVENT
DTSTART;TZID=America/New_York:20230927T160000
DTEND;TZID=America/New_York:20230927T173000
DTSTAMP:20260424T164257
CREATED:20240625T201236Z
LAST-MODIFIED:20240625T201236Z
UID:10004071-1695830400-1695835800@concordacademy.org
SUMMARY:Girls Varsity Field Hockey
DESCRIPTION:\n\nEVENT DETAILS\n\nOpponent: Newton Country Day School\nHome/Away: Away\nLocation: Newton Country Day School\nResult: L 1-4
URL:https://concordacademy.org/event/girls-varsity-field-hockey-4/
CATEGORIES:Athletics Calendar,Girls Varsity Field Hockey
END:VEVENT
BEGIN:VEVENT
DTSTART;TZID=America/New_York:20230927T160000
DTEND;TZID=America/New_York:20230927T173000
DTSTAMP:20260424T164257
CREATED:20240625T201404Z
LAST-MODIFIED:20240625T201404Z
UID:10004069-1695830400-1695835800@concordacademy.org
SUMMARY:Girls Varsity Volleyball
DESCRIPTION:\n\nEVENT DETAILS\n\nOpponent: Newton Country Day School\nHome/Away: Away\nLocation: Newton Country Day School\nResult: L 0-3
URL:https://concordacademy.org/event/girls-varsity-volleyball-4/
CATEGORIES:Athletics Calendar,Girls Varsity Volleyball
END:VEVENT
BEGIN:VEVENT
DTSTART;TZID=America/New_York:20230927T160000
DTEND;TZID=America/New_York:20230927T174500
DTSTAMP:20260424T164257
CREATED:20240625T201350Z
LAST-MODIFIED:20240625T201350Z
UID:10004070-1695830400-1695836700@concordacademy.org
SUMMARY:Girls Varsity Soccer
DESCRIPTION:\n\nEVENT DETAILS\n\nOpponent: Newton Country Day School\nHome/Away: Home\nLocation: Moriarty Athletic Campus\nResult: L 0-1\nShuttle At: 3:00 PM
URL:https://concordacademy.org/event/girls-varsity-soccer-4/
CATEGORIES:Athletics Calendar,Girls Varsity Soccer
END:VEVENT
BEGIN:VEVENT
DTSTART;TZID=America/New_York:20230927T161500
DTEND;TZID=America/New_York:20230927T174500
DTSTAMP:20260424T164257
CREATED:20240625T201153Z
LAST-MODIFIED:20240625T201153Z
UID:10004077-1695831300-1695836700@concordacademy.org
SUMMARY:Boys Junior Varsity Soccer
DESCRIPTION:\n\nEVENT DETAILS\n\nOpponent: Marianapolis Prep\nHome/Away: Away\nLocation: Marianapolis Prep\nResult: W 11-0
URL:https://concordacademy.org/event/boys-junior-varsity-soccer-4/
CATEGORIES:Athletics Calendar,Boys Junior Varsity Soccer
END:VEVENT
BEGIN:VEVENT
DTSTART;TZID=America/New_York:20230927T161500
DTEND;TZID=America/New_York:20230927T174500
DTSTAMP:20260424T164257
CREATED:20240625T201159Z
LAST-MODIFIED:20240625T201159Z
UID:10004076-1695831300-1695836700@concordacademy.org
SUMMARY:Boys Thirds Soccer
DESCRIPTION:\n\nEVENT DETAILS\n\nOpponent: Marianapolis Prep\nHome/Away: Away\nLocation: Marianapolis Prepatory
URL:https://concordacademy.org/event/boys-thirds-soccer-4/
CATEGORIES:Athletics Calendar,Boys Thirds Soccer
END:VEVENT
BEGIN:VEVENT
DTSTART;TZID=America/New_York:20230927T161500
DTEND;TZID=America/New_York:20230927T180000
DTSTAMP:20260424T164257
CREATED:20240625T201211Z
LAST-MODIFIED:20240625T201211Z
UID:10004075-1695831300-1695837600@concordacademy.org
SUMMARY:Boys Varsity Soccer
DESCRIPTION:\n\nEVENT DETAILS\n\nOpponent: Marianapolis Prep\nHome/Away: Away\nLocation: Marianapolis Prep\nResult: T 1-1
URL:https://concordacademy.org/event/boys-varsity-soccer-4/
CATEGORIES:Athletics Calendar,Boys Varsity Soccer
END:VEVENT
BEGIN:VEVENT
DTSTART;TZID=America/New_York:20230927T163000
DTEND;TZID=America/New_York:20230927T183000
DTSTAMP:20260424T164257
CREATED:20240625T201208Z
LAST-MODIFIED:20240625T201208Z
UID:10004078-1695832200-1695839400@concordacademy.org
SUMMARY:Boys Varsity Cross Country
DESCRIPTION:\n\nEVENT DETAILS\n\nOpponent: Bancroft School, Landmark School, Lexington Christian Academy, Pingree School\nHome/Away: Home\nLocation: Great Brook\nResult: BS (W), LCA (W), LMK (W), PS (W)
URL:https://concordacademy.org/event/boys-varsity-cross-country-2/
CATEGORIES:Athletics Calendar,Boys Varsity Cross Country
END:VEVENT
BEGIN:VEVENT
DTSTART;TZID=America/New_York:20230927T163000
DTEND;TZID=America/New_York:20230927T183000
DTSTAMP:20260424T164257
CREATED:20240625T201235Z
LAST-MODIFIED:20240625T201235Z
UID:10004074-1695832200-1695839400@concordacademy.org
SUMMARY:Girls Varsity Cross Country
DESCRIPTION:\n\nEVENT DETAILS\n\nOpponent: Bancroft School, Dana Hall School, Landmark School, Lexington Christian Academy, Pingree School, Wheeler School, Winsor School\nHome/Away: Home\nLocation: Great Brook\nResult: BS (WBF), DH (L), LCA (W), PS (L), WS (L)
URL:https://concordacademy.org/event/girls-varsity-cross-country-2/
CATEGORIES:Athletics Calendar,Girls Varsity Cross Country
END:VEVENT
BEGIN:VEVENT
DTSTART;TZID=America/New_York:20230929T161500
DTEND;TZID=America/New_York:20230929T174500
DTSTAMP:20260424T164257
CREATED:20240625T201153Z
LAST-MODIFIED:20240625T201153Z
UID:10004103-1696004100-1696009500@concordacademy.org
SUMMARY:Boys Junior Varsity Soccer
DESCRIPTION:\n\nEVENT DETAILS\n\nOpponent: Dexter School\nHome/Away: Home\nLocation: Main Campus
URL:https://concordacademy.org/event/boys-junior-varsity-soccer-5/
CATEGORIES:Athletics Calendar,Boys Junior Varsity Soccer
END:VEVENT
BEGIN:VEVENT
DTSTART;TZID=America/New_York:20230929T161500
DTEND;TZID=America/New_York:20230929T174500
DTSTAMP:20260424T164257
CREATED:20240625T201200Z
LAST-MODIFIED:20240625T201200Z
UID:10004102-1696004100-1696009500@concordacademy.org
SUMMARY:Boys Thirds Soccer
DESCRIPTION:\n\nEVENT DETAILS\n\nOpponent: Chapel Hill Chauncy Hall\nHome/Away: Away\nLocation: Chapel Hill Chauncy Hall
URL:https://concordacademy.org/event/boys-thirds-soccer-5/
CATEGORIES:Athletics Calendar,Boys Thirds Soccer
END:VEVENT
BEGIN:VEVENT
DTSTART;TZID=America/New_York:20230929T163000
DTEND;TZID=America/New_York:20230929T180000
DTSTAMP:20260424T164257
CREATED:20240625T201227Z
LAST-MODIFIED:20240625T201227Z
UID:10004100-1696005000-1696010400@concordacademy.org
SUMMARY:Girls Junior Varsity Soccer
DESCRIPTION:\n\nEVENT DETAILS\n\nOpponent: Dana Hall School\nHome/Away: Home\nLocation: Moriarty Athletic Campus\nResult: L 0-2\nShuttle At: 3:30 PM
URL:https://concordacademy.org/event/girls-junior-varsity-soccer-6/
CATEGORIES:Athletics Calendar,Girls Junior Varsity Soccer
END:VEVENT
BEGIN:VEVENT
DTSTART;TZID=America/New_York:20230929T163000
DTEND;TZID=America/New_York:20230929T180000
DTSTAMP:20260424T164257
CREATED:20240625T201236Z
LAST-MODIFIED:20240625T201236Z
UID:10004098-1696005000-1696010400@concordacademy.org
SUMMARY:Girls Varsity Field Hockey
DESCRIPTION:\n\nEVENT DETAILS\n\nOpponent: Beaver Country Day School\nHome/Away: Home\nLocation: Moriarty Athletic Campus\nTransportation: Shuttle
URL:https://concordacademy.org/event/girls-varsity-field-hockey-5/
CATEGORIES:Athletics Calendar,Girls Varsity Field Hockey
END:VEVENT
BEGIN:VEVENT
DTSTART;TZID=America/New_York:20230929T163000
DTEND;TZID=America/New_York:20230929T180000
DTSTAMP:20260424T164257
CREATED:20240625T201350Z
LAST-MODIFIED:20240625T201350Z
UID:10004097-1696005000-1696010400@concordacademy.org
SUMMARY:Girls Varsity Soccer
DESCRIPTION:\n\nEVENT DETAILS\n\nOpponent: Cushing Academy\nHome/Away: Away\nLocation: Cushing Academy\nResult: W 2-0
URL:https://concordacademy.org/event/girls-varsity-soccer-5/
CATEGORIES:Athletics Calendar,Girls Varsity Soccer
END:VEVENT
BEGIN:VEVENT
DTSTART;TZID=America/New_York:20230929T163000
DTEND;TZID=America/New_York:20230929T181500
DTSTAMP:20260424T164257
CREATED:20240625T201212Z
LAST-MODIFIED:20240625T201212Z
UID:10004101-1696005000-1696011300@concordacademy.org
SUMMARY:Boys Varsity Soccer
DESCRIPTION:\n\nEVENT DETAILS\n\nOpponent: Dexter School\nHome/Away: Home\nLocation: Moriarty Athletic Campus\nResult: L 2-3\nTransportation: Shuttle
URL:https://concordacademy.org/event/boys-varsity-soccer-5/
CATEGORIES:Athletics Calendar,Boys Varsity Soccer
END:VEVENT
BEGIN:VEVENT
DTSTART;TZID=America/New_York:20230929T171500
DTEND;TZID=America/New_York:20230929T183000
DTSTAMP:20260424T164257
CREATED:20240625T201229Z
LAST-MODIFIED:20240625T201229Z
UID:10004099-1696007700-1696012200@concordacademy.org
SUMMARY:Girls Junior Varsity Volleyball
DESCRIPTION:\n\nEVENT DETAILS\n\nOpponent: Governors Academy\nHome/Away: Home\nLocation: SHAC\nResult: L 0-2
URL:https://concordacademy.org/event/girls-junior-varsity-volleyball-4/
CATEGORIES:Athletics Calendar,Girls Junior Varsity Volleyball
END:VEVENT
BEGIN:VEVENT
DTSTART;TZID=America/New_York:20230929T171500
DTEND;TZID=America/New_York:20230929T184500
DTSTAMP:20260424T164257
CREATED:20240625T201404Z
LAST-MODIFIED:20240625T201404Z
UID:10004096-1696007700-1696013100@concordacademy.org
SUMMARY:Girls Varsity Volleyball
DESCRIPTION:\n\nEVENT DETAILS\n\nOpponent: Governors Academy\nHome/Away: Home\nLocation: SHAC\nResult: L 1-3
URL:https://concordacademy.org/event/girls-varsity-volleyball-5/
CATEGORIES:Athletics Calendar,Girls Varsity Volleyball
END:VEVENT
BEGIN:VEVENT
DTSTART;TZID=America/New_York:20230930T153000
DTEND;TZID=America/New_York:20230930T170000
DTSTAMP:20260424T164257
CREATED:20240625T201208Z
LAST-MODIFIED:20240625T201208Z
UID:10004122-1696087800-1696093200@concordacademy.org
SUMMARY:Boys Varsity Cross Country
DESCRIPTION:\n\nEVENT DETAILS\n\nOpponent: Northfield Mount Hermon School\nHome/Away: Away\nLocation: Northfield Mount Hermon School
URL:https://concordacademy.org/event/boys-varsity-cross-country-3/
CATEGORIES:Athletics Calendar,Boys Varsity Cross Country
END:VEVENT
BEGIN:VEVENT
DTSTART;TZID=America/New_York:20230930T153000
DTEND;TZID=America/New_York:20230930T170000
DTSTAMP:20260424T164257
CREATED:20240625T201235Z
LAST-MODIFIED:20240625T201235Z
UID:10004121-1696087800-1696093200@concordacademy.org
SUMMARY:Girls Varsity Cross Country
DESCRIPTION:\n\nEVENT DETAILS\n\nOpponent: Northfield Mount Hermon School\nHome/Away: Away\nLocation: Northfield Mount Hermon School
URL:https://concordacademy.org/event/girls-varsity-cross-country-3/
CATEGORIES:Athletics Calendar,Girls Varsity Cross Country
END:VEVENT
END:VCALENDAR