BEGIN:VCALENDAR
VERSION:2.0
PRODID:-//Concord Academy - ECPv6.15.17.1//NONSGML v1.0//EN
CALSCALE:GREGORIAN
METHOD:PUBLISH
X-ORIGINAL-URL:https://concordacademy.org
X-WR-CALDESC:Events for Concord Academy
REFRESH-INTERVAL;VALUE=DURATION:PT1H
X-Robots-Tag:noindex
X-PUBLISHED-TTL:PT1H
BEGIN:VTIMEZONE
TZID:America/New_York
BEGIN:DAYLIGHT
TZOFFSETFROM:-0500
TZOFFSETTO:-0400
TZNAME:EDT
DTSTART:20220313T070000
END:DAYLIGHT
BEGIN:STANDARD
TZOFFSETFROM:-0400
TZOFFSETTO:-0500
TZNAME:EST
DTSTART:20221106T060000
END:STANDARD
BEGIN:DAYLIGHT
TZOFFSETFROM:-0500
TZOFFSETTO:-0400
TZNAME:EDT
DTSTART:20230312T070000
END:DAYLIGHT
BEGIN:STANDARD
TZOFFSETFROM:-0400
TZOFFSETTO:-0500
TZNAME:EST
DTSTART:20231105T060000
END:STANDARD
BEGIN:DAYLIGHT
TZOFFSETFROM:-0500
TZOFFSETTO:-0400
TZNAME:EDT
DTSTART:20240310T070000
END:DAYLIGHT
BEGIN:STANDARD
TZOFFSETFROM:-0400
TZOFFSETTO:-0500
TZNAME:EST
DTSTART:20241103T060000
END:STANDARD
END:VTIMEZONE
BEGIN:VEVENT
DTSTART;TZID=America/New_York:20231201T160000
DTEND;TZID=America/New_York:20231201T173000
DTSTAMP:20260424T093155
CREATED:20240625T201205Z
LAST-MODIFIED:20240625T201205Z
UID:10004787-1701446400-1701451800@concordacademy.org
SUMMARY:Boys Varsity Basketball
DESCRIPTION:\n\nEVENT DETAILS\n\nOpponent: Beaver Country Day School\nHome/Away: Home\nLocation: West Court, SHAC\nResult: L 43-63
URL:https://concordacademy.org/event/boys-varsity-basketball-20/
CATEGORIES:Athletics Calendar,Boys Varsity Basketball
END:VEVENT
BEGIN:VEVENT
DTSTART;TZID=America/New_York:20231201T160000
DTEND;TZID=America/New_York:20231201T173000
DTSTAMP:20260424T093155
CREATED:20240625T201232Z
LAST-MODIFIED:20240625T201232Z
UID:10004786-1701446400-1701451800@concordacademy.org
SUMMARY:Girls Varsity Basketball
DESCRIPTION:\n\nEVENT DETAILS\n\nOpponent: Penguin Hall School\nHome/Away: Away\nLocation: APEX- 45 Tremont Street, Peabody, MA\nResult: W 72-25
URL:https://concordacademy.org/event/girls-varsity-basketball-17/
CATEGORIES:Athletics Calendar,Girls Varsity Basketball
END:VEVENT
BEGIN:VEVENT
DTSTART;TZID=America/New_York:20231205T160000
DTEND;TZID=America/New_York:20231205T171500
DTSTAMP:20260424T093155
CREATED:20240625T201225Z
LAST-MODIFIED:20240625T201225Z
UID:10004824-1701792000-1701796500@concordacademy.org
SUMMARY:Girls Junior Varsity Basketball
DESCRIPTION:\n\nEVENT DETAILS\n\nOpponent: Beaver Country Day School\nHome/Away: Away\nLocation: Beaver Country Day School\nResult: L 25-26
URL:https://concordacademy.org/event/girls-junior-varsity-basketball-16/
CATEGORIES:Athletics Calendar,Girls Junior Varsity Basketball
END:VEVENT
BEGIN:VEVENT
DTSTART;TZID=America/New_York:20231206T160000
DTEND;TZID=America/New_York:20231206T173000
DTSTAMP:20260424T093155
CREATED:20240625T201215Z
LAST-MODIFIED:20240625T201215Z
UID:10004837-1701878400-1701883800@concordacademy.org
SUMMARY:Boys Varsity Squash
DESCRIPTION:\n\nEVENT DETAILS\n\nOpponent: Middlesex School\nHome/Away: Home\nLocation: SHAC\nResult: L 1-6
URL:https://concordacademy.org/event/boys-varsity-squash-15/
CATEGORIES:Athletics Calendar,Boys Varsity Squash
END:VEVENT
BEGIN:VEVENT
DTSTART;TZID=America/New_York:20231206T160000
DTEND;TZID=America/New_York:20231206T173000
DTSTAMP:20260424T093155
CREATED:20240625T201357Z
LAST-MODIFIED:20240625T201357Z
UID:10004835-1701878400-1701883800@concordacademy.org
SUMMARY:Girls Varsity Squash
DESCRIPTION:\n\nEVENT DETAILS\n\nOpponent: Newton Country Day School\nHome/Away: Away\nLocation: Newton Country Day School\nResult: W 7-0
URL:https://concordacademy.org/event/girls-varsity-squash-15/
CATEGORIES:Athletics Calendar,Girls Varsity Squash
END:VEVENT
BEGIN:VEVENT
DTSTART;TZID=America/New_York:20231206T160000
DTEND;TZID=America/New_York:20231206T180000
DTSTAMP:20260424T093155
CREATED:20240625T201150Z
LAST-MODIFIED:20241106T191305Z
UID:10004840-1701878400-1701885600@concordacademy.org
SUMMARY:All Gender Wrestling
DESCRIPTION:Tri-Meet\n\nEVENT DETAILS\n\nOpponent: Lexington Christian Academy, Marianapolis Prep\nHome/Away: Away\nLocation: Lexington Christian Academy\nResult: W 53-24 (LCA), W 72-6 (MP)
URL:https://concordacademy.org/event/all-gender-wrestling/
CATEGORIES:All-Gender Varsity Wrestling,Athletics Calendar
END:VEVENT
BEGIN:VEVENT
DTSTART;TZID=America/New_York:20231206T163000
DTEND;TZID=America/New_York:20231206T174500
DTSTAMP:20260424T093155
CREATED:20240625T201158Z
LAST-MODIFIED:20240625T201158Z
UID:10004839-1701880200-1701884700@concordacademy.org
SUMMARY:Boys JV Basketball
DESCRIPTION:\n\nEVENT DETAILS\n\nOpponent: Berwick Academy\nHome/Away: Away\nLocation: Berwick Academy\nResult: W 65-35
URL:https://concordacademy.org/event/boys-jv-basketball-13/
CATEGORIES:Athletics Calendar,Boys Junior Varsity Basketball
END:VEVENT
BEGIN:VEVENT
DTSTART;TZID=America/New_York:20231206T163000
DTEND;TZID=America/New_York:20231206T180000
DTSTAMP:20260424T093155
CREATED:20240625T201206Z
LAST-MODIFIED:20240625T201206Z
UID:10004838-1701880200-1701885600@concordacademy.org
SUMMARY:Boys Varsity Basketball
DESCRIPTION:\n\nEVENT DETAILS\n\nOpponent: Berwick Academy\nHome/Away: Away\nLocation: Berwick Academy\nResult: W 87-59
URL:https://concordacademy.org/event/boys-varsity-basketball-21/
CATEGORIES:Athletics Calendar,Boys Varsity Basketball
END:VEVENT
BEGIN:VEVENT
DTSTART;TZID=America/New_York:20231206T163000
DTEND;TZID=America/New_York:20231206T180000
DTSTAMP:20260424T093155
CREATED:20240625T201232Z
LAST-MODIFIED:20240625T201232Z
UID:10004836-1701880200-1701885600@concordacademy.org
SUMMARY:Girls Varsity Basketball
DESCRIPTION:\n\nEVENT DETAILS\n\nOpponent: Winsor School\nHome/Away: Home\nLocation: West Court, SHAC\nResult: W 56-33
URL:https://concordacademy.org/event/girls-varsity-basketball-18/
CATEGORIES:Athletics Calendar,Girls Varsity Basketball
END:VEVENT
BEGIN:VEVENT
DTSTART;TZID=America/New_York:20231208T160000
DTEND;TZID=America/New_York:20231208T180000
DTSTAMP:20260424T093155
CREATED:20240625T201150Z
LAST-MODIFIED:20241106T191304Z
UID:10004863-1702051200-1702058400@concordacademy.org
SUMMARY:All Gender Wrestling
DESCRIPTION:\n\nEVENT DETAILS\n\nOpponent: Eagle Hill School\nHome/Away: Home\nLocation: SHAC\nResult: L 16--66
URL:https://concordacademy.org/event/all-gender-wrestling-2/
CATEGORIES:All-Gender Varsity Wrestling,Athletics Calendar
END:VEVENT
BEGIN:VEVENT
DTSTART;TZID=America/New_York:20231208T163000
DTEND;TZID=America/New_York:20231208T174500
DTSTAMP:20260424T093155
CREATED:20240625T201158Z
LAST-MODIFIED:20240625T201158Z
UID:10004862-1702053000-1702057500@concordacademy.org
SUMMARY:Boys JV Basketball
DESCRIPTION:\n\nEVENT DETAILS\n\nOpponent: Beaver Country Day School\nHome/Away: Away\nLocation: Beaver Country Day School\nResult: W 37-33
URL:https://concordacademy.org/event/boys-jv-basketball-14/
CATEGORIES:Athletics Calendar,Boys Junior Varsity Basketball
END:VEVENT
BEGIN:VEVENT
DTSTART;TZID=America/New_York:20231208T163000
DTEND;TZID=America/New_York:20231208T180000
DTSTAMP:20260424T093155
CREATED:20240625T201206Z
LAST-MODIFIED:20240625T201206Z
UID:10004861-1702053000-1702058400@concordacademy.org
SUMMARY:Boys Varsity Basketball
DESCRIPTION:\n\nEVENT DETAILS\n\nOpponent: Beaver Country Day School\nHome/Away: Away\nLocation: Beaver Country Day School\nResult: W 71-63
URL:https://concordacademy.org/event/boys-varsity-basketball-22/
CATEGORIES:Athletics Calendar,Boys Varsity Basketball
END:VEVENT
BEGIN:VEVENT
DTSTART;TZID=America/New_York:20231208T163000
DTEND;TZID=America/New_York:20231208T180000
DTSTAMP:20260424T093155
CREATED:20240625T201215Z
LAST-MODIFIED:20240625T201215Z
UID:10004860-1702053000-1702058400@concordacademy.org
SUMMARY:Boys Varsity Squash
DESCRIPTION:\n\nEVENT DETAILS\n\nOpponent: Pomfret School\nHome/Away: Away\nLocation: Pomfret School
URL:https://concordacademy.org/event/boys-varsity-squash-16/
CATEGORIES:Athletics Calendar,Boys Varsity Squash
END:VEVENT
BEGIN:VEVENT
DTSTART;TZID=America/New_York:20231208T163000
DTEND;TZID=America/New_York:20231208T180000
DTSTAMP:20260424T093155
CREATED:20240625T201233Z
LAST-MODIFIED:20240625T201233Z
UID:10004859-1702053000-1702058400@concordacademy.org
SUMMARY:Girls Varsity Basketball
DESCRIPTION:\n\nEVENT DETAILS\n\nOpponent: Berwick Academy\nHome/Away: Home\nLocation: West Court, SHAC\nResult: W 64-47
URL:https://concordacademy.org/event/girls-varsity-basketball-19/
CATEGORIES:Athletics Calendar,Girls Varsity Basketball
END:VEVENT
BEGIN:VEVENT
DTSTART;TZID=America/New_York:20231208T163000
DTEND;TZID=America/New_York:20231208T180000
DTSTAMP:20260424T093155
CREATED:20240625T201357Z
LAST-MODIFIED:20240625T201357Z
UID:10004858-1702053000-1702058400@concordacademy.org
SUMMARY:Girls Varsity Squash
DESCRIPTION:\n\nEVENT DETAILS\n\nOpponent: St. Mark&#039;s School\nHome/Away: Home\nLocation: SHAC\nResult: L 2-5
URL:https://concordacademy.org/event/girls-varsity-squash-16/
CATEGORIES:Athletics Calendar,Girls Varsity Squash
END:VEVENT
BEGIN:VEVENT
DTSTART;TZID=America/New_York:20231213T161500
DTEND;TZID=America/New_York:20231213T181500
DTSTAMP:20260424T093155
CREATED:20240625T201150Z
LAST-MODIFIED:20241106T191304Z
UID:10004915-1702484100-1702491300@concordacademy.org
SUMMARY:All Gender Wrestling
DESCRIPTION:\n\nEVENT DETAILS\n\nOpponent: Lawrence Academy\nHome/Away: Away\nLocation: Lawrence Academy
URL:https://concordacademy.org/event/all-gender-wrestling-3/
CATEGORIES:All-Gender Varsity Wrestling,Athletics Calendar
END:VEVENT
BEGIN:VEVENT
DTSTART;TZID=America/New_York:20231213T163000
DTEND;TZID=America/New_York:20231213T180000
DTSTAMP:20260424T093155
CREATED:20240625T201215Z
LAST-MODIFIED:20240625T201215Z
UID:10004914-1702485000-1702490400@concordacademy.org
SUMMARY:Boys Varsity Squash
DESCRIPTION:\n\nEVENT DETAILS\n\nOpponent: Wheeler School\nHome/Away: Home\nLocation: SHAC\nResult: W 5-2
URL:https://concordacademy.org/event/boys-varsity-squash-17/
CATEGORIES:Athletics Calendar,Boys Varsity Squash
END:VEVENT
BEGIN:VEVENT
DTSTART;TZID=America/New_York:20231213T163000
DTEND;TZID=America/New_York:20231213T180000
DTSTAMP:20260424T093155
CREATED:20240625T201357Z
LAST-MODIFIED:20240625T201357Z
UID:10004913-1702485000-1702490400@concordacademy.org
SUMMARY:Girls Varsity Squash
DESCRIPTION:\n\nEVENT DETAILS\n\nOpponent: Moses Brown School\nHome/Away: Away\nLocation: Moses Brown School\nResult: L 3-4
URL:https://concordacademy.org/event/girls-varsity-squash-17/
CATEGORIES:Athletics Calendar,Girls Varsity Squash
END:VEVENT
BEGIN:VEVENT
DTSTART;TZID=America/New_York:20231214T153000
DTEND;TZID=America/New_York:20231214T164500
DTSTAMP:20260424T093155
CREATED:20240625T201225Z
LAST-MODIFIED:20240625T201225Z
UID:10004927-1702567800-1702572300@concordacademy.org
SUMMARY:Girls Junior Varsity Basketball
DESCRIPTION:\n\nEVENT DETAILS\n\nOpponent: Penguin Hall School\nHome/Away: Home\nLocation: West Court, SHAC\nResult: W 32-8
URL:https://concordacademy.org/event/girls-junior-varsity-basketball-17/
CATEGORIES:Athletics Calendar,Girls Junior Varsity Basketball
END:VEVENT
BEGIN:VEVENT
DTSTART;TZID=America/New_York:20231214T160000
DTEND;TZID=America/New_York:20231214T171500
DTSTAMP:20260424T093155
CREATED:20240625T201158Z
LAST-MODIFIED:20240625T201158Z
UID:10004929-1702569600-1702574100@concordacademy.org
SUMMARY:Boys JV Basketball
DESCRIPTION:\n\nEVENT DETAILS\n\nOpponent: Gann Academy\nHome/Away: Home\nLocation: East Court, SHAC
URL:https://concordacademy.org/event/boys-jv-basketball-15/
CATEGORIES:Athletics Calendar,Boys Junior Varsity Basketball
END:VEVENT
BEGIN:VEVENT
DTSTART;TZID=America/New_York:20231214T170000
DTEND;TZID=America/New_York:20231214T183000
DTSTAMP:20260424T093155
CREATED:20240625T201233Z
LAST-MODIFIED:20240625T201233Z
UID:10004926-1702573200-1702578600@concordacademy.org
SUMMARY:Girls Varsity Basketball
DESCRIPTION:\n\nEVENT DETAILS\n\nOpponent: Penguin Hall School\nHome/Away: Home\nLocation: West Court, SHAC\nResult: W 60-29
URL:https://concordacademy.org/event/girls-varsity-basketball-20/
CATEGORIES:Athletics Calendar,Girls Varsity Basketball
END:VEVENT
BEGIN:VEVENT
DTSTART;TZID=America/New_York:20231214T200000
DTEND;TZID=America/New_York:20231214T213000
DTSTAMP:20260424T093155
CREATED:20240625T201206Z
LAST-MODIFIED:20240625T201206Z
UID:10004928-1702584000-1702589400@concordacademy.org
SUMMARY:Boys Varsity Basketball
DESCRIPTION:\n\nEVENT DETAILS\n\nOpponent: Governor&#039;s Academy\nHome/Away: Away\nLocation: Rivers School\nResult: L 41-66
URL:https://concordacademy.org/event/boys-varsity-basketball-23/
CATEGORIES:Athletics Calendar,Boys Varsity Basketball
END:VEVENT
BEGIN:VEVENT
DTSTART;TZID=America/New_York:20231215T160000
DTEND;TZID=America/New_York:20231215T171500
DTSTAMP:20260424T093155
CREATED:20240625T201158Z
LAST-MODIFIED:20240625T201158Z
UID:10004939-1702656000-1702660500@concordacademy.org
SUMMARY:Boys JV Basketball
DESCRIPTION:\n\nEVENT DETAILS\n\nOpponent: Beaver Country Day School\nHome/Away: Home\nLocation: East Court, SHAC\nResult: W 36-27
URL:https://concordacademy.org/event/boys-jv-basketball-16/
CATEGORIES:Athletics Calendar,Boys Junior Varsity Basketball
END:VEVENT
BEGIN:VEVENT
DTSTART;TZID=America/New_York:20231215T170000
DTEND;TZID=America/New_York:20231215T183000
DTSTAMP:20260424T093155
CREATED:20240625T201206Z
LAST-MODIFIED:20240625T201206Z
UID:10004938-1702659600-1702665000@concordacademy.org
SUMMARY:Boys Varsity Basketball
DESCRIPTION:\n\nEVENT DETAILS\n\nOpponent: Greenwich Country Day\nHome/Away: Away\nLocation: Rivers School\nResult: L
URL:https://concordacademy.org/event/boys-varsity-basketball-24/
CATEGORIES:Athletics Calendar,Boys Varsity Basketball
END:VEVENT
BEGIN:VEVENT
DTSTART;TZID=America/New_York:20231215T170000
DTEND;TZID=America/New_York:20231215T183000
DTSTAMP:20260424T093155
CREATED:20240625T201215Z
LAST-MODIFIED:20240625T201215Z
UID:10004937-1702659600-1702665000@concordacademy.org
SUMMARY:Boys Varsity Squash
DESCRIPTION:\n\nEVENT DETAILS\n\nOpponent: Beaver Country Day School\nHome/Away: Home\nLocation: SHAC
URL:https://concordacademy.org/event/boys-varsity-squash-18/
CATEGORIES:Athletics Calendar,Boys Varsity Squash
END:VEVENT
BEGIN:VEVENT
DTSTART;TZID=America/New_York:20231216T114500
DTEND;TZID=America/New_York:20231216T131500
DTSTAMP:20260424T093155
CREATED:20240625T201206Z
LAST-MODIFIED:20240625T201206Z
UID:10004957-1702727100-1702732500@concordacademy.org
SUMMARY:Boys Varsity Basketball
DESCRIPTION:\n\nEVENT DETAILS\n\nHome/Away: Away\nLocation: Rivers School\nResult: L 55-70
URL:https://concordacademy.org/event/boys-varsity-basketball-25/
CATEGORIES:Athletics Calendar,Boys Varsity Basketball
END:VEVENT
END:VCALENDAR