BEGIN:VCALENDAR
VERSION:2.0
PRODID:-//Concord Academy - ECPv6.15.17.1//NONSGML v1.0//EN
CALSCALE:GREGORIAN
METHOD:PUBLISH
X-ORIGINAL-URL:https://concordacademy.org
X-WR-CALDESC:Events for Concord Academy
REFRESH-INTERVAL;VALUE=DURATION:PT1H
X-Robots-Tag:noindex
X-PUBLISHED-TTL:PT1H
BEGIN:VTIMEZONE
TZID:America/New_York
BEGIN:DAYLIGHT
TZOFFSETFROM:-0500
TZOFFSETTO:-0400
TZNAME:EDT
DTSTART:20220313T070000
END:DAYLIGHT
BEGIN:STANDARD
TZOFFSETFROM:-0400
TZOFFSETTO:-0500
TZNAME:EST
DTSTART:20221106T060000
END:STANDARD
BEGIN:DAYLIGHT
TZOFFSETFROM:-0500
TZOFFSETTO:-0400
TZNAME:EDT
DTSTART:20230312T070000
END:DAYLIGHT
BEGIN:STANDARD
TZOFFSETFROM:-0400
TZOFFSETTO:-0500
TZNAME:EST
DTSTART:20231105T060000
END:STANDARD
BEGIN:DAYLIGHT
TZOFFSETFROM:-0500
TZOFFSETTO:-0400
TZNAME:EDT
DTSTART:20240310T070000
END:DAYLIGHT
BEGIN:STANDARD
TZOFFSETFROM:-0400
TZOFFSETTO:-0500
TZNAME:EST
DTSTART:20241103T060000
END:STANDARD
END:VTIMEZONE
BEGIN:VEVENT
DTSTART;TZID=America/New_York:20231101T153000
DTEND;TZID=America/New_York:20231101T170000
DTSTAMP:20260424T111521
CREATED:20240625T201154Z
LAST-MODIFIED:20240625T201154Z
UID:10004502-1698852600-1698858000@concordacademy.org
SUMMARY:Boys Junior Varsity Soccer
DESCRIPTION:\n\nEVENT DETAILS\n\nOpponent: Pingree School\nHome/Away: Home\nLocation: Main Campus- Upper Field\nResult: L 0-1
URL:https://concordacademy.org/event/boys-junior-varsity-soccer-12/
CATEGORIES:Athletics Calendar,Boys Junior Varsity Soccer
END:VEVENT
BEGIN:VEVENT
DTSTART;TZID=America/New_York:20231101T153000
DTEND;TZID=America/New_York:20231101T171500
DTSTAMP:20260424T111521
CREATED:20240625T201213Z
LAST-MODIFIED:20240625T201213Z
UID:10004501-1698852600-1698858900@concordacademy.org
SUMMARY:Boys Varsity Soccer
DESCRIPTION:\n\nEVENT DETAILS\n\nOpponent: Pingree School\nHome/Away: Home\nLocation: Moriarty Athletic Campus\nResult: T 0-0\nTransportation: Shuttle\nShuttle At: 2:30 PM
URL:https://concordacademy.org/event/boys-varsity-soccer-14/
CATEGORIES:Athletics Calendar,Boys Varsity Soccer
END:VEVENT
BEGIN:VEVENT
DTSTART;TZID=America/New_York:20231101T160000
DTEND;TZID=America/New_York:20231101T173000
DTSTAMP:20260424T111521
CREATED:20240625T201229Z
LAST-MODIFIED:20240625T201229Z
UID:10004500-1698854400-1698859800@concordacademy.org
SUMMARY:Girls Junior Varsity Soccer
DESCRIPTION:\n\nEVENT DETAILS\n\nOpponent: Beaver Country Day School\nHome/Away: Home\nLocation: Main Campus- Middle Field\nResult: L 1-2
URL:https://concordacademy.org/event/girls-junior-varsity-soccer-14/
CATEGORIES:Athletics Calendar,Girls Junior Varsity Soccer
END:VEVENT
BEGIN:VEVENT
DTSTART;TZID=America/New_York:20231101T160000
DTEND;TZID=America/New_York:20231101T174500
DTSTAMP:20260424T111521
CREATED:20240625T201351Z
LAST-MODIFIED:20240625T201351Z
UID:10004497-1698854400-1698860700@concordacademy.org
SUMMARY:Girls Varsity Soccer
DESCRIPTION:\n\nEVENT DETAILS\n\nOpponent: Beaver Country Day School\nHome/Away: Home\nLocation: Moriarty Athletic Campus\nResult: W 3-0\nTransportation: Shuttle\nShuttle At: 3:00 PM
URL:https://concordacademy.org/event/girls-varsity-soccer-15/
CATEGORIES:Athletics Calendar,Girls Varsity Soccer
END:VEVENT
BEGIN:VEVENT
DTSTART;TZID=America/New_York:20231101T161500
DTEND;TZID=America/New_York:20231101T174500
DTSTAMP:20260424T111521
CREATED:20240625T201346Z
LAST-MODIFIED:20240625T201346Z
UID:10004498-1698855300-1698860700@concordacademy.org
SUMMARY:Girls Varsity Field Hockey
DESCRIPTION:\n\nEVENT DETAILS\n\nOpponent: Winsor School\nHome/Away: Away\nLocation: Winsor School\nResult: L 0-2
URL:https://concordacademy.org/event/girls-varsity-field-hockey-14/
CATEGORIES:Athletics Calendar,Girls Varsity Field Hockey
END:VEVENT
BEGIN:VEVENT
DTSTART;TZID=America/New_York:20231101T163000
DTEND;TZID=America/New_York:20231101T174500
DTSTAMP:20260424T111521
CREATED:20240625T201230Z
LAST-MODIFIED:20240625T201230Z
UID:10004499-1698856200-1698860700@concordacademy.org
SUMMARY:Girls Junior Varsity Volleyball
DESCRIPTION:\n\nEVENT DETAILS\n\nOpponent: Berwick Academy\nHome/Away: Away\nLocation: Berwick Academy
URL:https://concordacademy.org/event/girls-junior-varsity-volleyball-12/
CATEGORIES:Athletics Calendar,Girls Junior Varsity Volleyball
END:VEVENT
BEGIN:VEVENT
DTSTART;TZID=America/New_York:20231101T163000
DTEND;TZID=America/New_York:20231101T180000
DTSTAMP:20260424T111521
CREATED:20240625T201405Z
LAST-MODIFIED:20240625T201405Z
UID:10004496-1698856200-1698861600@concordacademy.org
SUMMARY:Girls Varsity Volleyball
DESCRIPTION:\n\nEVENT DETAILS\n\nOpponent: Berwick Academy\nHome/Away: Away\nLocation: Berwick Academy\nResult: L 2-3
URL:https://concordacademy.org/event/girls-varsity-volleyball-14/
CATEGORIES:Athletics Calendar,Girls Varsity Volleyball
END:VEVENT
BEGIN:VEVENT
DTSTART;TZID=America/New_York:20231103T151500
DTEND;TZID=America/New_York:20231103T171500
DTSTAMP:20260424T111521
CREATED:20240625T201235Z
LAST-MODIFIED:20240625T201235Z
UID:10004522-1699024500-1699031700@concordacademy.org
SUMMARY:Girls Varsity Cross Country
DESCRIPTION:\n\nEVENT DETAILS\n\nOpponent: EIL Race\nHome/Away: Away\nLocation: Great Brook\nResult: 8th Place
URL:https://concordacademy.org/event/girls-varsity-cross-country-7/
CATEGORIES:Athletics Calendar,Girls Varsity Cross Country
END:VEVENT
BEGIN:VEVENT
DTSTART;TZID=America/New_York:20231103T153000
DTEND;TZID=America/New_York:20231103T170000
DTSTAMP:20260424T111521
CREATED:20240625T201154Z
LAST-MODIFIED:20240625T201154Z
UID:10004525-1699025400-1699030800@concordacademy.org
SUMMARY:Boys Junior Varsity Soccer
DESCRIPTION:\n\nEVENT DETAILS\n\nOpponent: Belmont Hill School\nHome/Away: Home\nLocation: Moriarty Athletic Campus\nResult: L 0-1\nShuttle At: 2:30 PM
URL:https://concordacademy.org/event/boys-junior-varsity-soccer-13/
CATEGORIES:Athletics Calendar,Boys Junior Varsity Soccer
END:VEVENT
BEGIN:VEVENT
DTSTART;TZID=America/New_York:20231103T153000
DTEND;TZID=America/New_York:20231103T170000
DTSTAMP:20260424T111521
CREATED:20240625T201200Z
LAST-MODIFIED:20240625T201200Z
UID:10004524-1699025400-1699030800@concordacademy.org
SUMMARY:Boys Thirds Soccer
DESCRIPTION:\n\nEVENT DETAILS\n\nOpponent: Landmark School\nHome/Away: Away\nLocation: Landmark School\nResult: W 3-2
URL:https://concordacademy.org/event/boys-thirds-soccer-13/
CATEGORIES:Athletics Calendar,Boys Thirds Soccer
END:VEVENT
BEGIN:VEVENT
DTSTART;TZID=America/New_York:20231103T153000
DTEND;TZID=America/New_York:20231103T170000
DTSTAMP:20260424T111521
CREATED:20240625T201346Z
LAST-MODIFIED:20240625T201346Z
UID:10004519-1699025400-1699030800@concordacademy.org
SUMMARY:Girls Varsity Field Hockey
DESCRIPTION:\n\nEVENT DETAILS\n\nOpponent: Lexington Christian Academy\nHome/Away: Away\nLocation: Lexington Christian Academy\nResult: W
URL:https://concordacademy.org/event/girls-varsity-field-hockey-15/
CATEGORIES:Athletics Calendar,Girls Varsity Field Hockey
END:VEVENT
BEGIN:VEVENT
DTSTART;TZID=America/New_York:20231103T153000
DTEND;TZID=America/New_York:20231103T171500
DTSTAMP:20260424T111521
CREATED:20240625T201213Z
LAST-MODIFIED:20240625T201213Z
UID:10004523-1699025400-1699031700@concordacademy.org
SUMMARY:Boys Varsity Soccer
DESCRIPTION:\n\nEVENT DETAILS\n\nOpponent: Landmark School\nHome/Away: Away\nLocation: Landmark School\nResult: W 3-1
URL:https://concordacademy.org/event/boys-varsity-soccer-15/
CATEGORIES:Athletics Calendar,Boys Varsity Soccer
END:VEVENT
BEGIN:VEVENT
DTSTART;TZID=America/New_York:20231103T153000
DTEND;TZID=America/New_York:20231103T171500
DTSTAMP:20260424T111521
CREATED:20240625T201351Z
LAST-MODIFIED:20240625T201351Z
UID:10004518-1699025400-1699031700@concordacademy.org
SUMMARY:Girls Varsity Soccer
DESCRIPTION:\n\nEVENT DETAILS\n\nOpponent: Holderness School\nHome/Away: Home\nLocation: Moriarty Athletic Campus\nResult: W 1-0\nTransportation: Shuttle\nShuttle At: 2:30 PM
URL:https://concordacademy.org/event/girls-varsity-soccer-16/
CATEGORIES:Athletics Calendar,Girls Varsity Soccer
END:VEVENT
BEGIN:VEVENT
DTSTART;TZID=America/New_York:20231103T160000
DTEND;TZID=America/New_York:20231103T160000
DTSTAMP:20260424T111521
CREATED:20240625T201209Z
LAST-MODIFIED:20240625T201209Z
UID:10004526-1699027200-1699027200@concordacademy.org
SUMMARY:Boys Varsity Cross Country
DESCRIPTION:\n\nEVENT DETAILS\n\nOpponent: EIL Race\nHome/Away: Away\nLocation: Great Brook\nResult: 1st Place
URL:https://concordacademy.org/event/boys-varsity-cross-country-7/
CATEGORIES:Athletics Calendar,Boys Varsity Cross Country
END:VEVENT
BEGIN:VEVENT
DTSTART;TZID=America/New_York:20231103T160000
DTEND;TZID=America/New_York:20231103T171500
DTSTAMP:20260424T111521
CREATED:20240625T201230Z
LAST-MODIFIED:20240625T201230Z
UID:10004520-1699027200-1699031700@concordacademy.org
SUMMARY:Girls Junior Varsity Volleyball
DESCRIPTION:\n\nEVENT DETAILS\n\nOpponent: Beaver Country Day School\nHome/Away: Home\nLocation: SHAC\nResult: L 0-2
URL:https://concordacademy.org/event/girls-junior-varsity-volleyball-13/
CATEGORIES:Athletics Calendar,Girls Junior Varsity Volleyball
END:VEVENT
BEGIN:VEVENT
DTSTART;TZID=America/New_York:20231103T160000
DTEND;TZID=America/New_York:20231103T173000
DTSTAMP:20260424T111521
CREATED:20240625T201229Z
LAST-MODIFIED:20240625T201229Z
UID:10004521-1699027200-1699032600@concordacademy.org
SUMMARY:Girls Junior Varsity Soccer
DESCRIPTION:\n\nEVENT DETAILS\n\nOpponent: Cushing Academy\nHome/Away: Home\nLocation: Main Campus- Middle Field\nResult: W 2-0
URL:https://concordacademy.org/event/girls-junior-varsity-soccer-15/
CATEGORIES:Athletics Calendar,Girls Junior Varsity Soccer
END:VEVENT
BEGIN:VEVENT
DTSTART;TZID=America/New_York:20231103T160000
DTEND;TZID=America/New_York:20231103T173000
DTSTAMP:20260424T111521
CREATED:20240625T201405Z
LAST-MODIFIED:20240625T201405Z
UID:10004517-1699027200-1699032600@concordacademy.org
SUMMARY:Girls Varsity Volleyball
DESCRIPTION:\n\nEVENT DETAILS\n\nOpponent: Beaver Country Day School\nHome/Away: Home\nLocation: SHAC\nResult: W 3-1
URL:https://concordacademy.org/event/girls-varsity-volleyball-15/
CATEGORIES:Athletics Calendar,Girls Varsity Volleyball
END:VEVENT
BEGIN:VEVENT
DTSTART;TZID=America/New_York:20231108T150000
DTEND;TZID=America/New_York:20231108T163000
DTSTAMP:20260424T111521
CREATED:20240625T201346Z
LAST-MODIFIED:20240625T201346Z
UID:10004574-1699455600-1699461000@concordacademy.org
SUMMARY:Girls Varsity Field Hockey
DESCRIPTION:\n\nEVENT DETAILS\n\nOpponent: Berwick Academy\nHome/Away: Home\nLocation: Moriarty Athletic Campus\nResult: L 0-1 OT\nTransportation: Shuttle\nShuttle At: 2:00 PM
URL:https://concordacademy.org/event/girls-varsity-field-hockey-16/
CATEGORIES:Athletics Calendar,Girls Varsity Field Hockey
END:VEVENT
BEGIN:VEVENT
DTSTART;TZID=America/New_York:20231108T150000
DTEND;TZID=America/New_York:20231108T164500
DTSTAMP:20260424T111521
CREATED:20240625T201213Z
LAST-MODIFIED:20240625T201213Z
UID:10004576-1699455600-1699461900@concordacademy.org
SUMMARY:Boys Varsity Soccer
DESCRIPTION:\n\nEVENT DETAILS\n\nOpponent: Berwick Academy\nHome/Away: Home\nLocation: Moriarty Athletic Campus\nResult: W 3-1\nTransportation: Shuttle\nShuttle At: 2:00 PM
URL:https://concordacademy.org/event/boys-varsity-soccer-16/
CATEGORIES:Athletics Calendar,Boys Varsity Soccer
END:VEVENT
BEGIN:VEVENT
DTSTART;TZID=America/New_York:20231108T150000
DTEND;TZID=America/New_York:20231108T164500
DTSTAMP:20260424T111521
CREATED:20240625T201351Z
LAST-MODIFIED:20240625T201351Z
UID:10004573-1699455600-1699461900@concordacademy.org
SUMMARY:Girls Varsity Soccer
DESCRIPTION:\n\nEVENT DETAILS\n\nOpponent: Berwick Academy\nHome/Away: Away\nLocation: Berwick Academy\nResult: L 0-1
URL:https://concordacademy.org/event/girls-varsity-soccer-17/
CATEGORIES:Athletics Calendar,Girls Varsity Soccer
END:VEVENT
BEGIN:VEVENT
DTSTART;TZID=America/New_York:20231108T160000
DTEND;TZID=America/New_York:20231108T171500
DTSTAMP:20260424T111521
CREATED:20240625T201230Z
LAST-MODIFIED:20240625T201230Z
UID:10004575-1699459200-1699463700@concordacademy.org
SUMMARY:Girls Junior Varsity Volleyball
DESCRIPTION:\n\nEVENT DETAILS\n\nOpponent: Newton Country Day School\nHome/Away: Home\nLocation: SHAC\nResult: L 1-2
URL:https://concordacademy.org/event/girls-junior-varsity-volleyball-14/
CATEGORIES:Athletics Calendar,Girls Junior Varsity Volleyball
END:VEVENT
BEGIN:VEVENT
DTSTART;TZID=America/New_York:20231108T160000
DTEND;TZID=America/New_York:20231108T173000
DTSTAMP:20260424T111521
CREATED:20240625T201405Z
LAST-MODIFIED:20240625T201405Z
UID:10004572-1699459200-1699464600@concordacademy.org
SUMMARY:Girls Varsity Volleyball
DESCRIPTION:\n\nEVENT DETAILS\n\nOpponent: Newton Country Day School\nHome/Away: Home\nLocation: SHAC\nResult: L 0-3
URL:https://concordacademy.org/event/girls-varsity-volleyball-16/
CATEGORIES:Athletics Calendar,Girls Varsity Volleyball
END:VEVENT
BEGIN:VEVENT
DTSTART;VALUE=DATE:20231110
DTEND;VALUE=DATE:20231112
DTSTAMP:20260424T111521
CREATED:20240625T201346Z
LAST-MODIFIED:20240625T201346Z
UID:10004601-1699574400-1699747199@concordacademy.org
SUMMARY:Girls Varsity Field Hockey
DESCRIPTION:EIL Tournament\n\nEVENT DETAILS\n\nOpponent: EIL Tournament\nHome/Away: TBD
URL:https://concordacademy.org/event/girls-varsity-field-hockey-17/
CATEGORIES:Athletics Calendar,Girls Varsity Field Hockey
END:VEVENT
BEGIN:VEVENT
DTSTART;VALUE=DATE:20231110
DTEND;VALUE=DATE:20231112
DTSTAMP:20260424T111521
CREATED:20240625T201351Z
LAST-MODIFIED:20240625T201351Z
UID:10004600-1699574400-1699747199@concordacademy.org
SUMMARY:Girls Varsity Soccer
DESCRIPTION:EIL Tournament\n\nEVENT DETAILS\n\nOpponent: EIL Tournament\nHome/Away: TBD\nLocation: TBA
URL:https://concordacademy.org/event/girls-varsity-soccer-18/
CATEGORIES:Athletics Calendar,Girls Varsity Soccer
END:VEVENT
BEGIN:VEVENT
DTSTART;VALUE=DATE:20231110
DTEND;VALUE=DATE:20231112
DTSTAMP:20260424T111521
CREATED:20240625T201405Z
LAST-MODIFIED:20240625T201405Z
UID:10004599-1699574400-1699747199@concordacademy.org
SUMMARY:Girls Varsity Volleyball
DESCRIPTION:EIL Tournament\n\nEVENT DETAILS\n\nOpponent: EIL Tournament\nHome/Away: TBD\nLocation: TBA
URL:https://concordacademy.org/event/girls-varsity-volleyball-17/
CATEGORIES:Athletics Calendar,Girls Varsity Volleyball
END:VEVENT
BEGIN:VEVENT
DTSTART;TZID=America/New_York:20231110T140000
DTEND;TZID=America/New_York:20231110T160000
DTSTAMP:20260424T111521
CREATED:20240625T201213Z
LAST-MODIFIED:20240625T201213Z
UID:10004602-1699624800-1699632000@concordacademy.org
SUMMARY:Boys Varsity Soccer
DESCRIPTION:EIL Tournament\n\nEVENT DETAILS\n\nOpponent: Berwick Academy\nHome/Away: Home\nLocation: Moriarty Athletic Campus\nResult: L (PK&#039;s)\nShuttle At: 1:00 PM
URL:https://concordacademy.org/event/boys-varsity-soccer-17/
CATEGORIES:Athletics Calendar,Boys Varsity Soccer
END:VEVENT
BEGIN:VEVENT
DTSTART;VALUE=DATE:20231111
DTEND;VALUE=DATE:20231113
DTSTAMP:20260424T111521
CREATED:20240625T201346Z
LAST-MODIFIED:20240625T201346Z
UID:10004620-1699660800-1699833599@concordacademy.org
SUMMARY:Girls Varsity Field Hockey
DESCRIPTION:EIL Tournament\n\nEVENT DETAILS\n\nOpponent: EIL Tournament\nHome/Away: TBD
URL:https://concordacademy.org/event/girls-varsity-field-hockey-18/
CATEGORIES:Athletics Calendar,Girls Varsity Field Hockey
END:VEVENT
BEGIN:VEVENT
DTSTART;VALUE=DATE:20231111
DTEND;VALUE=DATE:20231113
DTSTAMP:20260424T111521
CREATED:20240625T201351Z
LAST-MODIFIED:20240625T201351Z
UID:10004619-1699660800-1699833599@concordacademy.org
SUMMARY:Girls Varsity Soccer
DESCRIPTION:EIL Tournament\n\nEVENT DETAILS\n\nOpponent: EIL Tournament\nHome/Away: TBD\nLocation: TBA
URL:https://concordacademy.org/event/girls-varsity-soccer-19/
CATEGORIES:Athletics Calendar,Girls Varsity Soccer
END:VEVENT
BEGIN:VEVENT
DTSTART;VALUE=DATE:20231111
DTEND;VALUE=DATE:20231113
DTSTAMP:20260424T111521
CREATED:20240625T201405Z
LAST-MODIFIED:20240625T201405Z
UID:10004618-1699660800-1699833599@concordacademy.org
SUMMARY:Girls Varsity Volleyball
DESCRIPTION:EIL Tournament\n\nEVENT DETAILS\n\nOpponent: EIL Tournament\nHome/Away: TBD\nLocation: TBA
URL:https://concordacademy.org/event/girls-varsity-volleyball-18/
CATEGORIES:Athletics Calendar,Girls Varsity Volleyball
END:VEVENT
BEGIN:VEVENT
DTSTART;TZID=America/New_York:20231111T120000
DTEND;TZID=America/New_York:20231111T140000
DTSTAMP:20260424T111521
CREATED:20240625T201213Z
LAST-MODIFIED:20240625T201213Z
UID:10004622-1699704000-1699711200@concordacademy.org
SUMMARY:Boys Varsity Soccer
DESCRIPTION:EIL Tournament\n\nEVENT DETAILS\n\nHome/Away: TBD\nLocation: TBA
URL:https://concordacademy.org/event/boys-varsity-soccer-18/
CATEGORIES:Athletics Calendar,Boys Varsity Soccer
END:VEVENT
BEGIN:VEVENT
DTSTART;TZID=America/New_York:20231111T133000
DTEND;TZID=America/New_York:20231111T143000
DTSTAMP:20260424T111521
CREATED:20240625T201236Z
LAST-MODIFIED:20240625T201236Z
UID:10004621-1699709400-1699713000@concordacademy.org
SUMMARY:Girls Varsity Cross Country
DESCRIPTION:\n\nEVENT DETAILS\n\nOpponent: NEPSTA\nHome/Away: Away\nLocation: Highland Park, Attleboro MA.\nResult: 16th Place
URL:https://concordacademy.org/event/girls-varsity-cross-country-8/
CATEGORIES:Athletics Calendar,Girls Varsity Cross Country
END:VEVENT
BEGIN:VEVENT
DTSTART;TZID=America/New_York:20231111T141500
DTEND;TZID=America/New_York:20231111T151500
DTSTAMP:20260424T111521
CREATED:20240625T201209Z
LAST-MODIFIED:20240625T201209Z
UID:10004623-1699712100-1699715700@concordacademy.org
SUMMARY:Boys Varsity Cross Country
DESCRIPTION:\n\nEVENT DETAILS\n\nOpponent: NEPSTA\nHome/Away: Away\nLocation: Highland Park, Attleboro MA.\nResult: 7th Place
URL:https://concordacademy.org/event/boys-varsity-cross-country-8/
CATEGORIES:Athletics Calendar,Boys Varsity Cross Country
END:VEVENT
BEGIN:VEVENT
DTSTART;VALUE=DATE:20231115
DTEND;VALUE=DATE:20231117
DTSTAMP:20260424T111521
CREATED:20240625T201346Z
LAST-MODIFIED:20240625T201346Z
UID:10004660-1700006400-1700179199@concordacademy.org
SUMMARY:Girls Varsity Field Hockey
DESCRIPTION:NEPSAC Tournament\n\nEVENT DETAILS\n\nOpponent: NEPSAC\nHome/Away: TBD
URL:https://concordacademy.org/event/girls-varsity-field-hockey-19/
CATEGORIES:Athletics Calendar,Girls Varsity Field Hockey
END:VEVENT
BEGIN:VEVENT
DTSTART;VALUE=DATE:20231115
DTEND;VALUE=DATE:20231117
DTSTAMP:20260424T111521
CREATED:20240625T201405Z
LAST-MODIFIED:20240625T201405Z
UID:10004658-1700006400-1700179199@concordacademy.org
SUMMARY:Girls Varsity Volleyball
DESCRIPTION:NEPSAC Tournament\n\nEVENT DETAILS\n\nOpponent: NEPSAC\nHome/Away: TBD\nLocation: TBA
URL:https://concordacademy.org/event/girls-varsity-volleyball-19/
CATEGORIES:Athletics Calendar,Girls Varsity Volleyball
END:VEVENT
BEGIN:VEVENT
DTSTART;TZID=America/New_York:20231115T140000
DTEND;TZID=America/New_York:20231115T154500
DTSTAMP:20260424T111521
CREATED:20240625T201213Z
LAST-MODIFIED:20240625T201213Z
UID:10004661-1700056800-1700063100@concordacademy.org
SUMMARY:Boys Varsity Soccer
DESCRIPTION:NEPSAC\n\nEVENT DETAILS\n\nOpponent: Millbrook School\nHome/Away: Away\nLocation: Berkshire School\nResult: L 0-4
URL:https://concordacademy.org/event/boys-varsity-soccer-19/
CATEGORIES:Athletics Calendar,Boys Varsity Soccer
END:VEVENT
BEGIN:VEVENT
DTSTART;TZID=America/New_York:20231115T153000
DTEND;TZID=America/New_York:20231115T170000
DTSTAMP:20260424T111521
CREATED:20240625T201351Z
LAST-MODIFIED:20240625T201351Z
UID:10004659-1700062200-1700067600@concordacademy.org
SUMMARY:Girls Varsity Soccer
DESCRIPTION:NEPSAC Tournament\n\nEVENT DETAILS\n\nOpponent: Kimball Union Academy\nHome/Away: Away\nLocation: Kimball Union Academy\nResult: L 1-2\nTransportation: Coach bus
URL:https://concordacademy.org/event/girls-varsity-soccer-20/
CATEGORIES:Athletics Calendar,Girls Varsity Soccer
END:VEVENT
BEGIN:VEVENT
DTSTART;VALUE=DATE:20231118
DTEND;VALUE=DATE:20231120
DTSTAMP:20260424T111521
CREATED:20240625T201213Z
LAST-MODIFIED:20240625T201213Z
UID:10004696-1700265600-1700438399@concordacademy.org
SUMMARY:Boys Varsity Soccer
DESCRIPTION:NEPSAC\n\nEVENT DETAILS\n\nOpponent: NEPSAC\nHome/Away: TBD\nLocation: TBA
URL:https://concordacademy.org/event/boys-varsity-soccer-20/
CATEGORIES:Athletics Calendar,Boys Varsity Soccer
END:VEVENT
BEGIN:VEVENT
DTSTART;VALUE=DATE:20231118
DTEND;VALUE=DATE:20231120
DTSTAMP:20260424T111521
CREATED:20240625T201346Z
LAST-MODIFIED:20240625T201346Z
UID:10004695-1700265600-1700438399@concordacademy.org
SUMMARY:Girls Varsity Field Hockey
DESCRIPTION:NEPSAC Tournament\n\nEVENT DETAILS\n\nOpponent: NEPSAC\nHome/Away: TBD
URL:https://concordacademy.org/event/girls-varsity-field-hockey-20/
CATEGORIES:Athletics Calendar,Girls Varsity Field Hockey
END:VEVENT
BEGIN:VEVENT
DTSTART;VALUE=DATE:20231118
DTEND;VALUE=DATE:20231120
DTSTAMP:20260424T111521
CREATED:20240625T201351Z
LAST-MODIFIED:20240625T201351Z
UID:10004694-1700265600-1700438399@concordacademy.org
SUMMARY:Girls Varsity Soccer
DESCRIPTION:NEPSAC Tournament\n\nEVENT DETAILS\n\nOpponent: NEPSAC\nHome/Away: TBD\nLocation: TBA
URL:https://concordacademy.org/event/girls-varsity-soccer-21/
CATEGORIES:Athletics Calendar,Girls Varsity Soccer
END:VEVENT
BEGIN:VEVENT
DTSTART;VALUE=DATE:20231118
DTEND;VALUE=DATE:20231120
DTSTAMP:20260424T111521
CREATED:20240625T201405Z
LAST-MODIFIED:20240625T201405Z
UID:10004693-1700265600-1700438399@concordacademy.org
SUMMARY:Girls Varsity Volleyball
DESCRIPTION:NEPSAC Tournament\n\nEVENT DETAILS\n\nOpponent: NEPSAC\nHome/Away: TBD\nLocation: TBA
URL:https://concordacademy.org/event/girls-varsity-volleyball-20/
CATEGORIES:Athletics Calendar,Girls Varsity Volleyball
END:VEVENT
BEGIN:VEVENT
DTSTART;VALUE=DATE:20231119
DTEND;VALUE=DATE:20231121
DTSTAMP:20260424T111521
CREATED:20240625T201213Z
LAST-MODIFIED:20240625T201213Z
UID:10004704-1700352000-1700524799@concordacademy.org
SUMMARY:Boys Varsity Soccer
DESCRIPTION:NEPSAC\n\nEVENT DETAILS\n\nOpponent: NEPSAC\nHome/Away: TBD\nLocation: TBA
URL:https://concordacademy.org/event/boys-varsity-soccer-21/
CATEGORIES:Athletics Calendar,Boys Varsity Soccer
END:VEVENT
BEGIN:VEVENT
DTSTART;VALUE=DATE:20231119
DTEND;VALUE=DATE:20231121
DTSTAMP:20260424T111521
CREATED:20240625T201346Z
LAST-MODIFIED:20240625T201346Z
UID:10004703-1700352000-1700524799@concordacademy.org
SUMMARY:Girls Varsity Field Hockey
DESCRIPTION:NEPSAC Tournament\n\nEVENT DETAILS\n\nOpponent: NEPSAC\nHome/Away: TBD
URL:https://concordacademy.org/event/girls-varsity-field-hockey-21/
CATEGORIES:Athletics Calendar,Girls Varsity Field Hockey
END:VEVENT
BEGIN:VEVENT
DTSTART;VALUE=DATE:20231119
DTEND;VALUE=DATE:20231121
DTSTAMP:20260424T111521
CREATED:20240625T201351Z
LAST-MODIFIED:20240625T201351Z
UID:10004702-1700352000-1700524799@concordacademy.org
SUMMARY:Girls Varsity Soccer
DESCRIPTION:NEPSAC Tournament\n\nEVENT DETAILS\n\nOpponent: NEPSAC\nHome/Away: TBD\nLocation: TBA
URL:https://concordacademy.org/event/girls-varsity-soccer-22/
CATEGORIES:Athletics Calendar,Girls Varsity Soccer
END:VEVENT
BEGIN:VEVENT
DTSTART;VALUE=DATE:20231119
DTEND;VALUE=DATE:20231121
DTSTAMP:20260424T111521
CREATED:20240625T201406Z
LAST-MODIFIED:20240625T201406Z
UID:10004701-1700352000-1700524799@concordacademy.org
SUMMARY:Girls Varsity Volleyball
DESCRIPTION:NEPSAC Tournament\n\nEVENT DETAILS\n\nOpponent: NEPSAC\nHome/Away: TBD\nLocation: TBA
URL:https://concordacademy.org/event/girls-varsity-volleyball-21/
CATEGORIES:Athletics Calendar,Girls Varsity Volleyball
END:VEVENT
END:VCALENDAR