BEGIN:VCALENDAR
VERSION:2.0
PRODID:-//Concord Academy - ECPv6.15.17.1//NONSGML v1.0//EN
CALSCALE:GREGORIAN
METHOD:PUBLISH
X-ORIGINAL-URL:https://concordacademy.org
X-WR-CALDESC:Events for Concord Academy
REFRESH-INTERVAL;VALUE=DURATION:PT1H
X-Robots-Tag:noindex
X-PUBLISHED-TTL:PT1H
BEGIN:VTIMEZONE
TZID:America/New_York
BEGIN:DAYLIGHT
TZOFFSETFROM:-0500
TZOFFSETTO:-0400
TZNAME:EDT
DTSTART:20140309T070000
END:DAYLIGHT
BEGIN:STANDARD
TZOFFSETFROM:-0400
TZOFFSETTO:-0500
TZNAME:EST
DTSTART:20141102T060000
END:STANDARD
BEGIN:DAYLIGHT
TZOFFSETFROM:-0500
TZOFFSETTO:-0400
TZNAME:EDT
DTSTART:20150308T070000
END:DAYLIGHT
BEGIN:STANDARD
TZOFFSETFROM:-0400
TZOFFSETTO:-0500
TZNAME:EST
DTSTART:20151101T060000
END:STANDARD
BEGIN:DAYLIGHT
TZOFFSETFROM:-0500
TZOFFSETTO:-0400
TZNAME:EDT
DTSTART:20160313T070000
END:DAYLIGHT
BEGIN:STANDARD
TZOFFSETFROM:-0400
TZOFFSETTO:-0500
TZNAME:EST
DTSTART:20161106T060000
END:STANDARD
BEGIN:DAYLIGHT
TZOFFSETFROM:-0500
TZOFFSETTO:-0400
TZNAME:EDT
DTSTART:20170312T070000
END:DAYLIGHT
BEGIN:STANDARD
TZOFFSETFROM:-0400
TZOFFSETTO:-0500
TZNAME:EST
DTSTART:20171105T060000
END:STANDARD
BEGIN:DAYLIGHT
TZOFFSETFROM:-0500
TZOFFSETTO:-0400
TZNAME:EDT
DTSTART:20180311T070000
END:DAYLIGHT
BEGIN:STANDARD
TZOFFSETFROM:-0400
TZOFFSETTO:-0500
TZNAME:EST
DTSTART:20181104T060000
END:STANDARD
END:VTIMEZONE
BEGIN:VEVENT
DTSTART;TZID=America/New_York:20171130T000000
DTEND;TZID=America/New_York:20171130T201500
DTSTAMP:20260422T163839
CREATED:20240717T215629Z
LAST-MODIFIED:20240717T215629Z
UID:10007377-1512000000-1512072900@concordacademy.org
SUMMARY:Hall Fellow Reception
DESCRIPTION:
URL:https://concordacademy.org/event/hall-fellow-reception/
CATEGORIES:CA Alum
END:VEVENT
BEGIN:VEVENT
DTSTART;TZID=America/New_York:20160603T000000
DTEND;TZID=America/New_York:20160605T120000
DTSTAMP:20260422T163839
CREATED:20240717T215629Z
LAST-MODIFIED:20240717T215629Z
UID:10007378-1464912000-1465128000@concordacademy.org
SUMMARY:Reunion Weekend
DESCRIPTION:Click here to view preliminary programming\, to register\, and to see who’s coming
URL:https://concordacademy.org/event/reunion-weekend/
CATEGORIES:CA Alum
END:VEVENT
BEGIN:VEVENT
DTSTART;TZID=America/New_York:20160501T000000
DTEND;TZID=America/New_York:20160501T193000
DTSTAMP:20260422T163839
CREATED:20240717T215630Z
LAST-MODIFIED:20240821T163001Z
UID:10007379-1462060800-1462131000@concordacademy.org
SUMMARY:CA Parents Back to School Event
DESCRIPTION:CA Parents will be hosting a â€œback-to-schoolâ€ event called “Where Imagination and Intellect Soar” on Sunday\, May 1\, in the late afternoon. Sample engaging classes taught by the CA faculty\, enjoy a wine and beer tasting with delicious appetizers\, and socialize with fellow parents and adult members of the CA community. More information will be available later in the winter. Please mark your calendars\, buckle your seat belts\, and be ready to fly!
URL:https://concordacademy.org/event/ca-parents-back-to-school-event/
CATEGORIES:CA Alum
END:VEVENT
BEGIN:VEVENT
DTSTART;TZID=America/New_York:20160501T000000
DTEND;TZID=America/New_York:20160501T193000
DTSTAMP:20260422T163839
CREATED:20240717T215630Z
LAST-MODIFIED:20240717T215630Z
UID:10007380-1462060800-1462131000@concordacademy.org
SUMMARY:CA: Where Imagination and Intellect Soar
DESCRIPTION:This back-to-school event\, hosted by CA Parents\, offers the opportunity to experience how CA’s faculty inspires students every day. Choose one 90-minute or two 45-minute classes. Classes will be followed by a walk-about wine and beer tasting\, complemented by fine food in the Upper SHAC Atrium and Dance Studio.
URL:https://concordacademy.org/event/ca-where-imagination-and-intellect-soar/
CATEGORIES:CA Alum
END:VEVENT
BEGIN:VEVENT
DTSTART;TZID=America/New_York:20160313T000000
DTEND;TZID=America/New_York:20160313T193000
DTSTAMP:20260422T163839
CREATED:20240717T215630Z
LAST-MODIFIED:20240717T215630Z
UID:10007381-1457827200-1457897400@concordacademy.org
SUMMARY:Dinner and Conversation with CA Students in London
DESCRIPTION:CA students are traveling to the United Kingdom to explore ancient treasures of English national heritage and historic sites of the Roman period in London\, Oxford\, and Bath\, as well as to connect with CA alumnae/i in and around London. We invite you to join us to share your experiences living and working in the UK.
URL:https://concordacademy.org/event/dinner-and-conversation-with-ca-students-in-london/
CATEGORIES:CA Alum
END:VEVENT
BEGIN:VEVENT
DTSTART;TZID=America/New_York:20160121T000000
DTEND;TZID=America/New_York:20160121T200000
DTSTAMP:20260422T163839
CREATED:20240717T215647Z
LAST-MODIFIED:20240717T215647Z
UID:10007382-1453334400-1453406400@concordacademy.org
SUMMARY:CA Parents and Local Alums: Student Art Show Reception
DESCRIPTION:Please join us for a Student Art Show Reception sponsored by\nCA’s Parent-to-Parent program and CA Alumnae/i Association’s Local Alumnae/i Committee. All parents and local alumnae/i are welcome to join us for light refreshments in the Ransome Room and a chance to view the collection from the fall semester Visual Arts classes\, prominently displayed throughout the Math and Arts Center. If you have questions\, please contact Amy Sagalyn at (978) 402-2256\nor amy_sagalyn@concordacademy.org.
URL:https://concordacademy.org/event/ca-parents-and-local-alums-student-art-show-reception/
CATEGORIES:CA Alum
END:VEVENT
BEGIN:VEVENT
DTSTART;TZID=America/New_York:20160110T000000
DTEND;TZID=America/New_York:20160110T170000
DTSTAMP:20260422T163839
CREATED:20240717T215648Z
LAST-MODIFIED:20240717T215648Z
UID:10007383-1452384000-1452445200@concordacademy.org
SUMMARY:Concord Academy Alumnae/i and Student of Color Gathering
DESCRIPTION:Join CA for an afternoon of bowling\, pool\, food\, and good conversation at the 7th Annual\nConcord Academy Alumnae/i and Student of Color Gathering\nSunday\, January 10\, 2016\n3:00 to 5:00 p.m.\nLucky Strike Lanes – Jillianâ€™s\n145 Ipswich Street (behind Fenway Park)\nBoston\, Massachusetts 02215\nThis event\, sponsored by the Community and Equity Office on campus together with the Engagement Office\, is an opportunity for alumnae/i and students of color to share stories and for students to network and find role models among CA’s alumnae/i.\nIf you have any questions\, please contact Tulika Verma at tulika_verma@concordacademy.org\, (978) 402-2248
URL:https://concordacademy.org/event/concord-academy-alumnae-i-and-student-of-color-gathering/
CATEGORIES:CA Alum
END:VEVENT
BEGIN:VEVENT
DTSTART;TZID=America/New_York:20151229T000000
DTEND;TZID=America/New_York:20151229T230000
DTSTAMP:20260422T163839
CREATED:20240717T215648Z
LAST-MODIFIED:20240717T215648Z
UID:10007384-1451347200-1451430000@concordacademy.org
SUMMARY:CAYAC Holiday Party
DESCRIPTION:Concord Academy Young Alumnae/i Party\nTuesday\, December 29\, 2015\n8:00 â€“ 11:00 p.m.\nMeadhall\n4 Cambridge Center\, Kendall Square\nCambridge\, Massachusetts\nEnjoy good food and drinks with friends at this annual celebration.\n21+ only\nHosted by CA Young Alumnae/i Committee (CAYAC)\nCo-Chairs Lindsay Kolowich â€™09 and Ross Palley â€™07\nFor questions or more information please contact Karen Culbert\,\nkaren_culbert@concordacademy.org\, (978) 402-2217\nParking and directions:\nConveniently located on the red line\, Meadhall is a three minute walk from the\nKendall/MIT station. Validated parking is available at the 4 Cambridge Center East Garage.
URL:https://concordacademy.org/event/cayac-holiday-party/
CATEGORIES:CA Alum
END:VEVENT
BEGIN:VEVENT
DTSTART;TZID=America/New_York:20151217T000000
DTEND;TZID=America/New_York:20151217T113000
DTSTAMP:20260422T163839
CREATED:20240717T215648Z
LAST-MODIFIED:20240717T215648Z
UID:10007385-1450310400-1450351800@concordacademy.org
SUMMARY:Young Alumnae/i Welcome Back Breakfast
DESCRIPTION:Coming back to the Concord area for break? Return to campus to catch up with faculty members and each other.\nIf you have any questions\, please contact Tulika Verma or (978) 402-2248.
URL:https://concordacademy.org/event/young-alumnae-i-welcome-back-breakfast/
CATEGORIES:CA Alum
END:VEVENT
BEGIN:VEVENT
DTSTART;TZID=America/New_York:20151117T000000
DTEND;TZID=America/New_York:20151117T183000
DTSTAMP:20260422T163839
CREATED:20240717T215649Z
LAST-MODIFIED:20240717T215649Z
UID:10007386-1447718400-1447785000@concordacademy.org
SUMMARY:An Evening with CA in Boston\, featuring Hall Fellow Sonia Lo '84
DESCRIPTION:Join CA alumnae/i\, parents\, and friends on Tuesday\, November 17\, 2015\, at 6:30 p.m. at Catalyst\, 300 Technology Square\, Cambridge\, MA\nIn addition to good food\, drink\, and conversation\, the evening will feature a CATalk with Sonia Lo â€™84\, the 2015-16 Hall Fellow Lecturer.\nFrom Financier to Farmer. Sonia Lo is a professional impact investor turned unlikely urban farmer. She will speaking about how her career in impact investing led her to her focus on fixing our food supply chain.\nSpouses and guests are welcome; $15 per person.\nFree validated parking is available at the 800 Technology Square Garage.\nRSVP and see who’s coming.
URL:https://concordacademy.org/event/an-evening-with-ca-in-boston-featuring-hall-fellow-sonia-lo-84/
CATEGORIES:CA Alum
END:VEVENT
BEGIN:VEVENT
DTSTART;TZID=America/New_York:20151103T000000
DTEND;TZID=America/New_York:20151103T210000
DTSTAMP:20260422T163839
CREATED:20240717T215706Z
LAST-MODIFIED:20240717T215706Z
UID:10007387-1446508800-1446584400@concordacademy.org
SUMMARY:CA in NYC
DESCRIPTION:Create a new CA moment! Join other CA alumnae/i\, parents\, and friends at Locanda Verde on Tuesday\, November 3\, 2015\, from 7:00â€“9:00 p.m. Wine\, beer and hors dâ€™oeuvres will be served; spouses and guests are welcome. We look forward to seeing you there!
URL:https://concordacademy.org/event/ca-in-nyc/
CATEGORIES:CA Alum
END:VEVENT
BEGIN:VEVENT
DTSTART;TZID=America/New_York:20151018T000000
DTEND;TZID=America/New_York:20151018T160000
DTSTAMP:20260422T163839
CREATED:20240717T215707Z
LAST-MODIFIED:20240717T215707Z
UID:10007388-1445126400-1445184000@concordacademy.org
SUMMARY:CA at Head of the Charles
DESCRIPTION:Join us at the CA tent located in the Reunion Village on the Boston side of the Charles River between the Weeks and Anderson Bridges.\n$10 fee to enter Reunion Village\nBreakfast\, lunch\, and refreshments are available in a centrally located concessions tent; Beer Garden is presented by Sierra Nevada Brewing Company. ($5.00/beer)\nSpouses and guests are welcome
URL:https://concordacademy.org/event/ca-at-head-of-the-charles/
CATEGORIES:CA Alum
END:VEVENT
BEGIN:VEVENT
DTSTART;TZID=America/New_York:20151017T000000
DTEND;TZID=America/New_York:20151018T200000
DTSTAMP:20260422T163839
CREATED:20240717T215707Z
LAST-MODIFIED:20240717T215707Z
UID:10007390-1445040000-1445198400@concordacademy.org
SUMMARY:Concord Academy Alumnae/i Fall Weekend
DESCRIPTION:
URL:https://concordacademy.org/event/concord-academy-alumnae-i-fall-weekend/
CATEGORIES:CA Alum
END:VEVENT
BEGIN:VEVENT
DTSTART;TZID=America/New_York:20151017T000000
DTEND;TZID=America/New_York:20151018T160000
DTSTAMP:20260422T163839
CREATED:20240717T215707Z
LAST-MODIFIED:20240717T215707Z
UID:10007389-1445040000-1445184000@concordacademy.org
SUMMARY:Alumnae/i Fall Weekend
DESCRIPTION:
URL:https://concordacademy.org/event/alumnae-i-fall-weekend/
CATEGORIES:CA Alum
END:VEVENT
BEGIN:VEVENT
DTSTART;VALUE=DATE:20150605
DTEND;VALUE=DATE:20150609
DTSTAMP:20260422T163839
CREATED:20240717T215708Z
LAST-MODIFIED:20240717T215708Z
UID:10007391-1433462400-1433807999@concordacademy.org
SUMMARY:Reunion Weekend: Classes 1940-2000
DESCRIPTION:Click here for Registration and additional information.
URL:https://concordacademy.org/event/reunion-weekend-classes-1940-2000/
CATEGORIES:CA Alum
END:VEVENT
BEGIN:VEVENT
DTSTART;TZID=America/New_York:20150504T000000
DTEND;TZID=America/New_York:20150504T200000
DTSTAMP:20260422T163839
CREATED:20240717T215711Z
LAST-MODIFIED:20240717T215711Z
UID:10007392-1430697600-1430769600@concordacademy.org
SUMMARY:Concord Academy Alumnae/i BBQ with the Senior Class and Annual Meeting of the Alumnae/i Association
DESCRIPTION:Concord Academy Alumnae/i BBQ with the Senior Class\nMonday\, May 4\, 2015\nRansome Room â€“ Math and Arts Center\n6:00-7:00 p.m.\nBlue Ribbon BBQ and\nIce Cream Sundaes by Christinaâ€™s of Cambridge\n7:00 – 8:00 p.m.\nSchool Update from Head of School Rick Hardy and Annual Meeting of the Alumnae/i Association\nIn accordance with the bylaws of the Concord Academy Alumnae/i Association\, we will vote on the following officer slate proposed by the Nominating Committee for terms commencing in the fall of 2015.\nSarah Faulkner Hugenberger â€™94 for a two-year term as Vice President\, Chair\, Alumnae/i Annual Fund\, Board of Trustees\, ex-officio\nClaire Moriarty â€™05 for a two-year term as Vice President\, Chair\, Nominating\nIf you have any questions\, please contact Allie Levy at allison_levy@concordacademy.org\, (978) 402-2245
URL:https://concordacademy.org/event/concord-academy-alumnae-i-bbq-with-the-senior-class-and-annual-meeting-of-the-alumnae-i-association/
CATEGORIES:CA Alum
END:VEVENT
BEGIN:VEVENT
DTSTART;TZID=America/New_York:20150419T000000
DTEND;TZID=America/New_York:20150419T160000
DTSTAMP:20260422T163839
CREATED:20240717T215712Z
LAST-MODIFIED:20240717T215712Z
UID:10007393-1429401600-1429459200@concordacademy.org
SUMMARY:Poetry Reading
DESCRIPTION:To celebrate Poetry Month\, CA is hosting a poetry reading on Sunday\, April 19 at 3:00 p.m. in the Chapel. This event is co-sponsored by the Concord Poetry Center and the Concord Academy Poetry Club. Poets include CA’s Cammy Thomas as well as Joan Houlihan\, Julia Lisella\, and Kathy Nilsson.
URL:https://concordacademy.org/event/poetry-reading/
CATEGORIES:CA Alum
END:VEVENT
BEGIN:VEVENT
DTSTART;TZID=America/New_York:20150412T000000
DTEND;TZID=America/New_York:20150412T150000
DTSTAMP:20260422T163839
CREATED:20240717T215712Z
LAST-MODIFIED:20240717T215712Z
UID:10007394-1428796800-1428850800@concordacademy.org
SUMMARY:All CA Service Event with Stop Hunger Now
DESCRIPTION:Join fellow members of the CA community for\nan afternoon of service on\nSunday\, April 12\, 2015\n3:00 p.m. â€“ 6:30 p.m.\nin the\nStudent Health and Athletic Center (SHAC)\nConcord Academy will partner with\nStop Hunger Now\nto package more than 40\,000 meals for global distribution\nHosted by CA Parents\nin partnership with CAâ€™s Engagement Office and\nCA’s Office of Community Life\nSchedule of Events\nRegistration – 3:00 p.m.\nStop Hunger Now Meal Packing – 3:30 p.m. â€“ 5:00 p.m.\nFood & Music – 5:00 p.m. â€“ 6:30 p.m.\nCan’t attend? Click here to sponsor a current CA student meal packer.\nWith more than 800 million hungry people in the world\, the Concord Academy community will come together to make an impact on the fight against hunger. For an hour and a half of high energy activity\, participants will be on their feet packaging nutritious meals for shipment.\nPlease contact Amanda Fisher\, (978) 402-2240\, amanda_fisher@concordacademy.org with any questions.
URL:https://concordacademy.org/event/all-ca-service-event-with-stop-hunger-now/
CATEGORIES:CA Alum
END:VEVENT
BEGIN:VEVENT
DTSTART;VALUE=DATE:20150408
DTEND;VALUE=DATE:20150410
DTSTAMP:20260422T163839
CREATED:20240717T215712Z
LAST-MODIFIED:20240717T215712Z
UID:10007395-1428451200-1428623999@concordacademy.org
SUMMARY:CANCELED: CA in Washington\, DC
DESCRIPTION:The CATalk by Nina Urban ’80\, P’11\, ’17 has been postponed until the fall of 2015. Thanks for your interest; check back here for updated details.\nIf you have questions\, please contact Allie Levy\, Engagement Officer at allison_levy@concordacademy.org or (978) 402-2245.
URL:https://concordacademy.org/event/canceled-ca-in-washington-dc/
CATEGORIES:CA Alum
END:VEVENT
BEGIN:VEVENT
DTSTART;TZID=America/New_York:20150310T000000
DTEND;TZID=America/New_York:20150310T200000
DTSTAMP:20260422T163839
CREATED:20240717T215713Z
LAST-MODIFIED:20240717T215713Z
UID:10007396-1425945600-1426017600@concordacademy.org
SUMMARY:CA in NYC: Open Gallery and CA Dance Company Performance with CA Singers
DESCRIPTION:Tuesday\, March 10\, 2015\nCheim & Read\n547 West 25th Street\nNew York\, New York 10001\n6:30 – 8:00 p.m.\n$15 a person\nSpouses and guests are welcome\nThe performance will begin at 6:45 p.m. Please stay after the performance for a brief talk-back with Directors of Dance\, Richard Colton and Amy Spencer. Wine and light appetizers will be served during the remarks.\nIf you have any questions please contact Allie Levy at Allison_levy@concordacademy.org\, (978) 402-2245.
URL:https://concordacademy.org/event/ca-in-nyc-open-gallery-and-ca-dance-company-performance-with-ca-singers/
CATEGORIES:CA Alum
END:VEVENT
END:VCALENDAR