BEGIN:VCALENDAR
VERSION:2.0
PRODID:-//Concord Academy - ECPv6.15.17.1//NONSGML v1.0//EN
CALSCALE:GREGORIAN
METHOD:PUBLISH
X-ORIGINAL-URL:https://concordacademy.org
X-WR-CALDESC:Events for Concord Academy
REFRESH-INTERVAL;VALUE=DURATION:PT1H
X-Robots-Tag:noindex
X-PUBLISHED-TTL:PT1H
BEGIN:VTIMEZONE
TZID:America/New_York
BEGIN:DAYLIGHT
TZOFFSETFROM:-0500
TZOFFSETTO:-0400
TZNAME:EDT
DTSTART:20240310T070000
END:DAYLIGHT
BEGIN:STANDARD
TZOFFSETFROM:-0400
TZOFFSETTO:-0500
TZNAME:EST
DTSTART:20241103T060000
END:STANDARD
BEGIN:DAYLIGHT
TZOFFSETFROM:-0500
TZOFFSETTO:-0400
TZNAME:EDT
DTSTART:20250309T070000
END:DAYLIGHT
BEGIN:STANDARD
TZOFFSETFROM:-0400
TZOFFSETTO:-0500
TZNAME:EST
DTSTART:20251102T060000
END:STANDARD
BEGIN:DAYLIGHT
TZOFFSETFROM:-0500
TZOFFSETTO:-0400
TZNAME:EDT
DTSTART:20260308T070000
END:DAYLIGHT
BEGIN:STANDARD
TZOFFSETFROM:-0400
TZOFFSETTO:-0500
TZNAME:EST
DTSTART:20261101T060000
END:STANDARD
END:VTIMEZONE
BEGIN:VEVENT
DTSTART;TZID=America/New_York:20251117T190000
DTEND;TZID=America/New_York:20251117T203000
DTSTAMP:20260422T145504
CREATED:20251010T210802Z
LAST-MODIFIED:20260422T182303Z
UID:10011329-1763406000-1763411400@concordacademy.org
SUMMARY:Back to School–Shaped Poetry: Analysis with Sabrina
DESCRIPTION:Shaped Verse \nIn this second installment of a close reading workshop\, Sabrina will guide the analysis of shaped poetry. Delving into works by George Herbert\, James Merrill\, Marilyn Nelson\, Layli Long Soldier\, and Evie Shockley\, participants will explore how a poem’s visual pattern and verbal dimensions converge to bear its design into meaning.\n\nEVENT DETAILS\n\nHome/Away: Home
URL:https://concordacademy.org/event/back-to-school-shaped-poetry-analysis-with-sabrina-2/
LOCATION:CA Labs–314A and 314B
CATEGORIES:All School Events,CA Alum
END:VEVENT
BEGIN:VEVENT
DTSTART;TZID=America/New_York:20251119T190000
DTEND;TZID=America/New_York:20251119T200000
DTSTAMP:20260422T145504
CREATED:20250828T233516Z
LAST-MODIFIED:20260422T185457Z
UID:10011308-1763578800-1763582400@concordacademy.org
SUMMARY:Philanthropy 101: An Info Session for CA's Fundraising Volunteers
DESCRIPTION:
URL:https://concordacademy.org/event/philanthropy-101-an-info-session-for-cas-fundraising-volunteers/
CATEGORIES:CA Alum
END:VEVENT
END:VCALENDAR