BEGIN:VCALENDAR
VERSION:2.0
PRODID:-//Concord Academy - ECPv6.15.17.1//NONSGML v1.0//EN
CALSCALE:GREGORIAN
METHOD:PUBLISH
X-ORIGINAL-URL:https://concordacademy.org
X-WR-CALDESC:Events for Concord Academy
REFRESH-INTERVAL;VALUE=DURATION:PT1H
X-Robots-Tag:noindex
X-PUBLISHED-TTL:PT1H
BEGIN:VTIMEZONE
TZID:America/New_York
BEGIN:DAYLIGHT
TZOFFSETFROM:-0500
TZOFFSETTO:-0400
TZNAME:EDT
DTSTART:20250309T070000
END:DAYLIGHT
BEGIN:STANDARD
TZOFFSETFROM:-0400
TZOFFSETTO:-0500
TZNAME:EST
DTSTART:20251102T060000
END:STANDARD
BEGIN:DAYLIGHT
TZOFFSETFROM:-0500
TZOFFSETTO:-0400
TZNAME:EDT
DTSTART:20260308T070000
END:DAYLIGHT
BEGIN:STANDARD
TZOFFSETFROM:-0400
TZOFFSETTO:-0500
TZNAME:EST
DTSTART:20261101T060000
END:STANDARD
BEGIN:DAYLIGHT
TZOFFSETFROM:-0500
TZOFFSETTO:-0400
TZNAME:EDT
DTSTART:20270314T070000
END:DAYLIGHT
BEGIN:STANDARD
TZOFFSETFROM:-0400
TZOFFSETTO:-0500
TZNAME:EST
DTSTART:20271107T060000
END:STANDARD
END:VTIMEZONE
BEGIN:VEVENT
DTSTART;TZID=America/New_York:20260504T160000
DTEND;TZID=America/New_York:20260504T174500
DTSTAMP:20260425T205957
CREATED:20260302T151010Z
LAST-MODIFIED:20260317T184516Z
UID:10011731-1777910400-1777916700@concordacademy.org
SUMMARY:Boys Varsity Baseball vs Lexington Christian Academy (Home)
DESCRIPTION:\n\nEVENT DETAILS\n\nOpponent: Lexington Christian Academy\nHome/Away: Home\nLocation: Moriarty Athletic Campus\nTransportation: Shuttle 3:00 p.m.\nExcused At: 2:45 PM
URL:https://concordacademy.org/event/boys-varsity-baseball-vs-lexington-christian-academy-home/
CATEGORIES:Athletics Calendar,Boys Varsity Baseball
END:VEVENT
BEGIN:VEVENT
DTSTART;TZID=America/New_York:20260504T161500
DTEND;TZID=America/New_York:20260504T173000
DTSTAMP:20260425T205957
CREATED:20260421T000453Z
LAST-MODIFIED:20260421T130420Z
UID:10011765-1777911300-1777915800@concordacademy.org
SUMMARY:Boys Varsity Lacrosse vs Waring School (Away)
DESCRIPTION:\n\nEVENT DETAILS\n\nOpponent: Waring School\nHome/Away: Away\nLocation: Waring School\nShuttle At: 2:30\nExcused At: 2:15
URL:https://concordacademy.org/event/boys-varsity-lacrosse-vs-waring-away/
CATEGORIES:Athletics Calendar,Boys Varsity Lacrosse
END:VEVENT
BEGIN:VEVENT
DTSTART;TZID=America/New_York:20260504T161500
DTEND;TZID=America/New_York:20260504T181500
DTSTAMP:20260425T205957
CREATED:20260302T144836Z
LAST-MODIFIED:20260306T122321Z
UID:10011629-1777911300-1777918500@concordacademy.org
SUMMARY:Boys Varsity Tennis vs Worcester Academy (Away)
DESCRIPTION:\n\nEVENT DETAILS\n\nOpponent: Worcester Academy\nHome/Away: Away\nLocation: Worcester Academy\nShuttle At: 2:15 p.m.\nExcused At: 2:00 p.m.\nEstimated Return Time: 7:00 p.m.
URL:https://concordacademy.org/event/boys-varsity-tennis-vs-worcester-academy-away/
CATEGORIES:Athletics Calendar,Boys Varsity Tennis
END:VEVENT
BEGIN:VEVENT
DTSTART;TZID=America/New_York:20260504T163000
DTEND;TZID=America/New_York:20260504T183000
DTSTAMP:20260425T205957
CREATED:20260302T144535Z
LAST-MODIFIED:20260306T122321Z
UID:10011657-1777912200-1777919400@concordacademy.org
SUMMARY:Girls Varsity Tennis vs Cushing Academy (Away)
DESCRIPTION:\n\nEVENT DETAILS\n\nOpponent: Cushing Academy\nHome/Away: Away\nLocation: Cushing Academy\nShuttle At: 2:30 p.m.\nExcused At: 2:15 p.m.\nEstimated Return Time: 7:30 p.m.
URL:https://concordacademy.org/event/girls-varsity-tennis-vs-cushing-academy-away/
CATEGORIES:Athletics Calendar,Girls Varsity Tennis
END:VEVENT
BEGIN:VEVENT
DTSTART;TZID=America/New_York:20260505T160000
DTEND;TZID=America/New_York:20260505T180000
DTSTAMP:20260425T205957
CREATED:20260302T150352Z
LAST-MODIFIED:20260402T205625Z
UID:10011711-1777996800-1778004000@concordacademy.org
SUMMARY:All-Gender Varsity Ultimate Frisbee vs Gann Academy (Home)
DESCRIPTION:\n\nEVENT DETAILS\n\nOpponent: Gann Academy\nHome/Away: Home\nLocation: Main Campus
URL:https://concordacademy.org/event/all-gender-varsity-ultimate-frisbee-vs-gann-academy-home/
CATEGORIES:All-Gender Varsity Ultimate Frisbee,Athletics Calendar
END:VEVENT
BEGIN:VEVENT
DTSTART;TZID=America/New_York:20260506T153000
DTEND;TZID=America/New_York:20260506T183000
DTSTAMP:20260425T205957
CREATED:20260302T145857Z
LAST-MODIFIED:20260317T151840Z
UID:10011695-1778081400-1778092200@concordacademy.org
SUMMARY:Varsity Track & Field vs. Andover\, Cambridge School of Weston\, Cushing & Montrose (Away)
DESCRIPTION:\n\nEVENT DETAILS\n\nOpponent: Andover, Cambridge School of Weston, Cushing & Montrose\nHome/Away: Away\nLocation: Andover\nShuttle At: 1:45 p.m.\nExcused At: 1:30 p.m.\nEstimated Return Time: 7:15 p.m.
URL:https://concordacademy.org/event/varsity-track-field-vs-philips-andover-academy-the-cambridge-school-of-weston-and-cushing-academy-away/
CATEGORIES:Athletics Calendar,Boys Varsity Track & Field,Girls Varsity Track & Field
END:VEVENT
BEGIN:VEVENT
DTSTART;TZID=America/New_York:20260506T160000
DTEND;TZID=America/New_York:20260506T180000
DTSTAMP:20260425T205957
CREATED:20260331T140003Z
LAST-MODIFIED:20260331T140112Z
UID:10011748-1778083200-1778090400@concordacademy.org
SUMMARY:All-Gender Varsity Sailing vs Winthrop and Swampscott High School  (Away)
DESCRIPTION:\n\nEVENT DETAILS\n\nOpponent: Winthrop and Swampscott High School\nHome/Away: Away\nLocation: Cottage Park Yacht Club, Winthrop, MA\nShuttle At: 2:30 PM\nExcused At: 2:15 PM
URL:https://concordacademy.org/event/all-gender-varsity-sailing-vs-winthrop-and-swampscott-high-school-away/
CATEGORIES:All-Gender Varsity Sailing,Athletics Calendar
END:VEVENT
BEGIN:VEVENT
DTSTART;TZID=America/New_York:20260506T163000
DTEND;TZID=America/New_York:20260506T173000
DTSTAMP:20260425T205957
CREATED:20260302T151010Z
LAST-MODIFIED:20260317T135810Z
UID:10011732-1778085000-1778088600@concordacademy.org
SUMMARY:Boys Varsity Baseball vs Wheeler School (Away)
DESCRIPTION:\n\nEVENT DETAILS\n\nOpponent: Wheeler School\nHome/Away: Away\nLocation: Wheeler School\nShuttle At: 2:00 p.m.\nExcused At: 1:45 p.m.\nEstimated Return Time: 7:30 p.m.
URL:https://concordacademy.org/event/boys-varsity-baseball-vs-wheeler-school-away/
CATEGORIES:Athletics Calendar,Boys Varsity Baseball
END:VEVENT
BEGIN:VEVENT
DTSTART;TZID=America/New_York:20260506T163000
DTEND;TZID=America/New_York:20260506T180000
DTSTAMP:20260425T205957
CREATED:20260302T145543Z
LAST-MODIFIED:20260417T184612Z
UID:10011685-1778085000-1778090400@concordacademy.org
SUMMARY:Girls Varsity Lacrosse vs Wheeler School (Home)
DESCRIPTION:\n\nEVENT DETAILS\n\nOpponent: Wheeler School\nHome/Away: Home\nLocation: Moriarty Athletic Campus\nTransportation: 3:30 p.m. Shuttle
URL:https://concordacademy.org/event/girls-varsity-lacrosse-vs-wheeler-school-home/
CATEGORIES:Athletics Calendar,Girls Varsity Lacrosse
END:VEVENT
BEGIN:VEVENT
DTSTART;TZID=America/New_York:20260506T163000
DTEND;TZID=America/New_York:20260506T180000
DTSTAMP:20260425T205957
CREATED:20260302T150352Z
LAST-MODIFIED:20260317T151346Z
UID:10011712-1778085000-1778090400@concordacademy.org
SUMMARY:All-Gender Varsity Ultimate Frisbee vs Noble and Greenough School (Away)
DESCRIPTION:\n\nEVENT DETAILS\n\nOpponent: Noble and Greenough School\nHome/Away: Away\nLocation: Noble and Greenough School\nShuttle At: 3:00 p.m.\nEstimated Return Time: 6:45 PM
URL:https://concordacademy.org/event/all-gender-varsity-ultimate-frisbee-vs-noble-and-greenough-school-away/
CATEGORIES:All-Gender Varsity Ultimate Frisbee,Athletics Calendar
END:VEVENT
BEGIN:VEVENT
DTSTART;TZID=America/New_York:20260506T163000
DTEND;TZID=America/New_York:20260506T183000
DTSTAMP:20260425T205957
CREATED:20260302T143142Z
LAST-MODIFIED:20260306T122322Z
UID:10011613-1778085000-1778092200@concordacademy.org
SUMMARY:Girls Varsity Softball vs Wheeler School (Away)
DESCRIPTION:\n\nEVENT DETAILS\n\nOpponent: Wheeler School\nHome/Away: Away\nLocation: Wheeler School\nShuttle At: 2:35 p.m.\nEstimated Return Time: 7:45 p.m.
URL:https://concordacademy.org/event/girls-varsity-softball-vs-wheeler-school-away/
CATEGORIES:Athletics Calendar,Girls Varsity Softball
END:VEVENT
BEGIN:VEVENT
DTSTART;TZID=America/New_York:20260506T163000
DTEND;TZID=America/New_York:20260506T183000
DTSTAMP:20260425T205957
CREATED:20260302T144543Z
LAST-MODIFIED:20260306T122322Z
UID:10011658-1778085000-1778092200@concordacademy.org
SUMMARY:Girls Varsity Tennis vs Berwick Academy (Home)
DESCRIPTION:\n\nEVENT DETAILS\n\nOpponent: Berwick Academy\nHome/Away: Home\nLocation: Moriarty Athletic Campus\nTransportation: 3:30 p.m. Shuttle
URL:https://concordacademy.org/event/girls-varsity-tennis-vs-berwick-academy-home/
CATEGORIES:Athletics Calendar,Girls Varsity Tennis
END:VEVENT
BEGIN:VEVENT
DTSTART;TZID=America/New_York:20260506T163000
DTEND;TZID=America/New_York:20260506T183000
DTSTAMP:20260425T205957
CREATED:20260302T144846Z
LAST-MODIFIED:20260306T122321Z
UID:10011630-1778085000-1778092200@concordacademy.org
SUMMARY:Boys Varsity Tennis vs Berwick Academy (Away)
DESCRIPTION:\n\nEVENT DETAILS\n\nOpponent: Berwick Academy\nHome/Away: Away\nLocation: Berwick Academy\nShuttle At: 2:15 p.m.\nExcused At: 2:00 p.m.\nEstimated Return Time: 8:00 p.m.
URL:https://concordacademy.org/event/boys-varsity-tennis-vs-berwick-academy-away/
CATEGORIES:Athletics Calendar,Boys Varsity Tennis
END:VEVENT
BEGIN:VEVENT
DTSTART;TZID=America/New_York:20260506T163000
DTEND;TZID=America/New_York:20260506T183000
DTSTAMP:20260425T205957
CREATED:20260302T145151Z
LAST-MODIFIED:20260306T122321Z
UID:10011644-1778085000-1778092200@concordacademy.org
SUMMARY:Boys Junior Varsity Tennis vs Berwick Academy (Away)
DESCRIPTION:\n\nEVENT DETAILS\n\nOpponent: Berwick Academy\nHome/Away: Away\nLocation: Berwick Academy\nShuttle At: 2:15 p.m.\nExcused At: 2:00 p.m.\nEstimated Return Time: 8:00 p.m.
URL:https://concordacademy.org/event/boys-junior-varsity-tennis-vs-berwick-academy-away/
CATEGORIES:Athletics Calendar,Boys Junior Varsity Tennis
END:VEVENT
BEGIN:VEVENT
DTSTART;TZID=America/New_York:20260508T160000
DTEND;TZID=America/New_York:20260508T180000
DTSTAMP:20260425T205957
CREATED:20260302T143231Z
LAST-MODIFIED:20260306T122320Z
UID:10011614-1778256000-1778263200@concordacademy.org
SUMMARY:Girls Varsity Softball vs Beaver Country Day School (Away)
DESCRIPTION:\n\nEVENT DETAILS\n\nOpponent: Beaver Country Day School\nHome/Away: Away\nLocation: Beaver Country Day School\nShuttle At: 2:35 p.m.\nEstimated Return Time: 7:00 p.m.
URL:https://concordacademy.org/event/girls-varsity-softball-vs-beaver-country-day-school-away/
CATEGORIES:Athletics Calendar,Girls Varsity Softball
END:VEVENT
BEGIN:VEVENT
DTSTART;TZID=America/New_York:20260508T160000
DTEND;TZID=America/New_York:20260508T180000
DTSTAMP:20260425T205957
CREATED:20260302T144600Z
LAST-MODIFIED:20260306T122320Z
UID:10011659-1778256000-1778263200@concordacademy.org
SUMMARY:Girls Varsity Tennis vs Newton Country Day School (Away)
DESCRIPTION:\n\nEVENT DETAILS\n\nOpponent: Newton Country Day School\nHome/Away: Away\nLocation: Newton Country Day School\nShuttle At: 2:35 p.m.\nEstimated Return Time: 6:45 p.m.
URL:https://concordacademy.org/event/girls-varsity-tennis-vs-newton-country-day-school-away/
CATEGORIES:Athletics Calendar,Girls Varsity Tennis
END:VEVENT
BEGIN:VEVENT
DTSTART;TZID=America/New_York:20260508T160000
DTEND;TZID=America/New_York:20260508T180000
DTSTAMP:20260425T205957
CREATED:20260302T144859Z
LAST-MODIFIED:20260306T122321Z
UID:10011631-1778256000-1778263200@concordacademy.org
SUMMARY:Boys Varsity Tennis vs Beaver Country Day School (Home)
DESCRIPTION:\n\nEVENT DETAILS\n\nOpponent: Beaver Country Day School\nHome/Away: Home\nLocation: Moriarty Athletic Campus\nTransportation: 3:00 p.m. Shuttle
URL:https://concordacademy.org/event/boys-varsity-tennis-vs-beaver-country-day-school-home/
CATEGORIES:Athletics Calendar,Boys Varsity Tennis
END:VEVENT
BEGIN:VEVENT
DTSTART;TZID=America/New_York:20260508T161500
DTEND;TZID=America/New_York:20260508T174500
DTSTAMP:20260425T205957
CREATED:20260302T145543Z
LAST-MODIFIED:20260417T184952Z
UID:10011686-1778256900-1778262300@concordacademy.org
SUMMARY:Girls Varsity Lacrosse vs Pomfret (Home)
DESCRIPTION:\n\nEVENT DETAILS\n\nOpponent: Pomfret School\nHome/Away: Home\nLocation: Moriarty Athletic Campus\nTransportation: 3:15 p.m. Shuttle
URL:https://concordacademy.org/event/girls-varsity-lacrosse-vs-newton-country-day-school-home/
CATEGORIES:Athletics Calendar,Girls Varsity Lacrosse
END:VEVENT
BEGIN:VEVENT
DTSTART;TZID=America/New_York:20260508T161500
DTEND;TZID=America/New_York:20260508T174500
DTSTAMP:20260425T205957
CREATED:20260302T151010Z
LAST-MODIFIED:20260306T122320Z
UID:10011733-1778256900-1778262300@concordacademy.org
SUMMARY:Boys Varsity Baseball vs Bancroft School (Away)
DESCRIPTION:\n\nEVENT DETAILS\n\nOpponent: Bancroft School\nHome/Away: Away\nLocation: Bancroft School\nShuttle At: 2:25 p.m.\nExcused At: 2:10 p.m.\nEstimated Return Time: 7:30 p.m.
URL:https://concordacademy.org/event/boys-varsity-baseball-vs-bancroft-school-away/
CATEGORIES:Athletics Calendar,Boys Varsity Baseball
END:VEVENT
BEGIN:VEVENT
DTSTART;TZID=America/New_York:20260508T163000
DTEND;TZID=America/New_York:20260508T180000
DTSTAMP:20260425T205957
CREATED:20260302T144310Z
LAST-MODIFIED:20260306T122320Z
UID:10011673-1778257800-1778263200@concordacademy.org
SUMMARY:Boys Varsity Lacrosse vs Wheeler School (Home)
DESCRIPTION:\n\nEVENT DETAILS\n\nOpponent: Wheeler School\nHome/Away: Home\nLocation: Moriarty Athletic Campus\nTransportation: 3:30 p.m. Shuttle
URL:https://concordacademy.org/event/boys-varsity-lacrosse-vs-wheeler-school-home/
CATEGORIES:Athletics Calendar,Boys Varsity Lacrosse
END:VEVENT
BEGIN:VEVENT
DTSTART;TZID=America/New_York:20260508T170000
DTEND;TZID=America/New_York:20260508T183000
DTSTAMP:20260425T205957
CREATED:20260302T145202Z
LAST-MODIFIED:20260306T122320Z
UID:10011645-1778259600-1778265000@concordacademy.org
SUMMARY:Boys Junior Varsity Tennis vs Wheeler School (Home)
DESCRIPTION:\n\nEVENT DETAILS\n\nOpponent: Wheeler School\nHome/Away: Home\nLocation: Moriarty Athletic Campus\nTransportation: 3:00 p.m. Shuttle
URL:https://concordacademy.org/event/boys-junior-varsity-tennis-vs-wheeler-school-home-2/
CATEGORIES:Athletics Calendar,Boys Junior Varsity Tennis
END:VEVENT
BEGIN:VEVENT
DTSTART;TZID=America/New_York:20260509T110000
DTEND;TZID=America/New_York:20260509T140000
DTSTAMP:20260425T205957
CREATED:20260302T145857Z
LAST-MODIFIED:20260306T122233Z
UID:10011696-1778324400-1778335200@concordacademy.org
SUMMARY:Varsity Track & Field vs Odell/EIL Championships (Away)
DESCRIPTION:\n\nEVENT DETAILS\n\nOpponent: Odell/EIL Championships\nHome/Away: Away\nLocation: East Providence High School\nShuttle At: 8:45 a.m.\nEstimated Return Time: 3:30 p.m.
URL:https://concordacademy.org/event/varsity-track-field-vs-odell-eil-championships-away/
CATEGORIES:Athletics Calendar,Boys Varsity Track & Field,Girls Varsity Track & Field
END:VEVENT
END:VCALENDAR