BEGIN:VCALENDAR
VERSION:2.0
PRODID:-//Concord Academy - ECPv6.15.17.1//NONSGML v1.0//EN
CALSCALE:GREGORIAN
METHOD:PUBLISH
X-WR-CALNAME:Concord Academy
X-ORIGINAL-URL:https://concordacademy.org
X-WR-CALDESC:Events for Concord Academy
REFRESH-INTERVAL;VALUE=DURATION:PT1H
X-Robots-Tag:noindex
X-PUBLISHED-TTL:PT1H
BEGIN:VTIMEZONE
TZID:America/New_York
BEGIN:DAYLIGHT
TZOFFSETFROM:-0500
TZOFFSETTO:-0400
TZNAME:EDT
DTSTART:20250309T070000
END:DAYLIGHT
BEGIN:STANDARD
TZOFFSETFROM:-0400
TZOFFSETTO:-0500
TZNAME:EST
DTSTART:20251102T060000
END:STANDARD
BEGIN:DAYLIGHT
TZOFFSETFROM:-0500
TZOFFSETTO:-0400
TZNAME:EDT
DTSTART:20260308T070000
END:DAYLIGHT
BEGIN:STANDARD
TZOFFSETFROM:-0400
TZOFFSETTO:-0500
TZNAME:EST
DTSTART:20261101T060000
END:STANDARD
BEGIN:DAYLIGHT
TZOFFSETFROM:-0500
TZOFFSETTO:-0400
TZNAME:EDT
DTSTART:20270314T070000
END:DAYLIGHT
BEGIN:STANDARD
TZOFFSETFROM:-0400
TZOFFSETTO:-0500
TZNAME:EST
DTSTART:20271107T060000
END:STANDARD
END:VTIMEZONE
BEGIN:VEVENT
DTSTART;TZID=America/New_York:20260223T161500
DTEND;TZID=America/New_York:20260223T180000
DTSTAMP:20260425T203719
CREATED:20251107T151317Z
LAST-MODIFIED:20260223T022010Z
UID:10011489-1771863300-1771869600@concordacademy.org
SUMMARY:Boys Varsity Basketball vs Austin Prep (Away)
DESCRIPTION:\n\nEVENT DETAILS\n\nOpponent: Austin Prep\nHome/Away: Away\nLocation: Austin Prep\nShuttle At: 2:45 p.m.\nExcused At: 2:30 p.m.\nEstimated Return Time: 7:00 p.m.
URL:https://concordacademy.org/event/boys-varsity-basketball-vs-austin-prep-away/
CATEGORIES:Athletics Calendar,Boys Varsity Basketball
END:VEVENT
BEGIN:VEVENT
DTSTART;TZID=America/New_York:20260224T161500
DTEND;TZID=America/New_York:20260224T180000
DTSTAMP:20260425T203719
CREATED:20260223T022136Z
LAST-MODIFIED:20260224T133233Z
UID:10011600-1771949700-1771956000@concordacademy.org
SUMMARY:Boys Varsity Basketball vs Austin Prep (Away)
DESCRIPTION:\n\nEVENT DETAILS\n\nOpponent: Austen Prep\nHome/Away: Away\nLocation: Austin Prep\nShuttle At: 2:45 PM\nExcused At: 2:30 PM\nEstimated Return Time: 6:30 PM
URL:https://concordacademy.org/event/boys-varsity-basketball-vs-austin-prep-away-2/
CATEGORIES:Athletics Calendar,Boys Varsity Basketball
END:VEVENT
BEGIN:VEVENT
DTSTART;VALUE=DATE:20260225
DTEND;VALUE=DATE:20260226
DTSTAMP:20260425T203719
CREATED:20251107T154054Z
LAST-MODIFIED:20260223T225730Z
UID:10011544-1771977600-1772063999@concordacademy.org
SUMMARY:Girls Alpine Skiing vs NEPSACs (Away)
DESCRIPTION:\n\nEVENT DETAILS\n\nOpponent: NEPSACs. 9:30 a.m. for Girls First Run. Followed by Boys Run\nHome/Away: Away\nLocation: Pats Peak - 686 Flanders Rd Henniker, NH 03242-6390\nEstimated Return Time: 7:00 p.m.
URL:https://concordacademy.org/event/girls-alpine-skiing-vs-nepsacs-away/
CATEGORIES:Athletics Calendar,Girls Alpine Skiing
END:VEVENT
BEGIN:VEVENT
DTSTART;VALUE=DATE:20260225
DTEND;VALUE=DATE:20260226
DTSTAMP:20260425T203719
CREATED:20251107T154055Z
LAST-MODIFIED:20260223T230147Z
UID:10011537-1771977600-1772063999@concordacademy.org
SUMMARY:Boys Alpine Skiing vs NEPSACs (Away)
DESCRIPTION:\n\nEVENT DETAILS\n\nOpponent: NEPSACs. 9:30 a.m. for Girls First Run. Followed by Boys Run\nHome/Away: Away\nLocation: Pats Peak- 686 Flanders Rd Henniker, NH 03242-6390\nEstimated Return Time: 7:30 p.m.
URL:https://concordacademy.org/event/boys-alpine-skiing-vs-nepsacs-away/
CATEGORIES:Athletics Calendar,Boys Alpine Skiing
END:VEVENT
BEGIN:VEVENT
DTSTART;TZID=America/New_York:20260225T160000
DTEND;TZID=America/New_York:20260225T180000
DTSTAMP:20260425T203719
CREATED:20251107T152712Z
LAST-MODIFIED:20260112T022539Z
UID:10011467-1772035200-1772042400@concordacademy.org
SUMMARY:Boys Varsity Squash vs. Squashbusters -Providence (Home)
DESCRIPTION:\n\nEVENT DETAILS\n\nOpponent: Squashbusters (Providence)\nHome/Away: Home\nLocation: SHAC
URL:https://concordacademy.org/event/boys-varsity-squash-nationals-away-5/
CATEGORIES:Athletics Calendar,Boys Varsity Squash
END:VEVENT
BEGIN:VEVENT
DTSTART;TZID=America/New_York:20260225T163000
DTEND;TZID=America/New_York:20260225T183000
DTSTAMP:20260425T203719
CREATED:20251107T151317Z
LAST-MODIFIED:20251110T194028Z
UID:10011490-1772037000-1772044200@concordacademy.org
SUMMARY:Boys Varsity Basketball vs Marianapolis Preparatory School (Home)
DESCRIPTION:\n\nEVENT DETAILS\n\nOpponent: Marianapolis Preparatory School\nHome/Away: Home\nLocation: SHAC
URL:https://concordacademy.org/event/boys-varsity-basketball-vs-marianapolis-preparatory-school-home/
CATEGORIES:Athletics Calendar,Boys Varsity Basketball
END:VEVENT
BEGIN:VEVENT
DTSTART;TZID=America/New_York:20260225T163000
DTEND;TZID=America/New_York:20260225T183000
DTSTAMP:20260425T203719
CREATED:20251107T152355Z
LAST-MODIFIED:20260226T195038Z
UID:10011428-1772037000-1772044200@concordacademy.org
SUMMARY:Girls Varsity Basketball vs Wheeler School (Away)
DESCRIPTION:\n\nEVENT DETAILS\n\nOpponent: Wheeler School\nHome/Away: Away\nLocation: Wheeler School Farms - 640 Prospect St. Seekonk MA.\nResult: L 45-53\nShuttle At: 2:15 PM\nExcused At: 2:00 p.m.\nEstimated Return Time: 7:30 p.m.
URL:https://concordacademy.org/event/girls-varsity-basketball-vs-wheeler-school-away/
CATEGORIES:Athletics Calendar,Girls Varsity Basketball
END:VEVENT
BEGIN:VEVENT
DTSTART;TZID=America/New_York:20260225T163000
DTEND;TZID=America/New_York:20260225T183000
DTSTAMP:20260425T203719
CREATED:20251107T152710Z
LAST-MODIFIED:20260226T195317Z
UID:10011449-1772037000-1772044200@concordacademy.org
SUMMARY:Boys Junior Varsity Basketball vs Marianapolis Preparatory School (Home)
DESCRIPTION:\n\nEVENT DETAILS\n\nOpponent: Marianapolis Preparatory School\nHome/Away: Home\nLocation: SHAC\nResult: L 41-71
URL:https://concordacademy.org/event/boys-junior-varsity-basketball-vs-marianapolis-preparatory-school-home/
CATEGORIES:Athletics Calendar,Boys Junior Varsity Basketball
END:VEVENT
BEGIN:VEVENT
DTSTART;TZID=America/New_York:20260227T170000
DTEND;TZID=America/New_York:20260227T184500
DTSTAMP:20260425T203719
CREATED:20251107T151316Z
LAST-MODIFIED:20260227T234354Z
UID:10011491-1772211600-1772217900@concordacademy.org
SUMMARY:Boys Varsity Basketball EIL Tournament
DESCRIPTION:\n\nEVENT DETAILS\n\nOpponent: EIL Tounament - If we win 1/27, we either host at CA on Saturday  at 2:00 p.m. or  travel to Beaver, Time TBA\nHome/Away: Away\nLocation: Lexington Christian Academy\nResult: W 66-63\nShuttle At: 3:15 PM\nEstimated Return Time: 7:30 PM
URL:https://concordacademy.org/event/boys-varsity-basketball-eil-tournament-4/
CATEGORIES:Athletics Calendar,Boys Varsity Basketball
END:VEVENT
BEGIN:VEVENT
DTSTART;TZID=America/New_York:20260228T093000
DTEND;TZID=America/New_York:20260228T113000
DTSTAMP:20260425T203719
CREATED:20251107T152715Z
LAST-MODIFIED:20260227T023057Z
UID:10011468-1772271000-1772278200@concordacademy.org
SUMMARY:Girls Varsity Squash NEPSACs
DESCRIPTION:\n\nEVENT DETAILS\n\nOpponent: NEPSACs Tournament: First Match - CA vs. Miss Porter's School at 9:30 a.m. \nHome/Away: Away\nLocation: Tabor Academy, 66 Spring St., Marion, MA 02738 \nShuttle At: 7:15 am (arrive to CA by 7:00 a.m.)\nEstimated Return Time: 6:30 p.m.
URL:https://concordacademy.org/event/girls-varsity-squash-nepsacs-4/
CATEGORIES:Athletics Calendar,Girls Varsity Squash
END:VEVENT
BEGIN:VEVENT
DTSTART;TZID=America/New_York:20260228T120000
DTEND;TZID=America/New_York:20260228T140000
DTSTAMP:20260425T203719
CREATED:20251111T170129Z
LAST-MODIFIED:20260227T021640Z
UID:10011548-1772280000-1772287200@concordacademy.org
SUMMARY:Boys Varsity Squash NEPSACs (Away)
DESCRIPTION:\n\nEVENT DETAILS\n\nOpponent: NEPSACs Tournament :- First Match -CA vs. Taft at 12:00 p.m. \nHome/Away: Away\nLocation: Pomfret School - 398 Pomfret St, Pomfret Center, CT. 06258\nShuttle At: 9:30 AM (Arrive by 9:15 p.m.)\nEstimated Return Time: 8:30 p.m.
URL:https://concordacademy.org/event/boys-varsity-squash-nepsacs-away/
CATEGORIES:Athletics Calendar,Boys Varsity Squash
END:VEVENT
BEGIN:VEVENT
DTSTART;TZID=America/New_York:20260228T160000
DTEND;TZID=America/New_York:20260228T180000
DTSTAMP:20260425T203719
CREATED:20251107T151316Z
LAST-MODIFIED:20260228T013532Z
UID:10011492-1772294400-1772301600@concordacademy.org
SUMMARY:Boys Varsity Basketball EIL Tournament
DESCRIPTION:\n\nEVENT DETAILS\n\nOpponent: EIL Championship - Beaver Country Day\nHome/Away: Away\nLocation: Beaver Country Day\nShuttle At: 2:00 p.m.\nEstimated Return Time: 6:30 p.m.
URL:https://concordacademy.org/event/boys-varsity-basketball-eil-tournament-3/
CATEGORIES:Athletics Calendar,Boys Varsity Basketball
END:VEVENT
BEGIN:VEVENT
DTSTART;VALUE=DATE:20260301
DTEND;VALUE=DATE:20260302
DTSTAMP:20260425T203719
CREATED:20251107T152715Z
LAST-MODIFIED:20260219T181813Z
UID:10011469-1772323200-1772409599@concordacademy.org
SUMMARY:Girls Varsity Squash NEPSACs
DESCRIPTION:\n\nEVENT DETAILS\n\nOpponent: NEPSACs\nHome/Away: Away\nLocation: Tabor Academy\nTransportation: Bedford Charter bus\nShuttle At: TBD
URL:https://concordacademy.org/event/girls-varsity-squash-nepsacs-3/
CATEGORIES:Athletics Calendar,Girls Varsity Squash
END:VEVENT
BEGIN:VEVENT
DTSTART;TZID=America/New_York:20260301T103000
DTEND;TZID=America/New_York:20260301T120000
DTSTAMP:20260425T203719
CREATED:20251111T170515Z
LAST-MODIFIED:20260301T041518Z
UID:10011547-1772361000-1772366400@concordacademy.org
SUMMARY:Boys Varsity Squash NEPSACs (Away)
DESCRIPTION:\n\nEVENT DETAILS\n\nOpponent: NEPSACs\nHome/Away: Away\nLocation: Middlesex School, Concord, MA\nShuttle At: TBD\nEstimated Return Time: 12:30 p.m.
URL:https://concordacademy.org/event/boys-varsity-squash-nationals-away-8/
CATEGORIES:Athletics Calendar,Boys Varsity Squash
END:VEVENT
END:VCALENDAR