BEGIN:VCALENDAR
VERSION:2.0
PRODID:-//Concord Academy - ECPv6.15.17.1//NONSGML v1.0//EN
CALSCALE:GREGORIAN
METHOD:PUBLISH
X-ORIGINAL-URL:https://concordacademy.org
X-WR-CALDESC:Events for Concord Academy
REFRESH-INTERVAL;VALUE=DURATION:PT1H
X-Robots-Tag:noindex
X-PUBLISHED-TTL:PT1H
BEGIN:VTIMEZONE
TZID:America/New_York
BEGIN:DAYLIGHT
TZOFFSETFROM:-0500
TZOFFSETTO:-0400
TZNAME:EDT
DTSTART:20250309T070000
END:DAYLIGHT
BEGIN:STANDARD
TZOFFSETFROM:-0400
TZOFFSETTO:-0500
TZNAME:EST
DTSTART:20251102T060000
END:STANDARD
BEGIN:DAYLIGHT
TZOFFSETFROM:-0500
TZOFFSETTO:-0400
TZNAME:EDT
DTSTART:20260308T070000
END:DAYLIGHT
BEGIN:STANDARD
TZOFFSETFROM:-0400
TZOFFSETTO:-0500
TZNAME:EST
DTSTART:20261101T060000
END:STANDARD
BEGIN:DAYLIGHT
TZOFFSETFROM:-0500
TZOFFSETTO:-0400
TZNAME:EDT
DTSTART:20270314T070000
END:DAYLIGHT
BEGIN:STANDARD
TZOFFSETFROM:-0400
TZOFFSETTO:-0500
TZNAME:EST
DTSTART:20271107T060000
END:STANDARD
END:VTIMEZONE
BEGIN:VEVENT
DTSTART;TZID=America/New_York:20260209T163000
DTEND;TZID=America/New_York:20260209T183000
DTSTAMP:20260425T221049
CREATED:20251107T152709Z
LAST-MODIFIED:20260115T230012Z
UID:10011445-1770654600-1770661800@concordacademy.org
SUMMARY:Boys Junior Varsity Basketball vs Beaver Country Day School (Away)
DESCRIPTION:\n\nEVENT DETAILS\n\nOpponent: Beaver Country Day School\nHome/Away: Away\nLocation: Beaver Country Day School\nShuttle At: 3:15 p.m.\nExcused At: 3:00 p.m.\nEstimated Return Time: 8:45 p.m.
URL:https://concordacademy.org/event/boys-junior-varsity-basketball-vs-beaver-country-day-school-away/
CATEGORIES:Athletics Calendar,Boys Junior Varsity Basketball
END:VEVENT
BEGIN:VEVENT
DTSTART;TZID=America/New_York:20260209T163000
DTEND;TZID=America/New_York:20260209T183000
DTSTAMP:20260425T221049
CREATED:20251107T152711Z
LAST-MODIFIED:20260209T233158Z
UID:10011461-1770654600-1770661800@concordacademy.org
SUMMARY:Boys Varsity Squash vs St. Andrews (Home)
DESCRIPTION:\n\nEVENT DETAILS\n\nOpponent: St. Andrews\nHome/Away: Home\nLocation: SHAC\nResult: W 6-1
URL:https://concordacademy.org/event/boys-varsity-squash-vs-st-andrews-home/
CATEGORIES:Athletics Calendar,Boys Varsity Squash
END:VEVENT
BEGIN:VEVENT
DTSTART;TZID=America/New_York:20260209T170000
DTEND;TZID=America/New_York:20260209T180000
DTSTAMP:20260425T221049
CREATED:20251107T152714Z
LAST-MODIFIED:20260210T010336Z
UID:10011482-1770656400-1770660000@concordacademy.org
SUMMARY:Girls Varsity Squash vs Moses Brown School (Away)
DESCRIPTION:\n\nEVENT DETAILS\n\nOpponent: Moses Brown School\nHome/Away: Away\nLocation: Moses Brown School\nResult: W 6-1\nShuttle At: 2:45 p.m.\nExcused At: 2:30 PM\nEstimated Return Time: 8:00 p.m.
URL:https://concordacademy.org/event/girls-varsity-squash-vs-moses-brown-school-away-2/
CATEGORIES:Athletics Calendar,Girls Varsity Squash
END:VEVENT
BEGIN:VEVENT
DTSTART;TZID=America/New_York:20260210T170000
DTEND;TZID=America/New_York:20260210T183000
DTSTAMP:20260425T221049
CREATED:20251107T151317Z
LAST-MODIFIED:20260210T190850Z
UID:10011411-1770742800-1770748200@concordacademy.org
SUMMARY:Boys Varsity Basketball vs Groton School (Away)
DESCRIPTION:\n\nEVENT DETAILS\n\nOpponent: Groton School\nHome/Away: Away\nLocation: Groton School\nShuttle At: 3:30 p.m.\nEstimated Return Time: 7:15 p.m.
URL:https://concordacademy.org/event/boys-varsity-basketball-vs-groton-school-away/
CATEGORIES:Athletics Calendar,Boys Varsity Basketball
END:VEVENT
BEGIN:VEVENT
DTSTART;TZID=America/New_York:20260210T170000
DTEND;TZID=America/New_York:20260210T190000
DTSTAMP:20260425T221049
CREATED:20251107T152355Z
LAST-MODIFIED:20251107T152355Z
UID:10011500-1770742800-1770750000@concordacademy.org
SUMMARY:Girls Varsity Basketball vs Groton School (Home)
DESCRIPTION:\n\nEVENT DETAILS\n\nOpponent: Groton School\nHome/Away: Home\nLocation: SHAC
URL:https://concordacademy.org/event/girls-varsity-basketball-vs-groton-school-home/
CATEGORIES:Athletics Calendar,Girls Varsity Basketball
END:VEVENT
BEGIN:VEVENT
DTSTART;TZID=America/New_York:20260211T153000
DTEND;TZID=America/New_York:20260211T173000
DTSTAMP:20260425T221049
CREATED:20251107T152711Z
LAST-MODIFIED:20260212T232930Z
UID:10011462-1770823800-1770831000@concordacademy.org
SUMMARY:Boys Varsity Squash vs Portsmouth Abbey School (Home)
DESCRIPTION:\n\nEVENT DETAILS\n\nOpponent: Portsmouth Abbey School\nHome/Away: Home\nLocation: SHAC\nResult: W 7-0
URL:https://concordacademy.org/event/boys-varsity-squash-vs-portsmouth-abbey-school-home-2/
CATEGORIES:Athletics Calendar,Boys Varsity Squash
END:VEVENT
BEGIN:VEVENT
DTSTART;TZID=America/New_York:20260211T154500
DTEND;TZID=America/New_York:20260211T174500
DTSTAMP:20260425T221049
CREATED:20251107T152355Z
LAST-MODIFIED:20260212T233056Z
UID:10011424-1770824700-1770831900@concordacademy.org
SUMMARY:Girls Varsity Basketball vs Pingree School (Away)
DESCRIPTION:\n\nEVENT DETAILS\n\nOpponent: Pingree School\nHome/Away: Away\nLocation: Pingree School\nResult: L 39-43\nShuttle At: 2:00 p.m.\nExcused At: 1:45 p.m.\nEstimated Return Time: 6:30 p.m.
URL:https://concordacademy.org/event/girls-varsity-basketball-vs-pingree-school-away/
CATEGORIES:Athletics Calendar,Girls Varsity Basketball
END:VEVENT
BEGIN:VEVENT
DTSTART;TZID=America/New_York:20260211T160000
DTEND;TZID=America/New_York:20260211T180000
DTSTAMP:20260425T221049
CREATED:20251107T152709Z
LAST-MODIFIED:20260212T233155Z
UID:10011446-1770825600-1770832800@concordacademy.org
SUMMARY:Boys Junior Varsity Basketball vs Gann Academy (Away)
DESCRIPTION:\n\nEVENT DETAILS\n\nOpponent: Gann Academy\nHome/Away: Away\nLocation: Gann Academy\nResult: L 45-49\nShuttle At: 2:35 p.m.\nExcused At: 2:15 p.m.\nEstimated Return Time: 6:15 p.m.
URL:https://concordacademy.org/event/boys-junior-varsity-basketball-vs-gann-academy-away/
CATEGORIES:Athletics Calendar,Boys Junior Varsity Basketball
END:VEVENT
BEGIN:VEVENT
DTSTART;TZID=America/New_York:20260211T163000
DTEND;TZID=America/New_York:20260211T183000
DTSTAMP:20260425T221049
CREATED:20251107T151317Z
LAST-MODIFIED:20260213T004902Z
UID:10011412-1770827400-1770834600@concordacademy.org
SUMMARY:Boys Varsity Basketball vs Proctor Academy (Away)
DESCRIPTION:\n\nEVENT DETAILS\n\nOpponent: Proctor Academy\nHome/Away: Away\nLocation: Proctor Academy\nResult: L 84-93\nShuttle At: 2:00 p.m.\nExcused At: 1:45 p.m.\nEstimated Return Time: 8:00 p.m.
URL:https://concordacademy.org/event/boys-varsity-basketball-vs-proctor-academy-away/
CATEGORIES:Athletics Calendar,Boys Varsity Basketball
END:VEVENT
BEGIN:VEVENT
DTSTART;VALUE=DATE:20260213
DTEND;VALUE=DATE:20260214
DTSTAMP:20260425T221049
CREATED:20251107T153718Z
LAST-MODIFIED:20251107T205305Z
UID:10011516-1770940800-1771027199@concordacademy.org
SUMMARY:All-Gender Varsity Wrestling NEPSAC (Away)
DESCRIPTION:\n\nEVENT DETAILS\n\nOpponent: NEPSACs\nHome/Away: Away\nLocation: TBD
URL:https://concordacademy.org/event/all-gender-varsity-wrestling-nationals-away-2/
CATEGORIES:All-Gender Varsity Wrestling,Athletics Calendar
END:VEVENT
BEGIN:VEVENT
DTSTART;TZID=America/New_York:20260213T160000
DTEND;TZID=America/New_York:20260213T180000
DTSTAMP:20260425T221049
CREATED:20251107T152355Z
LAST-MODIFIED:20251107T152355Z
UID:10011425-1770998400-1771005600@concordacademy.org
SUMMARY:Girls Varsity Basketball vs Newton Country Day School (Away)
DESCRIPTION:\n\nEVENT DETAILS\n\nOpponent: Newton Country Day School\nHome/Away: Away\nLocation: Newton Country Day School\nShuttle At: 2:35 p.m.\nEstimated Return Time: 6:15 p.m.
URL:https://concordacademy.org/event/girls-varsity-basketball-vs-newton-country-day-school-away-2/
CATEGORIES:Athletics Calendar,Girls Varsity Basketball
END:VEVENT
BEGIN:VEVENT
DTSTART;TZID=America/New_York:20260213T163000
DTEND;TZID=America/New_York:20260213T183000
DTSTAMP:20260425T221049
CREATED:20251107T154054Z
LAST-MODIFIED:20251107T154054Z
UID:10011543-1771000200-1771007400@concordacademy.org
SUMMARY:Girls Alpine Skiing vs Central Mass Ski League (Away)
DESCRIPTION:\n\nEVENT DETAILS\n\nOpponent: Central Mass Ski League\nHome/Away: Away\nLocation: Wachusett Mountain\nShuttle At: 2:25 PM\nEstimated Return Time: 7:30 p.m.
URL:https://concordacademy.org/event/girls-alpine-skiing-vs-central-mass-ski-league-away/
CATEGORIES:Athletics Calendar,Girls Alpine Skiing
END:VEVENT
BEGIN:VEVENT
DTSTART;TZID=America/New_York:20260213T163000
DTEND;TZID=America/New_York:20260213T183000
DTSTAMP:20260425T221049
CREATED:20251107T154055Z
LAST-MODIFIED:20251107T154055Z
UID:10011536-1771000200-1771007400@concordacademy.org
SUMMARY:Boys Alpine Skiing vs Central Mass Ski League (Away)
DESCRIPTION:\n\nEVENT DETAILS\n\nOpponent: Central Mass Ski League\nHome/Away: Away\nLocation: Wachusett Mountain\nShuttle At: 2:25 PM\nEstimated Return Time: 7:30 p.m.
URL:https://concordacademy.org/event/boys-alpine-skiing-vs-central-mass-ski-league-away/
CATEGORIES:Athletics Calendar,Boys Alpine Skiing
END:VEVENT
BEGIN:VEVENT
DTSTART;TZID=America/New_York:20260213T164500
DTEND;TZID=America/New_York:20260213T180000
DTSTAMP:20260425T221049
CREATED:20251107T152714Z
LAST-MODIFIED:20251107T152714Z
UID:10011483-1771001100-1771005600@concordacademy.org
SUMMARY:Girls Varsity Squash vs Andover JV (Home)
DESCRIPTION:\n\nEVENT DETAILS\n\nOpponent: Andover JV\nHome/Away: Home\nLocation: SHAC
URL:https://concordacademy.org/event/girls-varsity-squash-vs-andover-jv-home/
CATEGORIES:Athletics Calendar,Girls Varsity Squash
END:VEVENT
BEGIN:VEVENT
DTSTART;VALUE=DATE:20260214
DTEND;VALUE=DATE:20260215
DTSTAMP:20260425T221049
CREATED:20251107T153717Z
LAST-MODIFIED:20260213T010705Z
UID:10011517-1771027200-1771113599@concordacademy.org
SUMMARY:All-Gender Varsity Wrestling NEPSACs at Greens Farms Academy (Away)
DESCRIPTION:\n\nEVENT DETAILS\n\nOpponent: NEPSACs @ Greens Farms Academy, 35 Beachside Ave Westport, CT 06880 \nHome/Away: Away\nLocation: TBD\nShuttle At: 6:15 p.m. Friday, 2/13
URL:https://concordacademy.org/event/all-gender-varsity-wrestling-nationals-away/
CATEGORIES:All-Gender Varsity Wrestling,Athletics Calendar
END:VEVENT
END:VCALENDAR