BEGIN:VCALENDAR
VERSION:2.0
PRODID:-//Concord Academy - ECPv6.15.17.1//NONSGML v1.0//EN
CALSCALE:GREGORIAN
METHOD:PUBLISH
X-ORIGINAL-URL:https://concordacademy.org
X-WR-CALDESC:Events for Concord Academy
REFRESH-INTERVAL;VALUE=DURATION:PT1H
X-Robots-Tag:noindex
X-PUBLISHED-TTL:PT1H
BEGIN:VTIMEZONE
TZID:America/New_York
BEGIN:DAYLIGHT
TZOFFSETFROM:-0500
TZOFFSETTO:-0400
TZNAME:EDT
DTSTART:20250309T070000
END:DAYLIGHT
BEGIN:STANDARD
TZOFFSETFROM:-0400
TZOFFSETTO:-0500
TZNAME:EST
DTSTART:20251102T060000
END:STANDARD
BEGIN:DAYLIGHT
TZOFFSETFROM:-0500
TZOFFSETTO:-0400
TZNAME:EDT
DTSTART:20260308T070000
END:DAYLIGHT
BEGIN:STANDARD
TZOFFSETFROM:-0400
TZOFFSETTO:-0500
TZNAME:EST
DTSTART:20261101T060000
END:STANDARD
BEGIN:DAYLIGHT
TZOFFSETFROM:-0500
TZOFFSETTO:-0400
TZNAME:EDT
DTSTART:20270314T070000
END:DAYLIGHT
BEGIN:STANDARD
TZOFFSETFROM:-0400
TZOFFSETTO:-0500
TZNAME:EST
DTSTART:20271107T060000
END:STANDARD
END:VTIMEZONE
BEGIN:VEVENT
DTSTART;TZID=America/New_York:20260202T160000
DTEND;TZID=America/New_York:20260202T183000
DTSTAMP:20260426T000559
CREATED:20251107T152713Z
LAST-MODIFIED:20260204T015209Z
UID:10011479-1770048000-1770057000@concordacademy.org
SUMMARY:Girls Varsity Squash vs Middlesex School (Home)
DESCRIPTION:\n\nEVENT DETAILS\n\nOpponent: Middlesex School\nHome/Away: Home\nLocation: SHAC\nResult: L 0-7
URL:https://concordacademy.org/event/girls-varsity-squash-vs-middlesex-school-home/
CATEGORIES:Athletics Calendar,Girls Varsity Squash
END:VEVENT
BEGIN:VEVENT
DTSTART;TZID=America/New_York:20260202T163000
DTEND;TZID=America/New_York:20260202T180000
DTSTAMP:20260426T000559
CREATED:20251107T153718Z
LAST-MODIFIED:20260207T015401Z
UID:10011513-1770049800-1770055200@concordacademy.org
SUMMARY:All-Gender Varsity Wrestling vs. Brooks (Away)
DESCRIPTION:\n\nEVENT DETAILS\n\nOpponent: Brooks\nHome/Away: Away\nLocation: Brooks\nResult: W 46-30\nShuttle At: 3:00 p.m\nExcused At: 2:45 pm.\nEstimated Return Time: 7:00 PM
URL:https://concordacademy.org/event/all-gender-varsity-wrestling-eil-tournament/
CATEGORIES:All-Gender Varsity Wrestling,Athletics Calendar
END:VEVENT
BEGIN:VEVENT
DTSTART;TZID=America/New_York:20260204T160000
DTEND;TZID=America/New_York:20260204T180000
DTSTAMP:20260426T000559
CREATED:20251107T153718Z
LAST-MODIFIED:20260205T005846Z
UID:10011514-1770220800-1770228000@concordacademy.org
SUMMARY:All-Gender Varsity Wrestling vs. Landmark and Portsmouth Abbey
DESCRIPTION:\n\nEVENT DETAILS\n\nOpponent: Landmark and Portsmouth Abbey\nHome/Away: Away\nLocation: Landmark\nResult: W. 60-18 , L 40-42\nShuttle At: 2:30 PM\nExcused At: 2:15 PM\nEstimated Return Time: 7:00 PM
URL:https://concordacademy.org/event/all-gender-varsity-wrestling-nepsac-tournament-2/
CATEGORIES:All-Gender Varsity Wrestling,Athletics Calendar
END:VEVENT
BEGIN:VEVENT
DTSTART;TZID=America/New_York:20260204T160000
DTEND;TZID=America/New_York:20260204T183000
DTSTAMP:20260426T000559
CREATED:20251107T152712Z
LAST-MODIFIED:20260204T233143Z
UID:10011459-1770220800-1770229800@concordacademy.org
SUMMARY:Boys Varsity Squash vs Pomfret School (Away)
DESCRIPTION:\n\nEVENT DETAILS\n\nOpponent: Pomfret School\nHome/Away: Away\nLocation: Pomfret School\nResult: L 3-4\nShuttle At: 2:00 p.m.\nExcused At: 1:45 p.m.\nEstimated Return Time: 7:30 p.m.
URL:https://concordacademy.org/event/boys-varsity-squash-vs-pomfret-school-away/
CATEGORIES:Athletics Calendar,Boys Varsity Squash
END:VEVENT
BEGIN:VEVENT
DTSTART;TZID=America/New_York:20260204T163000
DTEND;TZID=America/New_York:20260204T183000
DTSTAMP:20260426T000559
CREATED:20251107T151317Z
LAST-MODIFIED:20260204T233429Z
UID:10011410-1770222600-1770229800@concordacademy.org
SUMMARY:Boys Varsity Basketball vs Wheeler School (Home)
DESCRIPTION:\n\nEVENT DETAILS\n\nOpponent: Wheeler School\nHome/Away: Home\nLocation: SHAC\nResult: W 71-65
URL:https://concordacademy.org/event/boys-varsity-basketball-vs-wheeler-school-home/
CATEGORIES:Athletics Calendar,Boys Varsity Basketball
END:VEVENT
BEGIN:VEVENT
DTSTART;TZID=America/New_York:20260204T163000
DTEND;TZID=America/New_York:20260204T183000
DTSTAMP:20260426T000559
CREATED:20251107T152355Z
LAST-MODIFIED:20260205T033019Z
UID:10011498-1770222600-1770229800@concordacademy.org
SUMMARY:Girls Varsity Basketball vs Portsmouth Abbey School (Away)
DESCRIPTION:\n\nEVENT DETAILS\n\nOpponent: Portsmouth Abbey School\nHome/Away: Away\nLocation: Portsmouth Abbey School\nResult: L 36-47\nShuttle At: 2:00 p.m.\nExcused At: 1:45 p.m.\nEstimated Return Time: 8:00 p.m.
URL:https://concordacademy.org/event/girls-varsity-basketball-vs-portsmouth-abbey-school-away-2/
CATEGORIES:Athletics Calendar,Girls Varsity Basketball
END:VEVENT
BEGIN:VEVENT
DTSTART;TZID=America/New_York:20260204T163000
DTEND;TZID=America/New_York:20260204T183000
DTSTAMP:20260426T000559
CREATED:20251107T152709Z
LAST-MODIFIED:20260204T232959Z
UID:10011443-1770222600-1770229800@concordacademy.org
SUMMARY:Boys Junior Varsity Basketball vs Wheeler School (Home)
DESCRIPTION:\n\nEVENT DETAILS\n\nOpponent: Wheeler School\nHome/Away: Home\nLocation: SHAC\nResult: W 53-34.
URL:https://concordacademy.org/event/boys-junior-varsity-basketball-vs-wheeler-school-home/
CATEGORIES:Athletics Calendar,Boys Junior Varsity Basketball
END:VEVENT
BEGIN:VEVENT
DTSTART;TZID=America/New_York:20260204T163000
DTEND;TZID=America/New_York:20260204T183000
DTSTAMP:20260426T000559
CREATED:20251107T152714Z
LAST-MODIFIED:20260204T232816Z
UID:10011480-1770222600-1770229800@concordacademy.org
SUMMARY:Girls Varsity Squash vs Winsor School (Away)
DESCRIPTION:\n\nEVENT DETAILS\n\nOpponent: Winsor School\nHome/Away: Away\nLocation: Winsor School\nResult: L 2-5\nShuttle At: 3:00 p.m.\nExcused At: 2:45 pm.\nEstimated Return Time: 7:00 p.m.
URL:https://concordacademy.org/event/girls-varsity-squash-vs-winsor-school-away/
CATEGORIES:Athletics Calendar,Girls Varsity Squash
END:VEVENT
BEGIN:VEVENT
DTSTART;TZID=America/New_York:20260204T163000
DTEND;TZID=America/New_York:20260204T183000
DTSTAMP:20260426T000559
CREATED:20251107T153616Z
LAST-MODIFIED:20251118T022812Z
UID:10011525-1770222600-1770229800@concordacademy.org
SUMMARY:Girls Junior Varsity Basketball vs Portsmouth Abbey School (Away)
DESCRIPTION:\n\nEVENT DETAILS\n\nOpponent: Portsmouth Abbey School\nHome/Away: Away\nLocation: Portsmouth Abbey School\nShuttle At: 1:50 p.m.\nExcused At: 1:40 p.m.\nEstimated Return Time: 8:00 p.m.
URL:https://concordacademy.org/event/girls-junior-varisty-basketball-vs-portsmouth-abbey-school-away/
CATEGORIES:Athletics Calendar,Girls Junior Varsity Basketball
END:VEVENT
BEGIN:VEVENT
DTSTART;TZID=America/New_York:20260205T170000
DTEND;TZID=America/New_York:20260205T183000
DTSTAMP:20260426T000559
CREATED:20251107T152714Z
LAST-MODIFIED:20260207T013604Z
UID:10011481-1770310800-1770316200@concordacademy.org
SUMMARY:Girls Varsity Squash vs Buckingham Browne & Nichols (Home)
DESCRIPTION:\n\nEVENT DETAILS\n\nOpponent: Buckingham Browne &amp; Nichols\nHome/Away: Home\nLocation: SHAC\nResult: W 6-1
URL:https://concordacademy.org/event/girls-varsity-squash-vs-buckingham-browne-nichols-home-2/
CATEGORIES:Athletics Calendar,Girls Varsity Squash
END:VEVENT
BEGIN:VEVENT
DTSTART;TZID=America/New_York:20260206T163000
DTEND;TZID=America/New_York:20260206T183000
DTSTAMP:20260426T000559
CREATED:20251107T152356Z
LAST-MODIFIED:20260207T013345Z
UID:10011499-1770395400-1770402600@concordacademy.org
SUMMARY:Girls Varsity Basketball vs Winsor School (Away)
DESCRIPTION:\n\nEVENT DETAILS\n\nOpponent: Winsor School\nHome/Away: Away\nLocation: Winsor School\nResult: W 45-31\nShuttle At: 2:35 p.m.\nExcused At: 2:15 PM\nEstimated Return Time: 7:15 p.m.
URL:https://concordacademy.org/event/girls-varsity-basketball-vs-winsor-school-away-2/
CATEGORIES:Athletics Calendar,Girls Varsity Basketball
END:VEVENT
BEGIN:VEVENT
DTSTART;TZID=America/New_York:20260206T163000
DTEND;TZID=America/New_York:20260206T183000
DTSTAMP:20260426T000559
CREATED:20251107T152709Z
LAST-MODIFIED:20251204T223808Z
UID:10011444-1770395400-1770402600@concordacademy.org
SUMMARY:Boys Junior Varsity Basketball vs Pingree School (Home)
DESCRIPTION:\n\nEVENT DETAILS\n\nOpponent: Pingree School\nHome/Away: Home\nLocation: SHAC
URL:https://concordacademy.org/event/boys-junior-varsity-basketball-vs-pingree-school-home/
CATEGORIES:Athletics Calendar,Boys Junior Varsity Basketball
END:VEVENT
BEGIN:VEVENT
DTSTART;TZID=America/New_York:20260206T163000
DTEND;TZID=America/New_York:20260206T183000
DTSTAMP:20260426T000559
CREATED:20251107T153614Z
LAST-MODIFIED:20260207T013845Z
UID:10011526-1770395400-1770402600@concordacademy.org
SUMMARY:Girls Junior Varsity Basketball vs Winsor School (Away)
DESCRIPTION:\n\nEVENT DETAILS\n\nOpponent: Winsor School\nHome/Away: Away\nLocation: Winsor School\nShuttle At: 2:35 p.m.\nEstimated Return Time: 7:15 p.m.
URL:https://concordacademy.org/event/girls-junior-varisty-basketball-vs-winsor-school-away/
CATEGORIES:Athletics Calendar,Girls Junior Varsity Basketball
END:VEVENT
BEGIN:VEVENT
DTSTART;TZID=America/New_York:20260206T163000
DTEND;TZID=America/New_York:20260206T183000
DTSTAMP:20260426T000559
CREATED:20251107T154055Z
LAST-MODIFIED:20260206T191613Z
UID:10011535-1770395400-1770402600@concordacademy.org
SUMMARY:Boys Alpine Skiing vs Central Mass Ski League (Away)
DESCRIPTION:\n\nEVENT DETAILS\n\nOpponent: Central Mass Ski League\nHome/Away: Away\nLocation: Wachusett Mountain\nShuttle At: 2:25 PM\nExcused At: 2:15 PM\nEstimated Return Time: 7:30 p.m.
URL:https://concordacademy.org/event/boys-alpine-skiing-vs-central-mass-ski-league-away-2/
CATEGORIES:Athletics Calendar,Boys Alpine Skiing
END:VEVENT
BEGIN:VEVENT
DTSTART;TZID=America/New_York:20260206T163000
DTEND;TZID=America/New_York:20260206T183000
DTSTAMP:20260426T000559
CREATED:20251107T154055Z
LAST-MODIFIED:20260206T191448Z
UID:10011542-1770395400-1770402600@concordacademy.org
SUMMARY:Girls Alpine Skiing vs Central Mass Ski League (Away)
DESCRIPTION:\n\nEVENT DETAILS\n\nOpponent: Central Mass Ski League\nHome/Away: Away\nLocation: Wachusett Mountain\nShuttle At: 2:25 PM\nExcused At: 2:15 PM\nEstimated Return Time: 7:30 p.m.
URL:https://concordacademy.org/event/girls-alpine-skiing-vs-central-mass-ski-league-away-2/
CATEGORIES:Athletics Calendar,Girls Alpine Skiing
END:VEVENT
BEGIN:VEVENT
DTSTART;TZID=America/New_York:20260206T170000
DTEND;TZID=America/New_York:20260206T190000
DTSTAMP:20260426T000559
CREATED:20251107T152712Z
LAST-MODIFIED:20260207T014119Z
UID:10011460-1770397200-1770404400@concordacademy.org
SUMMARY:Boys Varsity Squash vs Brooks School (Home)
DESCRIPTION:\n\nEVENT DETAILS\n\nOpponent: Brooks School\nHome/Away: Home\nLocation: SHAC\nResult: W 5-2
URL:https://concordacademy.org/event/boys-varsity-squash-vs-brooks-school-home/
CATEGORIES:Athletics Calendar,Boys Varsity Squash
END:VEVENT
BEGIN:VEVENT
DTSTART;VALUE=DATE:20260207
DTEND;VALUE=DATE:20260208
DTSTAMP:20260426T000559
CREATED:20251107T153718Z
LAST-MODIFIED:20260205T215557Z
UID:10011515-1770422400-1770508799@concordacademy.org
SUMMARY:All-Gender Varsity Wrestling EIL Tournament
DESCRIPTION:\n\nEVENT DETAILS\n\nOpponent: EILs\nHome/Away: Away\nLocation: Eagle Hill School\nShuttle At: 7:15 am (arrive to CA by 7:00 a.m.)\nEstimated Return Time: 6:00 PM
URL:https://concordacademy.org/event/all-gender-varsity-wrestling-nepsac-tournament/
CATEGORIES:All-Gender Varsity Wrestling,Athletics Calendar
END:VEVENT
END:VCALENDAR