BEGIN:VCALENDAR
VERSION:2.0
PRODID:-//Concord Academy - ECPv6.15.17.1//NONSGML v1.0//EN
CALSCALE:GREGORIAN
METHOD:PUBLISH
X-WR-CALNAME:Concord Academy
X-ORIGINAL-URL:https://concordacademy.org
X-WR-CALDESC:Events for Concord Academy
REFRESH-INTERVAL;VALUE=DURATION:PT1H
X-Robots-Tag:noindex
X-PUBLISHED-TTL:PT1H
BEGIN:VTIMEZONE
TZID:America/New_York
BEGIN:DAYLIGHT
TZOFFSETFROM:-0500
TZOFFSETTO:-0400
TZNAME:EDT
DTSTART:20240310T070000
END:DAYLIGHT
BEGIN:STANDARD
TZOFFSETFROM:-0400
TZOFFSETTO:-0500
TZNAME:EST
DTSTART:20241103T060000
END:STANDARD
BEGIN:DAYLIGHT
TZOFFSETFROM:-0500
TZOFFSETTO:-0400
TZNAME:EDT
DTSTART:20250309T070000
END:DAYLIGHT
BEGIN:STANDARD
TZOFFSETFROM:-0400
TZOFFSETTO:-0500
TZNAME:EST
DTSTART:20251102T060000
END:STANDARD
BEGIN:DAYLIGHT
TZOFFSETFROM:-0500
TZOFFSETTO:-0400
TZNAME:EDT
DTSTART:20260308T070000
END:DAYLIGHT
BEGIN:STANDARD
TZOFFSETFROM:-0400
TZOFFSETTO:-0500
TZNAME:EST
DTSTART:20261101T060000
END:STANDARD
END:VTIMEZONE
BEGIN:VEVENT
DTSTART;TZID=America/New_York:20251205T160000
DTEND;TZID=America/New_York:20251205T180000
DTSTAMP:20260425T115729
CREATED:20251107T151320Z
LAST-MODIFIED:20251207T133926Z
UID:10011395-1764950400-1764957600@concordacademy.org
SUMMARY:Boys Varsity Basketball vs Beaver Country Day (Home)
DESCRIPTION:\n\nEVENT DETAILS\n\nOpponent: Beaver Country Day School\nHome/Away: Home\nLocation: SHAC\nResult: L 50-52
URL:https://concordacademy.org/event/boys-varsity-basketball-vs-buckingham-browne-nichols-home-scrimmage-2/
CATEGORIES:Athletics Calendar,Boys Varsity Basketball
END:VEVENT
BEGIN:VEVENT
DTSTART;TZID=America/New_York:20251205T160000
DTEND;TZID=America/New_York:20251205T180000
DTSTAMP:20260425T115729
CREATED:20251107T152709Z
LAST-MODIFIED:20260112T234301Z
UID:10011434-1764950400-1764957600@concordacademy.org
SUMMARY:Boys Junior Varsity Basketball vs Beaver Country Day School (Home)
DESCRIPTION:\n\nEVENT DETAILS\n\nOpponent: Beaver Country Day\nHome/Away: Home\nLocation: SHAC\nResult: W 51-41
URL:https://concordacademy.org/event/boys-junior-varsity-basketball-vs-st-marks-school-home/
CATEGORIES:Athletics Calendar,Boys Junior Varsity Basketball
END:VEVENT
BEGIN:VEVENT
DTSTART;TZID=America/New_York:20251205T160000
DTEND;TZID=America/New_York:20251205T180000
DTSTAMP:20260425T115729
CREATED:20251107T153720Z
LAST-MODIFIED:20251209T154723Z
UID:10011501-1764950400-1764957600@concordacademy.org
SUMMARY:All-Gender Varsity Wrestling vs Middlesex School with Milton Acacdemy (Home)
DESCRIPTION:\n\nEVENT DETAILS\n\nOpponent: Middlesex School with Milton Acacdemy\nHome/Away: Home\nLocation: SHAC\nResult: Win 48-33 vs. Middlesex; W 54-22 vs. Milton
URL:https://concordacademy.org/event/all-gender-varsity-wrestling-vs-middlesex-school-with-milton-acacdemy-home/
CATEGORIES:All-Gender Varsity Wrestling,Athletics Calendar
END:VEVENT
BEGIN:VEVENT
DTSTART;TZID=America/New_York:20251205T160000
DTEND;TZID=America/New_York:20251205T183000
DTSTAMP:20260425T115729
CREATED:20251107T152710Z
LAST-MODIFIED:20251207T135525Z
UID:10011450-1764950400-1764959400@concordacademy.org
SUMMARY:Boys Varsity Squash vs Wheeler School (Away)
DESCRIPTION:\n\nEVENT DETAILS\n\nOpponent: Wheeler School\nHome/Away: Away\nLocation: Agawam Hunt Club\nResult: W 7-0\nShuttle At: 2:00 p.m.\nExcused At: 1:45 PM\nEstimated Return Time: 7:30 p.m.
URL:https://concordacademy.org/event/boys-varsity-squash-vs-wheeler-school-away-2/
CATEGORIES:Athletics Calendar,Boys Varsity Squash
END:VEVENT
BEGIN:VEVENT
DTSTART;TZID=America/New_York:20251205T170000
DTEND;TZID=America/New_York:20251205T190000
DTSTAMP:20260425T115729
CREATED:20251107T152357Z
LAST-MODIFIED:20251207T135247Z
UID:10011415-1764954000-1764961200@concordacademy.org
SUMMARY:Girls Varsity Basketball vs Middlesex School (Away)
DESCRIPTION:\n\nEVENT DETAILS\n\nOpponent: Middlesex School\nHome/Away: Away\nLocation: Middlesex School\nResult: W 41-29\nShuttle At: 4:00 p.m.\nEstimated Return Time: 7:00 p.m.
URL:https://concordacademy.org/event/girls-varsity-basketball-vs-middlesex-school-away-2/
CATEGORIES:Athletics Calendar,Girls Varsity Basketball
END:VEVENT
BEGIN:VEVENT
DTSTART;TZID=America/New_York:20251205T170000
DTEND;TZID=America/New_York:20251205T190000
DTSTAMP:20260425T115729
CREATED:20251107T152713Z
LAST-MODIFIED:20251208T012235Z
UID:10011470-1764954000-1764961200@concordacademy.org
SUMMARY:Girls Varsity Squash vs Pomfret School (Home)
DESCRIPTION:\n\nEVENT DETAILS\n\nOpponent: Pomfret School\nHome/Away: Home\nLocation: SHAC\nResult: W 5-2
URL:https://concordacademy.org/event/girls-varsity-squash-vs-pomfret-school-home/
CATEGORIES:Athletics Calendar,Girls Varsity Squash
END:VEVENT
BEGIN:VEVENT
DTSTART;TZID=America/New_York:20251207T091500
DTEND;TZID=America/New_York:20251207T110000
DTSTAMP:20260425T115729
CREATED:20251107T151319Z
LAST-MODIFIED:20251207T170928Z
UID:10011396-1765098900-1765105200@concordacademy.org
SUMMARY:Boys Varsity Basketball vs Brooks School  (Away)
DESCRIPTION:\n\nEVENT DETAILS\n\nOpponent: Brooks School (ZG Tournament)\nHome/Away: Away\nLocation: Dana Barros Center\nResult: W 53-50\nShuttle At: 7:30 a.m.\nEstimated Return Time: 12:00 p.m.
URL:https://concordacademy.org/event/boys-varsity-basketball-vs-brooks-school-zg-tournament-away/
CATEGORIES:Athletics Calendar,Boys Varsity Basketball
END:VEVENT
END:VCALENDAR