BEGIN:VCALENDAR
VERSION:2.0
PRODID:-//Concord Academy - ECPv6.15.17.1//NONSGML v1.0//EN
CALSCALE:GREGORIAN
METHOD:PUBLISH
X-WR-CALNAME:Concord Academy
X-ORIGINAL-URL:https://concordacademy.org
X-WR-CALDESC:Events for Concord Academy
REFRESH-INTERVAL;VALUE=DURATION:PT1H
X-Robots-Tag:noindex
X-PUBLISHED-TTL:PT1H
BEGIN:VTIMEZONE
TZID:America/New_York
BEGIN:DAYLIGHT
TZOFFSETFROM:-0500
TZOFFSETTO:-0400
TZNAME:EDT
DTSTART:20240310T070000
END:DAYLIGHT
BEGIN:STANDARD
TZOFFSETFROM:-0400
TZOFFSETTO:-0500
TZNAME:EST
DTSTART:20241103T060000
END:STANDARD
BEGIN:DAYLIGHT
TZOFFSETFROM:-0500
TZOFFSETTO:-0400
TZNAME:EDT
DTSTART:20250309T070000
END:DAYLIGHT
BEGIN:STANDARD
TZOFFSETFROM:-0400
TZOFFSETTO:-0500
TZNAME:EST
DTSTART:20251102T060000
END:STANDARD
BEGIN:DAYLIGHT
TZOFFSETFROM:-0500
TZOFFSETTO:-0400
TZNAME:EDT
DTSTART:20260308T070000
END:DAYLIGHT
BEGIN:STANDARD
TZOFFSETFROM:-0400
TZOFFSETTO:-0500
TZNAME:EST
DTSTART:20261101T060000
END:STANDARD
END:VTIMEZONE
BEGIN:VEVENT
DTSTART;TZID=America/New_York:20250414T160000
DTEND;TZID=America/New_York:20250414T180000
DTSTAMP:20260420T054956
CREATED:20250304T021407Z
LAST-MODIFIED:20250415T130703Z
UID:10011021-1744646400-1744653600@concordacademy.org
SUMMARY:Boys Varsity Baseball vs Boston Trinity Academy (Boston Trinity Academy)
DESCRIPTION:\n\nEVENT DETAILS\n\nOpponent: Boston Trinity Academy\nHome/Away: Away\nLocation: Boston Trinity Academy\nResult: W 10-6\nShuttle At: 2:35 PM\nExcused At: 2:20 PM\nEstimated Return Time: 6:45 PM
URL:https://concordacademy.org/event/boys-varsity-baseball-vs-boston-trinity-academy-boston-trinity-academy/
CATEGORIES:Athletics Calendar,Boys Varsity Baseball
END:VEVENT
BEGIN:VEVENT
DTSTART;TZID=America/New_York:20250414T160000
DTEND;TZID=America/New_York:20250414T180000
DTSTAMP:20260420T054956
CREATED:20250304T021407Z
LAST-MODIFIED:20250415T131303Z
UID:10010996-1744646400-1744653600@concordacademy.org
SUMMARY:All-Gender Varsity Ultimate Frisbee vs Beaver Country Day School (Main Campus)
DESCRIPTION:\n\nEVENT DETAILS\n\nOpponent: Beaver Country Day School\nHome/Away: Home\nLocation: Main Campus\nResult: W 15-4
URL:https://concordacademy.org/event/all-gender-ultimate-frisbee-vs-beaver-country-day-school-moriarty-athletic-campus/
CATEGORIES:All-Gender Varsity Ultimate Frisbee,Athletics Calendar
END:VEVENT
BEGIN:VEVENT
DTSTART;TZID=America/New_York:20250414T160000
DTEND;TZID=America/New_York:20250414T180000
DTSTAMP:20260420T054956
CREATED:20250304T021408Z
LAST-MODIFIED:20250415T131537Z
UID:10010915-1744646400-1744653600@concordacademy.org
SUMMARY:Boys Varsity Tennis vs Dexter Southfield School (Moriarty Athletic Campus)
DESCRIPTION:\n\nEVENT DETAILS\n\nOpponent: Dexter Southfield School\nHome/Away: Home\nLocation: Moriarty Athletic Campus\nResult: W 4-1\nShuttle At: 3:00 PM shuttle\nExcused At: 2:45 PM
URL:https://concordacademy.org/event/boys-varsity-tennis-vs-dexter-southfield-school-moriarty-athletic-campus/
CATEGORIES:Athletics Calendar,Boys Varsity Tennis
END:VEVENT
BEGIN:VEVENT
DTSTART;TZID=America/New_York:20250414T160000
DTEND;TZID=America/New_York:20250414T180000
DTSTAMP:20260420T054956
CREATED:20250411T024559Z
LAST-MODIFIED:20250415T131700Z
UID:10011048-1744646400-1744653600@concordacademy.org
SUMMARY:Boys Varsity Lacrosse vs Lexington Christian Academy (Moriarty Athletic Campus)
DESCRIPTION:\n\nEVENT DETAILS\n\nOpponent: Lexington Christian Academy\nHome/Away: Home\nLocation: Moriarty Athletic Campus\nResult: W 13-4\nTransportation: 3:00 pm shuttle\nExcused At: 2:45 PM
URL:https://concordacademy.org/event/boys-varsity-lacrosse-vs-lca/
CATEGORIES:Athletics Calendar,Boys Varsity Lacrosse
END:VEVENT
BEGIN:VEVENT
DTSTART;TZID=America/New_York:20250414T161500
DTEND;TZID=America/New_York:20250414T174500
DTSTAMP:20260420T054956
CREATED:20250304T021407Z
LAST-MODIFIED:20250415T131906Z
UID:10010972-1744647300-1744652700@concordacademy.org
SUMMARY:Girls Varsity Lacrosse vs Newton Country Day School (@ Newton Country Day)
DESCRIPTION:\n\nEVENT DETAILS\n\nOpponent: Newton Country Day School\nHome/Away: Away\nLocation: Newton Country Day School\nResult: L 5-16\nShuttle At: 2:45 PM\nExcused At: 2:30 PM\nEstimated Return Time: 6:30 PM
URL:https://concordacademy.org/event/girls-varsity-lacrosse-vs-newton-country-day-school-newton-country-day-school/
CATEGORIES:Athletics Calendar,Girls Varsity Lacrosse
END:VEVENT
BEGIN:VEVENT
DTSTART;TZID=America/New_York:20250414T161500
DTEND;TZID=America/New_York:20250414T181500
DTSTAMP:20260420T054956
CREATED:20250304T021407Z
LAST-MODIFIED:20250415T132112Z
UID:10010941-1744647300-1744654500@concordacademy.org
SUMMARY:Girls Varsity Tennis vs Newton Country Day School (Regis College\, Weston\, Ma)
DESCRIPTION:\n\nEVENT DETAILS\n\nOpponent: Newton Country Day School\nHome/Away: Away\nLocation: Regis College  - 235 Wellesley Street, Weston MA\nResult: W 3-2\nShuttle At: 3:00 PM\nExcused At: 2:45 PM\nEstimated Return Time: 6:45 PM
URL:https://concordacademy.org/event/girls-varsity-tennis-vs-newton-country-day-school-newton-country-day-school/
CATEGORIES:Athletics Calendar,Girls Varsity Tennis
END:VEVENT
BEGIN:VEVENT
DTSTART;TZID=America/New_York:20250414T161500
DTEND;TZID=America/New_York:20250414T181500
DTSTAMP:20260420T054956
CREATED:20250304T021407Z
LAST-MODIFIED:20250415T132021Z
UID:10010900-1744647300-1744654500@concordacademy.org
SUMMARY:Girls Varsity Softball vs Newton Country Day School (@ Newton Country Day)
DESCRIPTION:\n\nEVENT DETAILS\n\nOpponent: Newton Country Day School\nHome/Away: Away\nLocation: Newton Country Day School\nResult: L 2-17\nShuttle At: 2:45\nExcused At: 2:30 PM\nEstimated Return Time: 6:45 PM
URL:https://concordacademy.org/event/girls-varsity-softball-vs-newton-country-day-school-newton-country-day-school/
CATEGORIES:Athletics Calendar,Girls Varsity Softball
END:VEVENT
BEGIN:VEVENT
DTSTART;TZID=America/New_York:20250414T170000
DTEND;TZID=America/New_York:20250414T183000
DTSTAMP:20260420T054956
CREATED:20250304T021407Z
LAST-MODIFIED:20250415T132414Z
UID:10010931-1744650000-1744655400@concordacademy.org
SUMMARY:Boys Junior Varsity Tennis vs Dexter Southfield School (Moriarty Athletic Campus)
DESCRIPTION:\n\nEVENT DETAILS\n\nOpponent: Dexter Southfield School\nHome/Away: Home\nLocation: Moriarty Athletic Campus\nResult: L 2-4 \nShuttle At: 4:20 shuttle
URL:https://concordacademy.org/event/boys-junior-varsity-tennis-vs-dexter-southfield-school-moriarty-athletic-campus/
CATEGORIES:Athletics Calendar,Boys Junior Varsity Tennis
END:VEVENT
BEGIN:VEVENT
DTSTART;TZID=America/New_York:20250415T161500
DTEND;TZID=America/New_York:20250415T181500
DTSTAMP:20260420T054956
CREATED:20250304T021406Z
LAST-MODIFIED:20250325T003618Z
UID:10010997-1744733700-1744740900@concordacademy.org
SUMMARY:All-Gender Varsity Ultimate Frisbee vs St. Sebastians School (Main Campus)
DESCRIPTION:\n\nEVENT DETAILS\n\nOpponent: St. Sebastians School\nHome/Away: Home\nLocation: Main Campus
URL:https://concordacademy.org/event/all-gender-ultimate-frisbee-vs-st-sebastians-school-moriarty-athletic-campus/
CATEGORIES:All-Gender Varsity Ultimate Frisbee,Athletics Calendar
END:VEVENT
BEGIN:VEVENT
DTSTART;TZID=America/New_York:20250416T153000
DTEND;TZID=America/New_York:20250416T183000
DTSTAMP:20260420T054956
CREATED:20250304T021406Z
LAST-MODIFIED:20250421T152917Z
UID:10010986-1744817400-1744828200@concordacademy.org
SUMMARY:Track and Field vs Andover & St. Pauls (Andover)
DESCRIPTION:\n\nEVENT DETAILS\n\nOpponent: Andover &amp; St. Pauls\nHome/Away: Away\nLocation: Andover\nShuttle At: 1:45 PM\nExcused At: 1:30 PM\nEstimated Return Time: 7:15 PM
URL:https://concordacademy.org/event/track-and-field-vs-andover-st-pauls-andover/
CATEGORIES:Athletics Calendar,Boys Varsity Track & Field,Girls Varsity Track & Field
END:VEVENT
BEGIN:VEVENT
DTSTART;TZID=America/New_York:20250416T154500
DTEND;TZID=America/New_York:20250416T171500
DTSTAMP:20260420T054956
CREATED:20250304T021405Z
LAST-MODIFIED:20250417T182528Z
UID:10010973-1744818300-1744823700@concordacademy.org
SUMMARY:Girls Varsity Lacrosse vs Berwick Academy (Berwick Academy)
DESCRIPTION:\n\nEVENT DETAILS\n\nOpponent: Berwick Academy\nHome/Away: Away\nLocation: Berwick Academy\nResult: L 7-18\nShuttle At: 1:30 PM\nExcused At: 1:15 PM\nEstimated Return Time: 7:00 PM
URL:https://concordacademy.org/event/girls-varsity-lacrosse-vs-berwick-academy-berwick-academy/
CATEGORIES:Athletics Calendar,Girls Varsity Lacrosse
END:VEVENT
BEGIN:VEVENT
DTSTART;TZID=America/New_York:20250416T160000
DTEND;TZID=America/New_York:20250416T173000
DTSTAMP:20260420T054956
CREATED:20250304T021406Z
LAST-MODIFIED:20250417T182715Z
UID:10010957-1744819200-1744824600@concordacademy.org
SUMMARY:Boys Varsity Lacrosse vs Marianapolis Preparatory School (Moriarty Athletic Campus)
DESCRIPTION:\n\nEVENT DETAILS\n\nOpponent: Marianapolis Preparatory School\nHome/Away: Home\nLocation: Moriarty Athletic Campus\nResult: L 5-7\nShuttle At: 3:00 PM shuttle
URL:https://concordacademy.org/event/boys-varsity-lacrosse-vs-marianapolis-preparatory-school-moriarty-athletic-campus/
CATEGORIES:Athletics Calendar,Boys Varsity Lacrosse
END:VEVENT
BEGIN:VEVENT
DTSTART;TZID=America/New_York:20250416T160000
DTEND;TZID=America/New_York:20250416T173000
DTSTAMP:20260420T054956
CREATED:20250304T021406Z
LAST-MODIFIED:20250417T182602Z
UID:10010916-1744819200-1744824600@concordacademy.org
SUMMARY:Boys Varsity Tennis vs Pingree School (Moriarty Athletic Campus)
DESCRIPTION:\n\nEVENT DETAILS\n\nOpponent: Pingree School\nHome/Away: Home\nLocation: Moriarty Athletic Campus\nResult: W 3-2\nShuttle At: 3:00 PM shuttle
URL:https://concordacademy.org/event/boys-varsity-tennis-vs-pingree-school-moriarty-athletic-campus/
CATEGORIES:Athletics Calendar,Boys Varsity Tennis
END:VEVENT
BEGIN:VEVENT
DTSTART;TZID=America/New_York:20250416T160000
DTEND;TZID=America/New_York:20250416T180000
DTSTAMP:20260420T054956
CREATED:20250304T021406Z
LAST-MODIFIED:20251008T132454Z
UID:10011009-1744819200-1744826400@concordacademy.org
SUMMARY:All-Gender Varsity Sailing vs Dover (Sherborn High School)
DESCRIPTION:\n\nEVENT DETAILS\n\nOpponent: Dover-Sherborn RHS\nHome/Away: Away\nLocation: Lake Massapoug, Sharon Ma\nShuttle At: 2:30 PM ( leave school for ride to practice on lake )\nExcused At: 2:15 PM\nEstimated Return Time: 5:30 pm  -Return from practice 
URL:https://concordacademy.org/event/all-gender-varsity-sailing-vs-dover-sherborn-rhs-lake-massapoug-sharon-ma/
CATEGORIES:All-Gender Varsity Sailing,Athletics Calendar
END:VEVENT
BEGIN:VEVENT
DTSTART;TZID=America/New_York:20250416T160000
DTEND;TZID=America/New_York:20250416T180000
DTSTAMP:20260420T054956
CREATED:20250304T021406Z
LAST-MODIFIED:20250417T182829Z
UID:10011022-1744819200-1744826400@concordacademy.org
SUMMARY:Boys Varsity Baseball vs Beaver Country Day School (Moriarty Athletic Campus)
DESCRIPTION:\n\nEVENT DETAILS\n\nOpponent: Beaver Country Day School\nHome/Away: Home\nLocation: Moriarty Athletic Campus\nResult: L 7-9\nShuttle At: 2:45 PM shuttle\nExcused At: 2:30 PM
URL:https://concordacademy.org/event/boys-varsity-baseball-vs-beaver-country-day-school-moriarty-athletic-campus/
CATEGORIES:Athletics Calendar,Boys Varsity Baseball
END:VEVENT
BEGIN:VEVENT
DTSTART;TZID=America/New_York:20250416T161500
DTEND;TZID=America/New_York:20250416T181500
DTSTAMP:20260420T054956
CREATED:20250304T021405Z
LAST-MODIFIED:20250417T182911Z
UID:10010901-1744820100-1744827300@concordacademy.org
SUMMARY:Girls Varsity Softball vs Winsor School (Winsor School)
DESCRIPTION:\n\nEVENT DETAILS\n\nOpponent: Winsor School\nHome/Away: Away\nLocation: Winsor School\nResult: W 17-5\nShuttle At: 2:30 PM\nExcused At: 2:15 PM\nEstimated Return Time: 7:00 PM
URL:https://concordacademy.org/event/girls-varsity-softball-vs-winsor-school-winsor-school/
CATEGORIES:Athletics Calendar,Girls Varsity Softball
END:VEVENT
BEGIN:VEVENT
DTSTART;TZID=America/New_York:20250416T170000
DTEND;TZID=America/New_York:20250416T183000
DTSTAMP:20260420T054956
CREATED:20250304T021405Z
LAST-MODIFIED:20250417T183024Z
UID:10010932-1744822800-1744828200@concordacademy.org
SUMMARY:Boys Junior Varsity Tennis vs Pingree School (Moriarty Athletic Campus)
DESCRIPTION:\n\nEVENT DETAILS\n\nOpponent: Pingree School\nHome/Away: Home\nLocation: Moriarty Athletic Campus\nResult: W 4-1\nShuttle At: 4:20 shuttle
URL:https://concordacademy.org/event/boys-junior-varsity-tennis-vs-pingree-school-moriarty-athletic-campus/
CATEGORIES:Athletics Calendar,Boys Junior Varsity Tennis
END:VEVENT
END:VCALENDAR