BEGIN:VCALENDAR
VERSION:2.0
PRODID:-//Concord Academy - ECPv6.15.17.1//NONSGML v1.0//EN
CALSCALE:GREGORIAN
METHOD:PUBLISH
X-ORIGINAL-URL:https://concordacademy.org
X-WR-CALDESC:Events for Concord Academy
REFRESH-INTERVAL;VALUE=DURATION:PT1H
X-Robots-Tag:noindex
X-PUBLISHED-TTL:PT1H
BEGIN:VTIMEZONE
TZID:America/New_York
BEGIN:DAYLIGHT
TZOFFSETFROM:-0500
TZOFFSETTO:-0400
TZNAME:EDT
DTSTART:20250309T070000
END:DAYLIGHT
BEGIN:STANDARD
TZOFFSETFROM:-0400
TZOFFSETTO:-0500
TZNAME:EST
DTSTART:20251102T060000
END:STANDARD
BEGIN:DAYLIGHT
TZOFFSETFROM:-0500
TZOFFSETTO:-0400
TZNAME:EDT
DTSTART:20260308T070000
END:DAYLIGHT
BEGIN:STANDARD
TZOFFSETFROM:-0400
TZOFFSETTO:-0500
TZNAME:EST
DTSTART:20261101T060000
END:STANDARD
BEGIN:DAYLIGHT
TZOFFSETFROM:-0500
TZOFFSETTO:-0400
TZNAME:EDT
DTSTART:20270314T070000
END:DAYLIGHT
BEGIN:STANDARD
TZOFFSETFROM:-0400
TZOFFSETTO:-0500
TZNAME:EST
DTSTART:20271107T060000
END:STANDARD
END:VTIMEZONE
BEGIN:VEVENT
DTSTART;VALUE=DATE:20260516
DTEND;VALUE=DATE:20260517
DTSTAMP:20260424T135013
CREATED:20260302T145857Z
LAST-MODIFIED:20260306T122232Z
UID:10011697-1778889600-1778975999@concordacademy.org
SUMMARY:Varsity Track & Field vs NEPSTA Championships (Away)
DESCRIPTION:\n\nEVENT DETAILS\n\nOpponent: NEPSTA Championships\nHome/Away: Away\nLocation: Regis College
URL:https://concordacademy.org/event/varsity-track-field-vs-nepsta-championships-away/
CATEGORIES:Athletics Calendar,Boys Varsity Track & Field,Girls Varsity Track & Field
END:VEVENT
BEGIN:VEVENT
DTSTART;VALUE=DATE:20260516
DTEND;VALUE=DATE:20260517
DTSTAMP:20260424T135013
CREATED:20260302T150352Z
LAST-MODIFIED:20260306T122232Z
UID:10011714-1778889600-1778975999@concordacademy.org
SUMMARY:All-Gender Varsity Ultimate Frisbee vs NEPSUL Tournament (Away)
DESCRIPTION:\n\nEVENT DETAILS\n\nOpponent: NEPSUL Tournament\nHome/Away: Away\nLocation: Northfield Mount Hermon School
URL:https://concordacademy.org/event/all-gender-varsity-ultimate-frisbee-vs-nepsul-tournament-away/
CATEGORIES:All-Gender Varsity Ultimate Frisbee,Athletics Calendar
END:VEVENT
BEGIN:VEVENT
DTSTART;TZID=America/New_York:20260516T163000
DTEND;TZID=America/New_York:20260516T180000
DTSTAMP:20260424T135013
CREATED:20260302T152144Z
LAST-MODIFIED:20260306T122232Z
UID:10011736-1778949000-1778954400@concordacademy.org
SUMMARY:Boys Varsity Baseball vs EIL Tournament
DESCRIPTION:\n\nEVENT DETAILS\n\nHome/Away: Home
URL:https://concordacademy.org/event/boys-varsity-baseball-vs-eil-tournament/
CATEGORIES:Athletics Calendar,Boys Varsity Baseball
END:VEVENT
BEGIN:VEVENT
DTSTART;VALUE=DATE:20260517
DTEND;VALUE=DATE:20260518
DTSTAMP:20260424T135013
CREATED:20260302T144650Z
LAST-MODIFIED:20260306T122232Z
UID:10011662-1778976000-1779062399@concordacademy.org
SUMMARY:Girls Varsity Tennis vs NEPSAC
DESCRIPTION:\n\nEVENT DETAILS\n\nOpponent: NEPSAC
URL:https://concordacademy.org/event/girls-varsity-tennis-vs-nepsac-2/
CATEGORIES:Athletics Calendar,Girls Varsity Tennis
END:VEVENT
BEGIN:VEVENT
DTSTART;VALUE=DATE:20260517
DTEND;VALUE=DATE:20260518
DTSTAMP:20260424T135013
CREATED:20260302T144938Z
LAST-MODIFIED:20260306T122232Z
UID:10011634-1778976000-1779062399@concordacademy.org
SUMMARY:Boys Varsity Tennis vs NEPSAC (Away)
DESCRIPTION:\n\nEVENT DETAILS\n\nOpponent: NEPSAC\nHome/Away: Away
URL:https://concordacademy.org/event/boys-varsity-tennis-vs-nepsac-away-3/
CATEGORIES:Athletics Calendar,Boys Varsity Tennis
END:VEVENT
END:VCALENDAR