BEGIN:VCALENDAR
VERSION:2.0
PRODID:-//Concord Academy - ECPv6.15.17.1//NONSGML v1.0//EN
CALSCALE:GREGORIAN
METHOD:PUBLISH
X-WR-CALNAME:Concord Academy
X-ORIGINAL-URL:https://concordacademy.org
X-WR-CALDESC:Events for Concord Academy
REFRESH-INTERVAL;VALUE=DURATION:PT1H
X-Robots-Tag:noindex
X-PUBLISHED-TTL:PT1H
BEGIN:VTIMEZONE
TZID:America/New_York
BEGIN:DAYLIGHT
TZOFFSETFROM:-0500
TZOFFSETTO:-0400
TZNAME:EDT
DTSTART:20230312T070000
END:DAYLIGHT
BEGIN:STANDARD
TZOFFSETFROM:-0400
TZOFFSETTO:-0500
TZNAME:EST
DTSTART:20231105T060000
END:STANDARD
BEGIN:DAYLIGHT
TZOFFSETFROM:-0500
TZOFFSETTO:-0400
TZNAME:EDT
DTSTART:20240310T070000
END:DAYLIGHT
BEGIN:STANDARD
TZOFFSETFROM:-0400
TZOFFSETTO:-0500
TZNAME:EST
DTSTART:20241103T060000
END:STANDARD
BEGIN:DAYLIGHT
TZOFFSETFROM:-0500
TZOFFSETTO:-0400
TZNAME:EDT
DTSTART:20250309T070000
END:DAYLIGHT
BEGIN:STANDARD
TZOFFSETFROM:-0400
TZOFFSETTO:-0500
TZNAME:EST
DTSTART:20251102T060000
END:STANDARD
END:VTIMEZONE
BEGIN:VEVENT
DTSTART;VALUE=DATE:20241113
DTEND;VALUE=DATE:20241114
DTSTAMP:20260421T122939
CREATED:20240822T210618Z
LAST-MODIFIED:20241107T203235Z
UID:10010229-1731456000-1731542399@concordacademy.org
SUMMARY:Girls Varsity Soccer NEPSACs
DESCRIPTION: \n\nEVENT DETAILS\n\nOpponent: NEPSACs - CANCELED\nHome/Away: Away\nLocation: TBA
URL:https://concordacademy.org/event/girls-varsity-soccer-nepsacs-away/
CATEGORIES:Athletics Calendar,Girls Varsity Soccer
END:VEVENT
BEGIN:VEVENT
DTSTART;VALUE=DATE:20241116
DTEND;VALUE=DATE:20241117
DTSTAMP:20260421T122939
CREATED:20240822T210618Z
LAST-MODIFIED:20241107T203509Z
UID:10010230-1731715200-1731801599@concordacademy.org
SUMMARY:Girls Varsity Soccer NEPSACs
DESCRIPTION: \n\nEVENT DETAILS\n\nOpponent: NEPSACs - CANCELED\nHome/Away: Away\nLocation: TBA
URL:https://concordacademy.org/event/girls-varsity-soccer-nepsacs-away-2/
CATEGORIES:Athletics Calendar,Girls Varsity Soccer
END:VEVENT
BEGIN:VEVENT
DTSTART;VALUE=DATE:20241117
DTEND;VALUE=DATE:20241118
DTSTAMP:20260421T122939
CREATED:20240822T210618Z
LAST-MODIFIED:20241107T203352Z
UID:10010231-1731801600-1731887999@concordacademy.org
SUMMARY:Girls Varsity Soccer NEPSACs
DESCRIPTION: \n\nEVENT DETAILS\n\nOpponent: NEPSACs - CANCELED\nHome/Away: Away\nLocation: TBA
URL:https://concordacademy.org/event/girls-varsity-soccer-nepsacs-away-3/
CATEGORIES:Athletics Calendar,Girls Varsity Soccer
END:VEVENT
END:VCALENDAR