BEGIN:VCALENDAR
VERSION:2.0
PRODID:-//Concord Academy - ECPv6.15.17.1//NONSGML v1.0//EN
CALSCALE:GREGORIAN
METHOD:PUBLISH
X-ORIGINAL-URL:https://concordacademy.org
X-WR-CALDESC:Events for Concord Academy
REFRESH-INTERVAL;VALUE=DURATION:PT1H
X-Robots-Tag:noindex
X-PUBLISHED-TTL:PT1H
BEGIN:VTIMEZONE
TZID:America/New_York
BEGIN:DAYLIGHT
TZOFFSETFROM:-0500
TZOFFSETTO:-0400
TZNAME:EDT
DTSTART:20230312T070000
END:DAYLIGHT
BEGIN:STANDARD
TZOFFSETFROM:-0400
TZOFFSETTO:-0500
TZNAME:EST
DTSTART:20231105T060000
END:STANDARD
BEGIN:DAYLIGHT
TZOFFSETFROM:-0500
TZOFFSETTO:-0400
TZNAME:EDT
DTSTART:20240310T070000
END:DAYLIGHT
BEGIN:STANDARD
TZOFFSETFROM:-0400
TZOFFSETTO:-0500
TZNAME:EST
DTSTART:20241103T060000
END:STANDARD
BEGIN:DAYLIGHT
TZOFFSETFROM:-0500
TZOFFSETTO:-0400
TZNAME:EDT
DTSTART:20250309T070000
END:DAYLIGHT
BEGIN:STANDARD
TZOFFSETFROM:-0400
TZOFFSETTO:-0500
TZNAME:EST
DTSTART:20251102T060000
END:STANDARD
END:VTIMEZONE
BEGIN:VEVENT
DTSTART;TZID=America/New_York:20241001T160000
DTEND;TZID=America/New_York:20241001T174500
DTSTAMP:20260422T055120
CREATED:20240822T210610Z
LAST-MODIFIED:20241002T125033Z
UID:10010217-1727798400-1727804700@concordacademy.org
SUMMARY:Girls Varsity Soccer vs St. George's (Home)
DESCRIPTION:\n\nEVENT DETAILS\n\nOpponent: St. George's \nHome/Away: Home\nLocation: Moriarty Athletic Campus\nResult: L 0-4\nTransportation: Shuttle\nShuttle At: 3:30 p.m.
URL:https://concordacademy.org/event/girls-varsity-soccer-vs-wheeler-school-home/
LOCATION:Moriarty Athletic Campus\, 153 Fairhaven Rd\, Concord\, MA\, 01742
CATEGORIES:Athletics Calendar,Girls Varsity Soccer
END:VEVENT
BEGIN:VEVENT
DTSTART;TZID=America/New_York:20241004T161500
DTEND;TZID=America/New_York:20241004T181500
DTSTAMP:20260422T055120
CREATED:20240822T210612Z
LAST-MODIFIED:20241005T003445Z
UID:10010218-1728058500-1728065700@concordacademy.org
SUMMARY:Girls Varsity Soccer vs Wheeler School (Away)
DESCRIPTION:\n\nEVENT DETAILS\n\nOpponent: Wheeler School\nHome/Away: Away\nLocation: Wheeler Farms- 640 Prospect St, Seekonk, MA \nResult: W 3-0\nTransportation: Bedford Charter\nShuttle At: 2:15 p.m.\nExcused At: 2:00 p.m
URL:https://concordacademy.org/event/girls-varsity-soccer-vs-wheeler-school-away/
LOCATION:Wheeler School
CATEGORIES:Athletics Calendar,Girls Varsity Soccer
END:VEVENT
END:VCALENDAR