BEGIN:VCALENDAR
VERSION:2.0
PRODID:-//Concord Academy - ECPv6.15.17.1//NONSGML v1.0//EN
CALSCALE:GREGORIAN
METHOD:PUBLISH
X-WR-CALNAME:Concord Academy
X-ORIGINAL-URL:https://concordacademy.org
X-WR-CALDESC:Events for Concord Academy
REFRESH-INTERVAL;VALUE=DURATION:PT1H
X-Robots-Tag:noindex
X-PUBLISHED-TTL:PT1H
BEGIN:VTIMEZONE
TZID:America/New_York
BEGIN:DAYLIGHT
TZOFFSETFROM:-0500
TZOFFSETTO:-0400
TZNAME:EDT
DTSTART:20250309T070000
END:DAYLIGHT
BEGIN:STANDARD
TZOFFSETFROM:-0400
TZOFFSETTO:-0500
TZNAME:EST
DTSTART:20251102T060000
END:STANDARD
BEGIN:DAYLIGHT
TZOFFSETFROM:-0500
TZOFFSETTO:-0400
TZNAME:EDT
DTSTART:20260308T070000
END:DAYLIGHT
BEGIN:STANDARD
TZOFFSETFROM:-0400
TZOFFSETTO:-0500
TZNAME:EST
DTSTART:20261101T060000
END:STANDARD
BEGIN:DAYLIGHT
TZOFFSETFROM:-0500
TZOFFSETTO:-0400
TZNAME:EDT
DTSTART:20270314T070000
END:DAYLIGHT
BEGIN:STANDARD
TZOFFSETFROM:-0400
TZOFFSETTO:-0500
TZNAME:EST
DTSTART:20271107T060000
END:STANDARD
END:VTIMEZONE
BEGIN:VEVENT
DTSTART;TZID=America/New_York:20260406T163000
DTEND;TZID=America/New_York:20260406T180000
DTSTAMP:20260425T212923
CREATED:20260330T154822Z
LAST-MODIFIED:20260412T235518Z
UID:10011745-1775493000-1775498400@concordacademy.org
SUMMARY:Girls Varsity Lacrosse vs Beaver Country Day (Away)
DESCRIPTION:\n\nEVENT DETAILS\n\nOpponent: Beaver Country Day\nHome/Away: Away\nLocation: Beaver Country Day\nResult: L 5-10\nShuttle At: 3:00 p.m.\nExcused At: 2:45 p.m.\nEstimated Return Time: 6:45 PM
URL:https://concordacademy.org/event/girls-varsity-lacrosse-vs-beaver-country-day-away/
CATEGORIES:Athletics Calendar,Girls Varsity Lacrosse
END:VEVENT
BEGIN:VEVENT
DTSTART;TZID=America/New_York:20260408T163000
DTEND;TZID=America/New_York:20260408T180000
DTSTAMP:20260425T212923
CREATED:20260302T145542Z
LAST-MODIFIED:20260412T235621Z
UID:10011677-1775665800-1775671200@concordacademy.org
SUMMARY:Girls Varsity Lacrosse vs Portsmouth Abbey School (Away)
DESCRIPTION:\n\nEVENT DETAILS\n\nOpponent: Portsmouth Abbey School\nHome/Away: Away\nLocation: Portsmouth Abbey School\nResult: L 2-19\nShuttle At: 1:55 p.m.\nExcused At: 1:40 p.m.\nEstimated Return Time: 7:30 p.m.
URL:https://concordacademy.org/event/girls-varsity-lacrosse-vs-portsmouth-abbey-school-away/
CATEGORIES:Athletics Calendar,Girls Varsity Lacrosse
END:VEVENT
BEGIN:VEVENT
DTSTART;TZID=America/New_York:20260410T163000
DTEND;TZID=America/New_York:20260410T180000
DTSTAMP:20260425T212923
CREATED:20260302T145542Z
LAST-MODIFIED:20260412T235729Z
UID:10011678-1775838600-1775844000@concordacademy.org
SUMMARY:Girls Varsity Lacrosse vs St. Andrews School (Home)
DESCRIPTION:\n\nEVENT DETAILS\n\nOpponent: St. Andrews School\nHome/Away: Home\nLocation: Moriarty Athletic Campus\nResult: W 21-5\nTransportation: 3:30 p.m. Shuttle
URL:https://concordacademy.org/event/girls-varsity-lacrosse-vs-st-andrews-school-home/
CATEGORIES:Athletics Calendar,Girls Varsity Lacrosse
END:VEVENT
END:VCALENDAR