BEGIN:VCALENDAR
VERSION:2.0
PRODID:-//Concord Academy - ECPv6.15.17.1//NONSGML v1.0//EN
CALSCALE:GREGORIAN
METHOD:PUBLISH
X-ORIGINAL-URL:https://concordacademy.org
X-WR-CALDESC:Events for Concord Academy
REFRESH-INTERVAL;VALUE=DURATION:PT1H
X-Robots-Tag:noindex
X-PUBLISHED-TTL:PT1H
BEGIN:VTIMEZONE
TZID:America/New_York
BEGIN:DAYLIGHT
TZOFFSETFROM:-0500
TZOFFSETTO:-0400
TZNAME:EDT
DTSTART:20250309T070000
END:DAYLIGHT
BEGIN:STANDARD
TZOFFSETFROM:-0400
TZOFFSETTO:-0500
TZNAME:EST
DTSTART:20251102T060000
END:STANDARD
BEGIN:DAYLIGHT
TZOFFSETFROM:-0500
TZOFFSETTO:-0400
TZNAME:EDT
DTSTART:20260308T070000
END:DAYLIGHT
BEGIN:STANDARD
TZOFFSETFROM:-0400
TZOFFSETTO:-0500
TZNAME:EST
DTSTART:20261101T060000
END:STANDARD
BEGIN:DAYLIGHT
TZOFFSETFROM:-0500
TZOFFSETTO:-0400
TZNAME:EDT
DTSTART:20270314T070000
END:DAYLIGHT
BEGIN:STANDARD
TZOFFSETFROM:-0400
TZOFFSETTO:-0500
TZNAME:EST
DTSTART:20271107T060000
END:STANDARD
END:VTIMEZONE
BEGIN:VEVENT
DTSTART;TZID=America/New_York:20260225T163000
DTEND;TZID=America/New_York:20260225T183000
DTSTAMP:20260419T201006
CREATED:20251107T152355Z
LAST-MODIFIED:20260226T195038Z
UID:10011428-1772037000-1772044200@concordacademy.org
SUMMARY:Girls Varsity Basketball vs Wheeler School (Away)
DESCRIPTION:\n\nEVENT DETAILS\n\nOpponent: Wheeler School\nHome/Away: Away\nLocation: Wheeler School Farms - 640 Prospect St. Seekonk MA.\nResult: L 45-53\nShuttle At: 2:15 PM\nExcused At: 2:00 p.m.\nEstimated Return Time: 7:30 p.m.
URL:https://concordacademy.org/event/girls-varsity-basketball-vs-wheeler-school-away/
CATEGORIES:Athletics Calendar,Girls Varsity Basketball
END:VEVENT
END:VCALENDAR