BEGIN:VCALENDAR
VERSION:2.0
PRODID:-//Concord Academy - ECPv6.15.17.1//NONSGML v1.0//EN
CALSCALE:GREGORIAN
METHOD:PUBLISH
X-ORIGINAL-URL:https://concordacademy.org
X-WR-CALDESC:Events for Concord Academy
REFRESH-INTERVAL;VALUE=DURATION:PT1H
X-Robots-Tag:noindex
X-PUBLISHED-TTL:PT1H
BEGIN:VTIMEZONE
TZID:America/New_York
BEGIN:DAYLIGHT
TZOFFSETFROM:-0500
TZOFFSETTO:-0400
TZNAME:EDT
DTSTART:20250309T070000
END:DAYLIGHT
BEGIN:STANDARD
TZOFFSETFROM:-0400
TZOFFSETTO:-0500
TZNAME:EST
DTSTART:20251102T060000
END:STANDARD
BEGIN:DAYLIGHT
TZOFFSETFROM:-0500
TZOFFSETTO:-0400
TZNAME:EDT
DTSTART:20260308T070000
END:DAYLIGHT
BEGIN:STANDARD
TZOFFSETFROM:-0400
TZOFFSETTO:-0500
TZNAME:EST
DTSTART:20261101T060000
END:STANDARD
BEGIN:DAYLIGHT
TZOFFSETFROM:-0500
TZOFFSETTO:-0400
TZNAME:EDT
DTSTART:20270314T070000
END:DAYLIGHT
BEGIN:STANDARD
TZOFFSETFROM:-0400
TZOFFSETTO:-0500
TZNAME:EST
DTSTART:20271107T060000
END:STANDARD
END:VTIMEZONE
BEGIN:VEVENT
DTSTART;TZID=America/New_York:20260204T163000
DTEND;TZID=America/New_York:20260204T183000
DTSTAMP:20260420T091439
CREATED:20251107T152355Z
LAST-MODIFIED:20260205T033019Z
UID:10011498-1770222600-1770229800@concordacademy.org
SUMMARY:Girls Varsity Basketball vs Portsmouth Abbey School (Away)
DESCRIPTION:\n\nEVENT DETAILS\n\nOpponent: Portsmouth Abbey School\nHome/Away: Away\nLocation: Portsmouth Abbey School\nResult: L 36-47\nShuttle At: 2:00 p.m.\nExcused At: 1:45 p.m.\nEstimated Return Time: 8:00 p.m.
URL:https://concordacademy.org/event/girls-varsity-basketball-vs-portsmouth-abbey-school-away-2/
CATEGORIES:Athletics Calendar,Girls Varsity Basketball
END:VEVENT
BEGIN:VEVENT
DTSTART;TZID=America/New_York:20260206T163000
DTEND;TZID=America/New_York:20260206T183000
DTSTAMP:20260420T091439
CREATED:20251107T152356Z
LAST-MODIFIED:20260207T013345Z
UID:10011499-1770395400-1770402600@concordacademy.org
SUMMARY:Girls Varsity Basketball vs Winsor School (Away)
DESCRIPTION:\n\nEVENT DETAILS\n\nOpponent: Winsor School\nHome/Away: Away\nLocation: Winsor School\nResult: W 45-31\nShuttle At: 2:35 p.m.\nExcused At: 2:15 PM\nEstimated Return Time: 7:15 p.m.
URL:https://concordacademy.org/event/girls-varsity-basketball-vs-winsor-school-away-2/
CATEGORIES:Athletics Calendar,Girls Varsity Basketball
END:VEVENT
BEGIN:VEVENT
DTSTART;TZID=America/New_York:20260210T170000
DTEND;TZID=America/New_York:20260210T190000
DTSTAMP:20260420T091439
CREATED:20251107T152355Z
LAST-MODIFIED:20251107T152355Z
UID:10011500-1770742800-1770750000@concordacademy.org
SUMMARY:Girls Varsity Basketball vs Groton School (Home)
DESCRIPTION:\n\nEVENT DETAILS\n\nOpponent: Groton School\nHome/Away: Home\nLocation: SHAC
URL:https://concordacademy.org/event/girls-varsity-basketball-vs-groton-school-home/
CATEGORIES:Athletics Calendar,Girls Varsity Basketball
END:VEVENT
BEGIN:VEVENT
DTSTART;TZID=America/New_York:20260211T154500
DTEND;TZID=America/New_York:20260211T174500
DTSTAMP:20260420T091439
CREATED:20251107T152355Z
LAST-MODIFIED:20260212T233056Z
UID:10011424-1770824700-1770831900@concordacademy.org
SUMMARY:Girls Varsity Basketball vs Pingree School (Away)
DESCRIPTION:\n\nEVENT DETAILS\n\nOpponent: Pingree School\nHome/Away: Away\nLocation: Pingree School\nResult: L 39-43\nShuttle At: 2:00 p.m.\nExcused At: 1:45 p.m.\nEstimated Return Time: 6:30 p.m.
URL:https://concordacademy.org/event/girls-varsity-basketball-vs-pingree-school-away/
CATEGORIES:Athletics Calendar,Girls Varsity Basketball
END:VEVENT
BEGIN:VEVENT
DTSTART;TZID=America/New_York:20260213T160000
DTEND;TZID=America/New_York:20260213T180000
DTSTAMP:20260420T091439
CREATED:20251107T152355Z
LAST-MODIFIED:20251107T152355Z
UID:10011425-1770998400-1771005600@concordacademy.org
SUMMARY:Girls Varsity Basketball vs Newton Country Day School (Away)
DESCRIPTION:\n\nEVENT DETAILS\n\nOpponent: Newton Country Day School\nHome/Away: Away\nLocation: Newton Country Day School\nShuttle At: 2:35 p.m.\nEstimated Return Time: 6:15 p.m.
URL:https://concordacademy.org/event/girls-varsity-basketball-vs-newton-country-day-school-away-2/
CATEGORIES:Athletics Calendar,Girls Varsity Basketball
END:VEVENT
BEGIN:VEVENT
DTSTART;TZID=America/New_York:20260218T160000
DTEND;TZID=America/New_York:20260218T180000
DTSTAMP:20260420T091439
CREATED:20251107T152355Z
LAST-MODIFIED:20251107T152355Z
UID:10011426-1771430400-1771437600@concordacademy.org
SUMMARY:Girls Varsity Basketball vs Dana Hall School (Home)
DESCRIPTION:\n\nEVENT DETAILS\n\nOpponent: Dana Hall School\nHome/Away: Home\nLocation: SHAC
URL:https://concordacademy.org/event/girls-varsity-basketball-vs-dana-hall-school-home/
CATEGORIES:Athletics Calendar,Girls Varsity Basketball
END:VEVENT
BEGIN:VEVENT
DTSTART;TZID=America/New_York:20260220T153000
DTEND;TZID=America/New_York:20260220T170000
DTSTAMP:20260420T091439
CREATED:20251107T152355Z
LAST-MODIFIED:20260220T170053Z
UID:10011427-1771601400-1771606800@concordacademy.org
SUMMARY:Girls Varsity Basketball vs Beaver Country Day School (Away) UPDATED NEW TIME
DESCRIPTION:\n\nEVENT DETAILS\n\nOpponent: Beaver Country Day School\nHome/Away: Away\nLocation: Beaver Country Day School\nShuttle At: 2:00 p.m.\nExcused At: 1:45 p.m.\nEstimated Return Time: 6:15 p.m.
URL:https://concordacademy.org/event/girls-varsity-basketball-vs-beaver-country-day-school-away/
CATEGORIES:Athletics Calendar,Girls Varsity Basketball
END:VEVENT
BEGIN:VEVENT
DTSTART;TZID=America/New_York:20260225T163000
DTEND;TZID=America/New_York:20260225T183000
DTSTAMP:20260420T091439
CREATED:20251107T152355Z
LAST-MODIFIED:20260226T195038Z
UID:10011428-1772037000-1772044200@concordacademy.org
SUMMARY:Girls Varsity Basketball vs Wheeler School (Away)
DESCRIPTION:\n\nEVENT DETAILS\n\nOpponent: Wheeler School\nHome/Away: Away\nLocation: Wheeler School Farms - 640 Prospect St. Seekonk MA.\nResult: L 45-53\nShuttle At: 2:15 PM\nExcused At: 2:00 p.m.\nEstimated Return Time: 7:30 p.m.
URL:https://concordacademy.org/event/girls-varsity-basketball-vs-wheeler-school-away/
CATEGORIES:Athletics Calendar,Girls Varsity Basketball
END:VEVENT
END:VCALENDAR