BEGIN:VCALENDAR
VERSION:2.0
PRODID:-//Concord Academy - ECPv6.15.17.1//NONSGML v1.0//EN
CALSCALE:GREGORIAN
METHOD:PUBLISH
X-WR-CALNAME:Concord Academy
X-ORIGINAL-URL:https://concordacademy.org
X-WR-CALDESC:Events for Concord Academy
REFRESH-INTERVAL;VALUE=DURATION:PT1H
X-Robots-Tag:noindex
X-PUBLISHED-TTL:PT1H
BEGIN:VTIMEZONE
TZID:America/New_York
BEGIN:DAYLIGHT
TZOFFSETFROM:-0500
TZOFFSETTO:-0400
TZNAME:EDT
DTSTART:20250309T070000
END:DAYLIGHT
BEGIN:STANDARD
TZOFFSETFROM:-0400
TZOFFSETTO:-0500
TZNAME:EST
DTSTART:20251102T060000
END:STANDARD
BEGIN:DAYLIGHT
TZOFFSETFROM:-0500
TZOFFSETTO:-0400
TZNAME:EDT
DTSTART:20260308T070000
END:DAYLIGHT
BEGIN:STANDARD
TZOFFSETFROM:-0400
TZOFFSETTO:-0500
TZNAME:EST
DTSTART:20261101T060000
END:STANDARD
BEGIN:DAYLIGHT
TZOFFSETFROM:-0500
TZOFFSETTO:-0400
TZNAME:EDT
DTSTART:20270314T070000
END:DAYLIGHT
BEGIN:STANDARD
TZOFFSETFROM:-0400
TZOFFSETTO:-0500
TZNAME:EST
DTSTART:20271107T060000
END:STANDARD
END:VTIMEZONE
BEGIN:VEVENT
DTSTART;VALUE=DATE:20260225
DTEND;VALUE=DATE:20260226
DTSTAMP:20260425T185152
CREATED:20251107T154054Z
LAST-MODIFIED:20260223T225730Z
UID:10011544-1771977600-1772063999@concordacademy.org
SUMMARY:Girls Alpine Skiing vs NEPSACs (Away)
DESCRIPTION:\n\nEVENT DETAILS\n\nOpponent: NEPSACs. 9:30 a.m. for Girls First Run. Followed by Boys Run\nHome/Away: Away\nLocation: Pats Peak - 686 Flanders Rd Henniker, NH 03242-6390\nEstimated Return Time: 7:00 p.m.
URL:https://concordacademy.org/event/girls-alpine-skiing-vs-nepsacs-away/
CATEGORIES:Athletics Calendar,Girls Alpine Skiing
END:VEVENT
BEGIN:VEVENT
DTSTART;VALUE=DATE:20260225
DTEND;VALUE=DATE:20260226
DTSTAMP:20260425T185152
CREATED:20251107T154055Z
LAST-MODIFIED:20260223T230147Z
UID:10011537-1771977600-1772063999@concordacademy.org
SUMMARY:Boys Alpine Skiing vs NEPSACs (Away)
DESCRIPTION:\n\nEVENT DETAILS\n\nOpponent: NEPSACs. 9:30 a.m. for Girls First Run. Followed by Boys Run\nHome/Away: Away\nLocation: Pats Peak- 686 Flanders Rd Henniker, NH 03242-6390\nEstimated Return Time: 7:30 p.m.
URL:https://concordacademy.org/event/boys-alpine-skiing-vs-nepsacs-away/
CATEGORIES:Athletics Calendar,Boys Alpine Skiing
END:VEVENT
BEGIN:VEVENT
DTSTART;TZID=America/New_York:20260225T160000
DTEND;TZID=America/New_York:20260225T180000
DTSTAMP:20260425T185152
CREATED:20251107T152712Z
LAST-MODIFIED:20260112T022539Z
UID:10011467-1772035200-1772042400@concordacademy.org
SUMMARY:Boys Varsity Squash vs. Squashbusters -Providence (Home)
DESCRIPTION:\n\nEVENT DETAILS\n\nOpponent: Squashbusters (Providence)\nHome/Away: Home\nLocation: SHAC
URL:https://concordacademy.org/event/boys-varsity-squash-nationals-away-5/
CATEGORIES:Athletics Calendar,Boys Varsity Squash
END:VEVENT
BEGIN:VEVENT
DTSTART;TZID=America/New_York:20260225T163000
DTEND;TZID=America/New_York:20260225T183000
DTSTAMP:20260425T185152
CREATED:20251107T151317Z
LAST-MODIFIED:20251110T194028Z
UID:10011490-1772037000-1772044200@concordacademy.org
SUMMARY:Boys Varsity Basketball vs Marianapolis Preparatory School (Home)
DESCRIPTION:\n\nEVENT DETAILS\n\nOpponent: Marianapolis Preparatory School\nHome/Away: Home\nLocation: SHAC
URL:https://concordacademy.org/event/boys-varsity-basketball-vs-marianapolis-preparatory-school-home/
CATEGORIES:Athletics Calendar,Boys Varsity Basketball
END:VEVENT
BEGIN:VEVENT
DTSTART;TZID=America/New_York:20260225T163000
DTEND;TZID=America/New_York:20260225T183000
DTSTAMP:20260425T185152
CREATED:20251107T152355Z
LAST-MODIFIED:20260226T195038Z
UID:10011428-1772037000-1772044200@concordacademy.org
SUMMARY:Girls Varsity Basketball vs Wheeler School (Away)
DESCRIPTION:\n\nEVENT DETAILS\n\nOpponent: Wheeler School\nHome/Away: Away\nLocation: Wheeler School Farms - 640 Prospect St. Seekonk MA.\nResult: L 45-53\nShuttle At: 2:15 PM\nExcused At: 2:00 p.m.\nEstimated Return Time: 7:30 p.m.
URL:https://concordacademy.org/event/girls-varsity-basketball-vs-wheeler-school-away/
CATEGORIES:Athletics Calendar,Girls Varsity Basketball
END:VEVENT
BEGIN:VEVENT
DTSTART;TZID=America/New_York:20260225T163000
DTEND;TZID=America/New_York:20260225T183000
DTSTAMP:20260425T185152
CREATED:20251107T152710Z
LAST-MODIFIED:20260226T195317Z
UID:10011449-1772037000-1772044200@concordacademy.org
SUMMARY:Boys Junior Varsity Basketball vs Marianapolis Preparatory School (Home)
DESCRIPTION:\n\nEVENT DETAILS\n\nOpponent: Marianapolis Preparatory School\nHome/Away: Home\nLocation: SHAC\nResult: L 41-71
URL:https://concordacademy.org/event/boys-junior-varsity-basketball-vs-marianapolis-preparatory-school-home/
CATEGORIES:Athletics Calendar,Boys Junior Varsity Basketball
END:VEVENT
END:VCALENDAR