BEGIN:VCALENDAR
VERSION:2.0
PRODID:-//Concord Academy - ECPv6.15.17.1//NONSGML v1.0//EN
CALSCALE:GREGORIAN
METHOD:PUBLISH
X-ORIGINAL-URL:https://concordacademy.org
X-WR-CALDESC:Events for Concord Academy
REFRESH-INTERVAL;VALUE=DURATION:PT1H
X-Robots-Tag:noindex
X-PUBLISHED-TTL:PT1H
BEGIN:VTIMEZONE
TZID:America/New_York
BEGIN:DAYLIGHT
TZOFFSETFROM:-0500
TZOFFSETTO:-0400
TZNAME:EDT
DTSTART:20240310T070000
END:DAYLIGHT
BEGIN:STANDARD
TZOFFSETFROM:-0400
TZOFFSETTO:-0500
TZNAME:EST
DTSTART:20241103T060000
END:STANDARD
BEGIN:DAYLIGHT
TZOFFSETFROM:-0500
TZOFFSETTO:-0400
TZNAME:EDT
DTSTART:20250309T070000
END:DAYLIGHT
BEGIN:STANDARD
TZOFFSETFROM:-0400
TZOFFSETTO:-0500
TZNAME:EST
DTSTART:20251102T060000
END:STANDARD
BEGIN:DAYLIGHT
TZOFFSETFROM:-0500
TZOFFSETTO:-0400
TZNAME:EDT
DTSTART:20260308T070000
END:DAYLIGHT
BEGIN:STANDARD
TZOFFSETFROM:-0400
TZOFFSETTO:-0500
TZNAME:EST
DTSTART:20261101T060000
END:STANDARD
END:VTIMEZONE
BEGIN:VEVENT
DTSTART;TZID=America/New_York:20250429T160000
DTEND;TZID=America/New_York:20250429T180000
DTSTAMP:20260420T165459
CREATED:20250304T021401Z
LAST-MODIFIED:20250325T201335Z
UID:10011001-1745942400-1745949600@concordacademy.org
SUMMARY:All-Gender Varsity Ultimate Frisbee vs Cambridge School of Weston (Main Campus)
DESCRIPTION:\n\nEVENT DETAILS\n\nOpponent: Cambridge School of Weston\nHome/Away: Home\nLocation: Main Campus
URL:https://concordacademy.org/event/all-gender-ultimate-frisbee-vs-cambridge-school-of-weston-moriarty-athletic-campus/
CATEGORIES:All-Gender Varsity Ultimate Frisbee,Athletics Calendar
END:VEVENT
BEGIN:VEVENT
DTSTART;TZID=America/New_York:20250429T161500
DTEND;TZID=America/New_York:20250429T181500
DTSTAMP:20260420T165459
CREATED:20250411T201817Z
LAST-MODIFIED:20250429T011153Z
UID:10011049-1745943300-1745950500@concordacademy.org
SUMMARY:Girls Varsity Softball vs Beaver Country Day (AWAY)
DESCRIPTION:\n\nEVENT DETAILS\n\nOpponent: Beaver Country Day\nHome/Away: Home\nLocation: Beaver Country Day\nShuttle At: 2:45 p.m.\nExcused At: 2:30 p.m.\nEstimated Return Time: 6:45 PM
URL:https://concordacademy.org/event/girls-varsity-softball-vs-beaver-country-day-away/
CATEGORIES:Athletics Calendar,Girls Varsity Softball
END:VEVENT
END:VCALENDAR