BEGIN:VCALENDAR
VERSION:2.0
PRODID:-//Concord Academy - ECPv6.15.17.1//NONSGML v1.0//EN
CALSCALE:GREGORIAN
METHOD:PUBLISH
X-ORIGINAL-URL:https://concordacademy.org
X-WR-CALDESC:Events for Concord Academy
REFRESH-INTERVAL;VALUE=DURATION:PT1H
X-Robots-Tag:noindex
X-PUBLISHED-TTL:PT1H
BEGIN:VTIMEZONE
TZID:America/New_York
BEGIN:DAYLIGHT
TZOFFSETFROM:-0500
TZOFFSETTO:-0400
TZNAME:EDT
DTSTART:20240310T070000
END:DAYLIGHT
BEGIN:STANDARD
TZOFFSETFROM:-0400
TZOFFSETTO:-0500
TZNAME:EST
DTSTART:20241103T060000
END:STANDARD
BEGIN:DAYLIGHT
TZOFFSETFROM:-0500
TZOFFSETTO:-0400
TZNAME:EDT
DTSTART:20250309T070000
END:DAYLIGHT
BEGIN:STANDARD
TZOFFSETFROM:-0400
TZOFFSETTO:-0500
TZNAME:EST
DTSTART:20251102T060000
END:STANDARD
BEGIN:DAYLIGHT
TZOFFSETFROM:-0500
TZOFFSETTO:-0400
TZNAME:EDT
DTSTART:20260308T070000
END:DAYLIGHT
BEGIN:STANDARD
TZOFFSETFROM:-0400
TZOFFSETTO:-0500
TZNAME:EST
DTSTART:20261101T060000
END:STANDARD
END:VTIMEZONE
BEGIN:VEVENT
DTSTART;TZID=America/New_York:20250425T151500
DTEND;TZID=America/New_York:20250425T171500
DTSTAMP:20260420T024405
CREATED:20250304T021403Z
LAST-MODIFIED:20250428T014121Z
UID:10010919-1745594100-1745601300@concordacademy.org
SUMMARY:Boys Varsity Tennis vs Bancroft Spring Cup (Bancroft School)
DESCRIPTION:\n\nEVENT DETAILS\n\nOpponent: Bancroft Spring Cup\nHome/Away: Away\nLocation: Bancroft School\nResult: W 5-0\nShuttle At: 1:45 PM\nExcused At: 1:30 PM\nEstimated Return Time: 7:00 PM
URL:https://concordacademy.org/event/boys-varsity-tennis-vs-bancroft-spring-cup-bancroft-school/
CATEGORIES:Athletics Calendar,Boys Varsity Tennis
END:VEVENT
BEGIN:VEVENT
DTSTART;TZID=America/New_York:20250425T151500
DTEND;TZID=America/New_York:20250425T171500
DTSTAMP:20260420T024405
CREATED:20250304T021403Z
LAST-MODIFIED:20250428T014203Z
UID:10010943-1745594100-1745601300@concordacademy.org
SUMMARY:Girls Varsity Tennis vs Bancroft Spring Cup (Bancroft School)
DESCRIPTION:\n\nEVENT DETAILS\n\nOpponent: Bancroft Spring Cup\nHome/Away: Away\nLocation: Bancroft School\nResult: W 5-0\nShuttle At: 1:45 PM\nExcused At: 1:30 PM\nEstimated Return Time: 7:00 PM
URL:https://concordacademy.org/event/girls-varsity-tennis-vs-bancroft-spring-cup-bancroft-school/
CATEGORIES:Athletics Calendar,Girls Varsity Tennis
END:VEVENT
BEGIN:VEVENT
DTSTART;TZID=America/New_York:20250425T151500
DTEND;TZID=America/New_York:20250425T171500
DTSTAMP:20260420T024405
CREATED:20250304T021403Z
LAST-MODIFIED:20250428T013750Z
UID:10011024-1745594100-1745601300@concordacademy.org
SUMMARY:Boys Varsity Baseball vs Bancroft School (Bancroft School)
DESCRIPTION:\n\nEVENT DETAILS\n\nOpponent: Bancroft School\nHome/Away: Away\nLocation: Bancroft School\nResult: W 6-4\nShuttle At: 1:45 PM\nExcused At: 1:30 PM\nEstimated Return Time: 7:00 PM
URL:https://concordacademy.org/event/boys-varsity-baseball-vs-bancroft-school-bancroft-school/
CATEGORIES:Athletics Calendar,Boys Varsity Baseball
END:VEVENT
BEGIN:VEVENT
DTSTART;TZID=America/New_York:20250425T160000
DTEND;TZID=America/New_York:20250425T173000
DTSTAMP:20260420T024405
CREATED:20250422T173558Z
LAST-MODIFIED:20250428T014332Z
UID:10011052-1745596800-1745602200@concordacademy.org
SUMMARY:Boys Junior Varsity Tennis vs Beaver Country Day (Moriarty Athletic Campus)
DESCRIPTION:\n\nEVENT DETAILS\n\nOpponent: Beaver Country Day\nHome/Away: Home\nLocation: Moriarty Athletic Campus\nResult: W 5-1\nShuttle At: 3:00 PM Minibus with Karen from the pocket
URL:https://concordacademy.org/event/boys-junior-varsity-tennis-vs-beaver-country-day-moriarty-athletic-campus/
CATEGORIES:Athletics Calendar,Boys Junior Varsity Tennis
END:VEVENT
BEGIN:VEVENT
DTSTART;TZID=America/New_York:20250425T160000
DTEND;TZID=America/New_York:20250425T180000
DTSTAMP:20260420T024405
CREATED:20250304T021403Z
LAST-MODIFIED:20250428T014642Z
UID:10010903-1745596800-1745604000@concordacademy.org
SUMMARY:Girls Varsity Softball vs Dana Hall School (Main Campus)
DESCRIPTION:\n\nEVENT DETAILS\n\nOpponent: Dana Hall School\nHome/Away: Home\nLocation: Main Campus\nResult: W 7-5
URL:https://concordacademy.org/event/girls-varsity-softball-vs-dana-hall-school-moriarty-athletic-campus/
CATEGORIES:Athletics Calendar,Girls Varsity Softball
END:VEVENT
BEGIN:VEVENT
DTSTART;TZID=America/New_York:20250425T160000
DTEND;TZID=America/New_York:20250425T180000
DTSTAMP:20260420T024405
CREATED:20250425T010146Z
LAST-MODIFIED:20250428T015441Z
UID:10011054-1745596800-1745604000@concordacademy.org
SUMMARY:All-Gender Varsity Sailing Regatta @ Wianno Yacht Club (Originally Scheduled for Sat. 4/26)
DESCRIPTION:\n\nEVENT DETAILS\n\nOpponent: Cape Cod Academy \nHome/Away: Home\nLocation: Wianno Yacht Club\nResult: L 1-4\nShuttle At: 2:15 PM\nExcused At: 2:00 PM\nEstimated Return Time: 7:30 PM
URL:https://concordacademy.org/event/all-gender-varsity-sailing-vs-cape-cod-academy-moses-brown-wianno-yacht-club-reschedule-from-4-26/
CATEGORIES:All-Gender Varsity Sailing,Athletics Calendar
END:VEVENT
BEGIN:VEVENT
DTSTART;TZID=America/New_York:20250425T163000
DTEND;TZID=America/New_York:20250425T180000
DTSTAMP:20260420T024405
CREATED:20250304T021402Z
LAST-MODIFIED:20250428T020030Z
UID:10010959-1745598600-1745604000@concordacademy.org
SUMMARY:Boys Varsity Lacrosse vs Bancroft Spring Cup (Bancroft School)
DESCRIPTION:\n\nEVENT DETAILS\n\nOpponent: Bancroft Spring Cup\nHome/Away: Away\nLocation: Bancroft School\nResult: W 6-5\nShuttle At: 2:30 PM\nEstimated Return Time: 7:00 PM
URL:https://concordacademy.org/event/boys-varsity-lacrosse-vs-bancroft-spring-cup-bancroft-school/
CATEGORIES:Athletics Calendar,Boys Varsity Lacrosse
END:VEVENT
BEGIN:VEVENT
DTSTART;TZID=America/New_York:20250425T163000
DTEND;TZID=America/New_York:20250425T180000
DTSTAMP:20260420T024405
CREATED:20250304T021402Z
LAST-MODIFIED:20250428T015834Z
UID:10010975-1745598600-1745604000@concordacademy.org
SUMMARY:Girls Varsity Lacrosse vs Bancroft Spring Cup (Bancroft School)
DESCRIPTION:\n\nEVENT DETAILS\n\nOpponent: Bancroft Spring Cup\nHome/Away: Away\nLocation: Bancroft School\nResult: W\nShuttle At: 2:30 PM\nEstimated Return Time: 7:00 PM
URL:https://concordacademy.org/event/girls-varsity-lacrosse-vs-bancroft-spring-cup-bancroft-school/
CATEGORIES:Athletics Calendar,Girls Varsity Lacrosse
END:VEVENT
END:VCALENDAR