BEGIN:VCALENDAR
VERSION:2.0
PRODID:-//Concord Academy - ECPv6.15.17.1//NONSGML v1.0//EN
CALSCALE:GREGORIAN
METHOD:PUBLISH
X-WR-CALNAME:Concord Academy
X-ORIGINAL-URL:https://concordacademy.org
X-WR-CALDESC:Events for Concord Academy
REFRESH-INTERVAL;VALUE=DURATION:PT1H
X-Robots-Tag:noindex
X-PUBLISHED-TTL:PT1H
BEGIN:VTIMEZONE
TZID:America/New_York
BEGIN:DAYLIGHT
TZOFFSETFROM:-0500
TZOFFSETTO:-0400
TZNAME:EDT
DTSTART:20240310T070000
END:DAYLIGHT
BEGIN:STANDARD
TZOFFSETFROM:-0400
TZOFFSETTO:-0500
TZNAME:EST
DTSTART:20241103T060000
END:STANDARD
BEGIN:DAYLIGHT
TZOFFSETFROM:-0500
TZOFFSETTO:-0400
TZNAME:EDT
DTSTART:20250309T070000
END:DAYLIGHT
BEGIN:STANDARD
TZOFFSETFROM:-0400
TZOFFSETTO:-0500
TZNAME:EST
DTSTART:20251102T060000
END:STANDARD
BEGIN:DAYLIGHT
TZOFFSETFROM:-0500
TZOFFSETTO:-0400
TZNAME:EDT
DTSTART:20260308T070000
END:DAYLIGHT
BEGIN:STANDARD
TZOFFSETFROM:-0400
TZOFFSETTO:-0500
TZNAME:EST
DTSTART:20261101T060000
END:STANDARD
END:VTIMEZONE
BEGIN:VEVENT
DTSTART;TZID=America/New_York:20250423T160000
DTEND;TZID=America/New_York:20250423T173000
DTSTAMP:20260420T042402
CREATED:20250304T021405Z
LAST-MODIFIED:20250424T195922Z
UID:10010974-1745424000-1745429400@concordacademy.org
SUMMARY:Girls Varsity Lacrosse vs Dana Hall School (Moriarty Athletic Campus)
DESCRIPTION:\n\nEVENT DETAILS\n\nOpponent: Dana Hall School\nHome/Away: Home\nLocation: Moriarty Athletic Campus\nResult: L 5-16\nShuttle At: 3:00 PM shuttle
URL:https://concordacademy.org/event/girls-varsity-lacrosse-vs-dana-hall-school-moriarty-athletic-campus/
CATEGORIES:Athletics Calendar,Girls Varsity Lacrosse
END:VEVENT
BEGIN:VEVENT
DTSTART;TZID=America/New_York:20250423T160000
DTEND;TZID=America/New_York:20250423T180000
DTSTAMP:20260420T042402
CREATED:20250304T021404Z
LAST-MODIFIED:20250424T184807Z
UID:10010902-1745424000-1745431200@concordacademy.org
SUMMARY:Girls Varsity Softball vs Dana Hall School (Dana Hall School)
DESCRIPTION:\n\nEVENT DETAILS\n\nOpponent: Dana Hall School\nHome/Away: Away\nLocation: Dana Hall School\nResult: W 22-8\nShuttle At: 2:30 PM\nExcused At: 2:15 PM\nEstimated Return Time: 7:00 PM
URL:https://concordacademy.org/event/girls-varsity-softball-vs-dana-hall-school-dana-hall-school/
CATEGORIES:Athletics Calendar,Girls Varsity Softball
END:VEVENT
BEGIN:VEVENT
DTSTART;TZID=America/New_York:20250423T160000
DTEND;TZID=America/New_York:20250423T180000
DTSTAMP:20260420T042402
CREATED:20250304T021404Z
LAST-MODIFIED:20250424T185012Z
UID:10010918-1745424000-1745431200@concordacademy.org
SUMMARY:Boys Varsity Tennis vs Austen Prep (Moriarty Athletic Campus)
DESCRIPTION:\n\nEVENT DETAILS\n\nOpponent: Austen Prep\nHome/Away: Home\nLocation: Moriarty Athletic Campus\nResult: W 5-0\nShuttle At: 3:00 PM shuttle
URL:https://concordacademy.org/event/boys-varsity-tennis-vs-austen-prep-moriarty-athletic-campus/
CATEGORIES:Athletics Calendar,Boys Varsity Tennis
END:VEVENT
BEGIN:VEVENT
DTSTART;TZID=America/New_York:20250423T160000
DTEND;TZID=America/New_York:20250423T180000
DTSTAMP:20260420T042402
CREATED:20250304T021404Z
LAST-MODIFIED:20250424T185100Z
UID:10010942-1745424000-1745431200@concordacademy.org
SUMMARY:Girls Varsity Tennis vs Dana Hall School (@Longfellow Tennis\, 16 Michigan Dr.\, Natick)
DESCRIPTION:\n\nEVENT DETAILS\n\nOpponent: Dana Hall School\nHome/Away: Away\nLocation: Longfellow Tennis Club, 16 Michigan Drive, Natick MA 01760\nResult: L 0-5\nShuttle At: 2:30 PM\nExcused At: 2:15 PM\nEstimated Return Time: 6:30 PM
URL:https://concordacademy.org/event/girls-varsity-tennis-vs-dana-hall-school-dana-hall-school/
CATEGORIES:Athletics Calendar,Girls Varsity Tennis
END:VEVENT
BEGIN:VEVENT
DTSTART;TZID=America/New_York:20250423T160000
DTEND;TZID=America/New_York:20250423T180000
DTSTAMP:20260420T042402
CREATED:20250304T021404Z
LAST-MODIFIED:20250423T215738Z
UID:10010999-1745424000-1745431200@concordacademy.org
SUMMARY:All-Gender Varsity Ultimate Frisbee vs Worcester Academy (Main Campus)
DESCRIPTION:\n\nEVENT DETAILS\n\nOpponent: Worcester Academy\nHome/Away: Home\nLocation: Main Campus\nResult: W 15-0
URL:https://concordacademy.org/event/all-gender-ultimate-frisbee-vs-worcester-academy-moriarty-athletic-campus/
CATEGORIES:All-Gender Varsity Ultimate Frisbee,Athletics Calendar
END:VEVENT
BEGIN:VEVENT
DTSTART;TZID=America/New_York:20250423T160000
DTEND;TZID=America/New_York:20250423T180000
DTSTAMP:20260420T042402
CREATED:20250304T021404Z
LAST-MODIFIED:20250424T184936Z
UID:10011010-1745424000-1745431200@concordacademy.org
SUMMARY:All-Gender Varsity Sailing vs The Landmark School (Manchester Yacht Club)
DESCRIPTION:\n\nEVENT DETAILS\n\nOpponent: The Landmark School\nHome/Away: Away\nLocation: Manchester Yacht Club\nResult: W 3-0\nShuttle At: 2:30 PM\nExcused At: 2:15 PM\nEstimated Return Time: 7:00 PM
URL:https://concordacademy.org/event/all-gender-varsity-sailing-vs-the-landmark-school-manchester-yacht-club/
CATEGORIES:All-Gender Varsity Sailing,Athletics Calendar
END:VEVENT
BEGIN:VEVENT
DTSTART;TZID=America/New_York:20250423T160000
DTEND;TZID=America/New_York:20250423T180000
DTSTAMP:20260420T042402
CREATED:20250304T021404Z
LAST-MODIFIED:20250424T185146Z
UID:10011023-1745424000-1745431200@concordacademy.org
SUMMARY:Boys Varsity Baseball vs Pingree School (Pingree School)
DESCRIPTION:\n\nEVENT DETAILS\n\nOpponent: Pingree School\nHome/Away: Away\nLocation: Pingree School\nResult: L 7-11\nShuttle At: 2:15 PM\nExcused At: 2:00 PM\nEstimated Return Time: 7:00 PM
URL:https://concordacademy.org/event/boys-varsity-baseball-vs-pingree-school-pingree-school/
CATEGORIES:Athletics Calendar,Boys Varsity Baseball
END:VEVENT
BEGIN:VEVENT
DTSTART;TZID=America/New_York:20250423T163000
DTEND;TZID=America/New_York:20250423T180000
DTSTAMP:20260420T042402
CREATED:20250304T021404Z
LAST-MODIFIED:20250424T185227Z
UID:10010958-1745425800-1745431200@concordacademy.org
SUMMARY:Boys Varsity Lacrosse vs Wheeler School (Wheeler School Farms\, 357 Walker Street\, Seekonk\, MA)
DESCRIPTION:\n\nEVENT DETAILS\n\nOpponent: Wheeler School\nHome/Away: Away\nLocation: Wheeler School Farms - 357 Walker Street, Seekonk, Ma 02771\nResult: L 3-15\nShuttle At: 2:30 PM\nExcused At: 2:15 PM\nEstimated Return Time: 7:00 PM
URL:https://concordacademy.org/event/boys-varsity-lacrosse-vs-wheeler-school-wheeler-school/
CATEGORIES:Athletics Calendar,Boys Varsity Lacrosse
END:VEVENT
BEGIN:VEVENT
DTSTART;TZID=America/New_York:20250423T170000
DTEND;TZID=America/New_York:20250423T183000
DTSTAMP:20260420T042402
CREATED:20250304T021403Z
LAST-MODIFIED:20250428T014423Z
UID:10010933-1745427600-1745433000@concordacademy.org
SUMMARY:Boys Junior Varsity Tennis vs Wheeler School (Moriarty Athletic Campus)
DESCRIPTION:\n\nEVENT DETAILS\n\nOpponent: Wheeler School\nHome/Away: Home\nLocation: Moriarty Athletic Campus\nResult: T 3-3\nShuttle At: 4:20 PM shuttle
URL:https://concordacademy.org/event/boys-junior-varsity-tennis-vs-wheeler-school-moriarty-athletic-campus/
CATEGORIES:Athletics Calendar,Boys Junior Varsity Tennis
END:VEVENT
END:VCALENDAR