BEGIN:VCALENDAR
VERSION:2.0
PRODID:-//Concord Academy - ECPv6.15.17.1//NONSGML v1.0//EN
CALSCALE:GREGORIAN
METHOD:PUBLISH
X-ORIGINAL-URL:https://concordacademy.org
X-WR-CALDESC:Events for Concord Academy
REFRESH-INTERVAL;VALUE=DURATION:PT1H
X-Robots-Tag:noindex
X-PUBLISHED-TTL:PT1H
BEGIN:VTIMEZONE
TZID:America/New_York
BEGIN:DAYLIGHT
TZOFFSETFROM:-0500
TZOFFSETTO:-0400
TZNAME:EDT
DTSTART:20240310T070000
END:DAYLIGHT
BEGIN:STANDARD
TZOFFSETFROM:-0400
TZOFFSETTO:-0500
TZNAME:EST
DTSTART:20241103T060000
END:STANDARD
BEGIN:DAYLIGHT
TZOFFSETFROM:-0500
TZOFFSETTO:-0400
TZNAME:EDT
DTSTART:20250309T070000
END:DAYLIGHT
BEGIN:STANDARD
TZOFFSETFROM:-0400
TZOFFSETTO:-0500
TZNAME:EST
DTSTART:20251102T060000
END:STANDARD
BEGIN:DAYLIGHT
TZOFFSETFROM:-0500
TZOFFSETTO:-0400
TZNAME:EDT
DTSTART:20260308T070000
END:DAYLIGHT
BEGIN:STANDARD
TZOFFSETFROM:-0400
TZOFFSETTO:-0500
TZNAME:EST
DTSTART:20261101T060000
END:STANDARD
END:VTIMEZONE
BEGIN:VEVENT
DTSTART;TZID=America/New_York:20250407T161500
DTEND;TZID=America/New_York:20250407T174500
DTSTAMP:20260420T042602
CREATED:20250304T021411Z
LAST-MODIFIED:20250328T010616Z
UID:10010970-1744042500-1744047900@concordacademy.org
SUMMARY:Girls Varsity Lacrosse vs Beaver Country Day School (Moriarty Athletic Campus)
DESCRIPTION:\n\nEVENT DETAILS\n\nOpponent: Beaver Country Day School\nHome/Away: Home\nLocation: Moriarty Athletic Campus\nShuttle At: 3:15 PM Shuttle\nExcused At: 3:00 PM
URL:https://concordacademy.org/event/girls-varsity-lacrosse-vs-beaver-country-day-school-moriarty-athletic-campus/
CATEGORIES:Athletics Calendar,Girls Varsity Lacrosse
END:VEVENT
BEGIN:VEVENT
DTSTART;TZID=America/New_York:20250407T163000
DTEND;TZID=America/New_York:20250407T183000
DTSTAMP:20260420T042602
CREATED:20250304T021411Z
LAST-MODIFIED:20251008T132425Z
UID:10010938-1744043400-1744050600@concordacademy.org
SUMMARY:Girls Varsity Tennis vs Worcester Academy
DESCRIPTION:\n\nEVENT DETAILS\n\nOpponent: Worcester Academy\nHome/Away: Away\nLocation: Worcester Academy\nShuttle At: 3:00 PM\nExcused At: 2:45 PM\nEstimated Return Time: 7:15 PM
URL:https://concordacademy.org/event/girls-varsity-tennis-vs-worcester-academy-worcester-academy/
CATEGORIES:Athletics Calendar,Girls Varsity Tennis
END:VEVENT
END:VCALENDAR