BEGIN:VCALENDAR
VERSION:2.0
PRODID:-//Concord Academy - ECPv6.15.17.1//NONSGML v1.0//EN
CALSCALE:GREGORIAN
METHOD:PUBLISH
X-ORIGINAL-URL:https://concordacademy.org
X-WR-CALDESC:Events for Concord Academy
REFRESH-INTERVAL;VALUE=DURATION:PT1H
X-Robots-Tag:noindex
X-PUBLISHED-TTL:PT1H
BEGIN:VTIMEZONE
TZID:America/New_York
BEGIN:DAYLIGHT
TZOFFSETFROM:-0500
TZOFFSETTO:-0400
TZNAME:EDT
DTSTART:20240310T070000
END:DAYLIGHT
BEGIN:STANDARD
TZOFFSETFROM:-0400
TZOFFSETTO:-0500
TZNAME:EST
DTSTART:20241103T060000
END:STANDARD
BEGIN:DAYLIGHT
TZOFFSETFROM:-0500
TZOFFSETTO:-0400
TZNAME:EDT
DTSTART:20250309T070000
END:DAYLIGHT
BEGIN:STANDARD
TZOFFSETFROM:-0400
TZOFFSETTO:-0500
TZNAME:EST
DTSTART:20251102T060000
END:STANDARD
BEGIN:DAYLIGHT
TZOFFSETFROM:-0500
TZOFFSETTO:-0400
TZNAME:EDT
DTSTART:20260308T070000
END:DAYLIGHT
BEGIN:STANDARD
TZOFFSETFROM:-0400
TZOFFSETTO:-0500
TZNAME:EST
DTSTART:20261101T060000
END:STANDARD
END:VTIMEZONE
BEGIN:VEVENT
DTSTART;TZID=America/New_York:20250405T143000
DTEND;TZID=America/New_York:20250405T173000
DTSTAMP:20260420T042547
CREATED:20250304T021411Z
LAST-MODIFIED:20250321T123318Z
UID:10010984-1743863400-1743874200@concordacademy.org
SUMMARY:Track and Field vs Groton\, BBN\, RL & Lawrence  (Groton)
DESCRIPTION:\n\nEVENT DETAILS\n\nOpponent: Groton, BBN, RL &amp; Lawrence \nHome/Away: Away\nLocation: Groton\nShuttle At: 1:00 PM\nEstimated Return Time: 6:30 PM
URL:https://concordacademy.org/event/track-and-field-vs-groton-bbn-rl-lawrence-groton/
CATEGORIES:Athletics Calendar,Boys Varsity Track & Field,Girls Varsity Track & Field
END:VEVENT
END:VCALENDAR