BEGIN:VCALENDAR
VERSION:2.0
PRODID:-//Concord Academy - ECPv6.15.17.1//NONSGML v1.0//EN
CALSCALE:GREGORIAN
METHOD:PUBLISH
X-WR-CALNAME:Concord Academy
X-ORIGINAL-URL:https://concordacademy.org
X-WR-CALDESC:Events for Concord Academy
REFRESH-INTERVAL;VALUE=DURATION:PT1H
X-Robots-Tag:noindex
X-PUBLISHED-TTL:PT1H
BEGIN:VTIMEZONE
TZID:America/New_York
BEGIN:DAYLIGHT
TZOFFSETFROM:-0500
TZOFFSETTO:-0400
TZNAME:EDT
DTSTART:20220313T070000
END:DAYLIGHT
BEGIN:STANDARD
TZOFFSETFROM:-0400
TZOFFSETTO:-0500
TZNAME:EST
DTSTART:20221106T060000
END:STANDARD
BEGIN:DAYLIGHT
TZOFFSETFROM:-0500
TZOFFSETTO:-0400
TZNAME:EDT
DTSTART:20230312T070000
END:DAYLIGHT
BEGIN:STANDARD
TZOFFSETFROM:-0400
TZOFFSETTO:-0500
TZNAME:EST
DTSTART:20231105T060000
END:STANDARD
BEGIN:DAYLIGHT
TZOFFSETFROM:-0500
TZOFFSETTO:-0400
TZNAME:EDT
DTSTART:20240310T070000
END:DAYLIGHT
BEGIN:STANDARD
TZOFFSETFROM:-0400
TZOFFSETTO:-0500
TZNAME:EST
DTSTART:20241103T060000
END:STANDARD
END:VTIMEZONE
BEGIN:VEVENT
DTSTART;TZID=America/New_York:20230216T170000
DTEND;TZID=America/New_York:20230216T183000
DTSTAMP:20260420T092042
CREATED:20240625T201214Z
LAST-MODIFIED:20240625T201214Z
UID:10002399-1676566800-1676572200@concordacademy.org
SUMMARY:Boys Varsity Squash
DESCRIPTION:\n\nEVENT DETAILS\n\nOpponent: Beaver Country Day School\nHome/Away: Home\nLocation: SHAC\nResult: W 7-0
URL:https://concordacademy.org/event/boys-varsity-squash-12/
CATEGORIES:Athletics Calendar,Boys Varsity Squash
END:VEVENT
BEGIN:VEVENT
DTSTART;TZID=America/New_York:20230210T163000
DTEND;TZID=America/New_York:20230210T180000
DTSTAMP:20260420T092042
CREATED:20240625T201214Z
LAST-MODIFIED:20240625T201214Z
UID:10002334-1676046600-1676052000@concordacademy.org
SUMMARY:Boys Varsity Squash
DESCRIPTION:\n\nEVENT DETAILS\n\nOpponent: Moses Brown School\nHome/Away: Home\nLocation: SHAC
URL:https://concordacademy.org/event/boys-varsity-squash-11/
CATEGORIES:Athletics Calendar,Boys Varsity Squash
END:VEVENT
BEGIN:VEVENT
DTSTART;TZID=America/New_York:20230208T151500
DTEND;TZID=America/New_York:20230208T164500
DTSTAMP:20260420T092042
CREATED:20240625T201214Z
LAST-MODIFIED:20240625T201214Z
UID:10002307-1675869300-1675874700@concordacademy.org
SUMMARY:Boys Varsity Squash
DESCRIPTION:\n\nEVENT DETAILS\n\nOpponent: Portsmouth Abbey School\nHome/Away: Home\nLocation: SHAC
URL:https://concordacademy.org/event/boys-varsity-squash-10/
CATEGORIES:Athletics Calendar,Boys Varsity Squash
END:VEVENT
BEGIN:VEVENT
DTSTART;TZID=America/New_York:20230207T160000
DTEND;TZID=America/New_York:20230207T173000
DTSTAMP:20260420T092042
CREATED:20240625T201214Z
LAST-MODIFIED:20240625T201214Z
UID:10002292-1675785600-1675791000@concordacademy.org
SUMMARY:Boys Varsity Squash
DESCRIPTION:\n\nEVENT DETAILS\n\nOpponent: Beaver Country Day School\nHome/Away: Away\nLocation: Boston Sports Club - Allston
 15 Gorham St, Allston, MA
URL:https://concordacademy.org/event/boys-varsity-squash-9/
CATEGORIES:Athletics Calendar,Boys Varsity Squash
END:VEVENT
BEGIN:VEVENT
DTSTART;TZID=America/New_York:20230203T163000
DTEND;TZID=America/New_York:20230203T180000
DTSTAMP:20260420T092042
CREATED:20240625T201214Z
LAST-MODIFIED:20240625T201214Z
UID:10002250-1675441800-1675447200@concordacademy.org
SUMMARY:Boys Varsity Squash
DESCRIPTION:\n\nEVENT DETAILS\n\nOpponent: St. Mark&#039;s School\nHome/Away: Home\nLocation: SHAC
URL:https://concordacademy.org/event/boys-varsity-squash-8/
CATEGORIES:Athletics Calendar,Boys Varsity Squash
END:VEVENT
BEGIN:VEVENT
DTSTART;TZID=America/New_York:20230131T170000
DTEND;TZID=America/New_York:20230131T183000
DTSTAMP:20260420T092042
CREATED:20240625T201214Z
LAST-MODIFIED:20240625T201214Z
UID:10002209-1675184400-1675189800@concordacademy.org
SUMMARY:Boys Varsity Squash
DESCRIPTION:\n\nEVENT DETAILS\n\nOpponent: Buckingham Browne &amp; Nichols School\nHome/Away: Home\nLocation: SHAC\nResult: L 0-7
URL:https://concordacademy.org/event/boys-varsity-squash-7/
CATEGORIES:Athletics Calendar,Boys Varsity Squash
END:VEVENT
BEGIN:VEVENT
DTSTART;TZID=America/New_York:20230127T160000
DTEND;TZID=America/New_York:20230127T173000
DTSTAMP:20260420T092042
CREATED:20240625T201214Z
LAST-MODIFIED:20240625T201214Z
UID:10002171-1674835200-1674840600@concordacademy.org
SUMMARY:Boys Varsity Squash
DESCRIPTION:\n\nEVENT DETAILS\n\nOpponent: Brooks School\nHome/Away: Away\nLocation: Brooks School\nResult: L 0-7
URL:https://concordacademy.org/event/boys-varsity-squash-6/
CATEGORIES:Athletics Calendar,Boys Varsity Squash
END:VEVENT
BEGIN:VEVENT
DTSTART;TZID=America/New_York:20230125T160000
DTEND;TZID=America/New_York:20230125T173000
DTSTAMP:20260420T092042
CREATED:20240625T201214Z
LAST-MODIFIED:20240625T201214Z
UID:10002141-1674662400-1674667800@concordacademy.org
SUMMARY:Boys Varsity Squash
DESCRIPTION:\n\nEVENT DETAILS\n\nOpponent: Beaver Country Day School\nHome/Away: Away\nLocation: Boston Sports Club - Allston
 15 Gorham St, Allston, MA
URL:https://concordacademy.org/event/boys-varsity-squash-5/
CATEGORIES:Athletics Calendar,Boys Varsity Squash
END:VEVENT
BEGIN:VEVENT
DTSTART;TZID=America/New_York:20230124T161500
DTEND;TZID=America/New_York:20230124T174500
DTSTAMP:20260420T092042
CREATED:20240625T201214Z
LAST-MODIFIED:20240625T201214Z
UID:10002126-1674576900-1674582300@concordacademy.org
SUMMARY:Boys Varsity Squash
DESCRIPTION:\n\nEVENT DETAILS\n\nOpponent: Squash Busters\nHome/Away: Away\nLocation: SquashBusters- Northeastern University 795 Columbus Ave, Boston
URL:https://concordacademy.org/event/boys-varsity-squash-4/
CATEGORIES:Athletics Calendar,Boys Varsity Squash
END:VEVENT
BEGIN:VEVENT
DTSTART;TZID=America/New_York:20230120T160000
DTEND;TZID=America/New_York:20230120T173000
DTSTAMP:20260420T092042
CREATED:20240625T201214Z
LAST-MODIFIED:20240625T201214Z
UID:10002085-1674230400-1674235800@concordacademy.org
SUMMARY:Boys Varsity Squash
DESCRIPTION:\n\nEVENT DETAILS\n\nOpponent: Dexter School\nHome/Away: Home\nLocation: SHAC
URL:https://concordacademy.org/event/boys-varsity-squash-3/
CATEGORIES:Athletics Calendar,Boys Varsity Squash
END:VEVENT
BEGIN:VEVENT
DTSTART;TZID=America/New_York:20230118T163000
DTEND;TZID=America/New_York:20230118T180000
DTSTAMP:20260420T092042
CREATED:20240625T201213Z
LAST-MODIFIED:20240625T201213Z
UID:10002057-1674059400-1674064800@concordacademy.org
SUMMARY:Boys Varsity Squash
DESCRIPTION:\n\nEVENT DETAILS\n\nOpponent: Moses Brown School\nHome/Away: Away\nLocation: Moses Brown School\nResult: L 0-7
URL:https://concordacademy.org/event/boys-varsity-squash-2/
CATEGORIES:Athletics Calendar,Boys Varsity Squash
END:VEVENT
BEGIN:VEVENT
DTSTART;TZID=America/New_York:20230113T163000
DTEND;TZID=America/New_York:20230113T180000
DTSTAMP:20260420T092042
CREATED:20240625T201213Z
LAST-MODIFIED:20240625T201213Z
UID:10002002-1673627400-1673632800@concordacademy.org
SUMMARY:Boys Varsity Squash
DESCRIPTION:\n\nEVENT DETAILS\n\nOpponent: Portsmouth Abbey School\nHome/Away: Away\nLocation: Portsmouth Abbey School\nResult: L 5-2
URL:https://concordacademy.org/event/boys-varsity-squash/
CATEGORIES:Athletics Calendar,Boys Varsity Squash
END:VEVENT
END:VCALENDAR