BEGIN:VCALENDAR
VERSION:2.0
PRODID:-//Concord Academy - ECPv6.15.17.1//NONSGML v1.0//EN
CALSCALE:GREGORIAN
METHOD:PUBLISH
X-ORIGINAL-URL:https://concordacademy.org
X-WR-CALDESC:Events for Concord Academy
REFRESH-INTERVAL;VALUE=DURATION:PT1H
X-Robots-Tag:noindex
X-PUBLISHED-TTL:PT1H
BEGIN:VTIMEZONE
TZID:America/New_York
BEGIN:DAYLIGHT
TZOFFSETFROM:-0500
TZOFFSETTO:-0400
TZNAME:EDT
DTSTART:20250309T070000
END:DAYLIGHT
BEGIN:STANDARD
TZOFFSETFROM:-0400
TZOFFSETTO:-0500
TZNAME:EST
DTSTART:20251102T060000
END:STANDARD
BEGIN:DAYLIGHT
TZOFFSETFROM:-0500
TZOFFSETTO:-0400
TZNAME:EDT
DTSTART:20260308T070000
END:DAYLIGHT
BEGIN:STANDARD
TZOFFSETFROM:-0400
TZOFFSETTO:-0500
TZNAME:EST
DTSTART:20261101T060000
END:STANDARD
BEGIN:DAYLIGHT
TZOFFSETFROM:-0500
TZOFFSETTO:-0400
TZNAME:EDT
DTSTART:20270314T070000
END:DAYLIGHT
BEGIN:STANDARD
TZOFFSETFROM:-0400
TZOFFSETTO:-0500
TZNAME:EST
DTSTART:20271107T060000
END:STANDARD
END:VTIMEZONE
BEGIN:VEVENT
DTSTART;TZID=America/New_York:20260331T160000
DTEND;TZID=America/New_York:20260331T173000
DTSTAMP:20260419T160318
CREATED:20260317T142318Z
LAST-MODIFIED:20260412T234806Z
UID:10011738-1774972800-1774978200@concordacademy.org
SUMMARY:Boys Varsity Lacrosse vs Beaver Country Day (Away)
DESCRIPTION:\n\nEVENT DETAILS\n\nOpponent: Beaver Country Day\nHome/Away: Away\nLocation: Beaver Country Day\nResult: L 3-14\nShuttle At: 2:45 PM\nExcused At: 2:30 PM
URL:https://concordacademy.org/event/boys-varsity-lacrosse-vs-beaver-country-day-away/
CATEGORIES:Athletics Calendar,Boys Varsity Lacrosse
END:VEVENT
END:VCALENDAR