BEGIN:VCALENDAR
VERSION:2.0
PRODID:-//Concord Academy - ECPv6.15.17.1//NONSGML v1.0//EN
CALSCALE:GREGORIAN
METHOD:PUBLISH
X-WR-CALNAME:Concord Academy
X-ORIGINAL-URL:https://concordacademy.org
X-WR-CALDESC:Events for Concord Academy
REFRESH-INTERVAL;VALUE=DURATION:PT1H
X-Robots-Tag:noindex
X-PUBLISHED-TTL:PT1H
BEGIN:VTIMEZONE
TZID:America/New_York
BEGIN:DAYLIGHT
TZOFFSETFROM:-0500
TZOFFSETTO:-0400
TZNAME:EDT
DTSTART:20240310T070000
END:DAYLIGHT
BEGIN:STANDARD
TZOFFSETFROM:-0400
TZOFFSETTO:-0500
TZNAME:EST
DTSTART:20241103T060000
END:STANDARD
BEGIN:DAYLIGHT
TZOFFSETFROM:-0500
TZOFFSETTO:-0400
TZNAME:EDT
DTSTART:20250309T070000
END:DAYLIGHT
BEGIN:STANDARD
TZOFFSETFROM:-0400
TZOFFSETTO:-0500
TZNAME:EST
DTSTART:20251102T060000
END:STANDARD
BEGIN:DAYLIGHT
TZOFFSETFROM:-0500
TZOFFSETTO:-0400
TZNAME:EDT
DTSTART:20260308T070000
END:DAYLIGHT
BEGIN:STANDARD
TZOFFSETFROM:-0400
TZOFFSETTO:-0500
TZNAME:EST
DTSTART:20261101T060000
END:STANDARD
END:VTIMEZONE
BEGIN:VEVENT
DTSTART;TZID=America/New_York:20251108T134500
DTEND;TZID=America/New_York:20251108T160000
DTSTAMP:20260423T032557
CREATED:20250820T120000Z
LAST-MODIFIED:20251103T210031Z
UID:10011106-1762609500-1762617600@concordacademy.org
SUMMARY:Boys Varsity Cross Country NEPSTA (Highland Park\, Attleboro\, Ma)
DESCRIPTION:\n\nEVENT DETAILS\n\nOpponent: NEPSTA 2025 Championships\nHome/Away: Away\nLocation: Highland Park, 104 Mechanic St, Attleboro, Ma\nShuttle At: 10:00 a.m.  ( 1:45 p.m. Boys Varsity start; 3:05 p.m. Boys JV start)\nEstimated Return Time: 6:15 p.m.
URL:https://concordacademy.org/event/boys-varsity-cross-country-nepsta/
CATEGORIES:Athletics Calendar,Boys Varsity Cross Country
END:VEVENT
END:VCALENDAR