BEGIN:VCALENDAR
VERSION:2.0
PRODID:-//Concord Academy - ECPv6.15.17.1//NONSGML v1.0//EN
CALSCALE:GREGORIAN
METHOD:PUBLISH
X-ORIGINAL-URL:https://concordacademy.org
X-WR-CALDESC:Events for Concord Academy
REFRESH-INTERVAL;VALUE=DURATION:PT1H
X-Robots-Tag:noindex
X-PUBLISHED-TTL:PT1H
BEGIN:VTIMEZONE
TZID:America/New_York
BEGIN:DAYLIGHT
TZOFFSETFROM:-0500
TZOFFSETTO:-0400
TZNAME:EDT
DTSTART:20220313T070000
END:DAYLIGHT
BEGIN:STANDARD
TZOFFSETFROM:-0400
TZOFFSETTO:-0500
TZNAME:EST
DTSTART:20221106T060000
END:STANDARD
BEGIN:DAYLIGHT
TZOFFSETFROM:-0500
TZOFFSETTO:-0400
TZNAME:EDT
DTSTART:20230312T070000
END:DAYLIGHT
BEGIN:STANDARD
TZOFFSETFROM:-0400
TZOFFSETTO:-0500
TZNAME:EST
DTSTART:20231105T060000
END:STANDARD
BEGIN:DAYLIGHT
TZOFFSETFROM:-0500
TZOFFSETTO:-0400
TZNAME:EDT
DTSTART:20240310T070000
END:DAYLIGHT
BEGIN:STANDARD
TZOFFSETFROM:-0400
TZOFFSETTO:-0500
TZNAME:EST
DTSTART:20241103T060000
END:STANDARD
BEGIN:DAYLIGHT
TZOFFSETFROM:-0500
TZOFFSETTO:-0400
TZNAME:EDT
DTSTART:20250309T070000
END:DAYLIGHT
BEGIN:STANDARD
TZOFFSETFROM:-0400
TZOFFSETTO:-0500
TZNAME:EST
DTSTART:20251102T060000
END:STANDARD
BEGIN:DAYLIGHT
TZOFFSETFROM:-0500
TZOFFSETTO:-0400
TZNAME:EDT
DTSTART:20260308T070000
END:DAYLIGHT
BEGIN:STANDARD
TZOFFSETFROM:-0400
TZOFFSETTO:-0500
TZNAME:EST
DTSTART:20261101T060000
END:STANDARD
END:VTIMEZONE
BEGIN:VEVENT
DTSTART;TZID=America/New_York:20251031T160000
DTEND;TZID=America/New_York:20251031T171500
DTSTAMP:20260422T194717
CREATED:20250820T120000Z
LAST-MODIFIED:20250923T165059Z
UID:10011245-1761926400-1761930900@concordacademy.org
SUMMARY:Boys Thirds Soccer vs Landmark School JV. (Away)
DESCRIPTION:\n\nEVENT DETAILS\n\nOpponent: Landmark School\nHome/Away: Away\nLocation: Landmark School\nShuttle At: 2:35 p.m.
URL:https://concordacademy.org/event/boys-thirds-soccer-vs-landmark-school-away/
CATEGORIES:Athletics Calendar,Boys Thirds Soccer
END:VEVENT
BEGIN:VEVENT
DTSTART;TZID=America/New_York:20251029T160000
DTEND;TZID=America/New_York:20251029T171500
DTSTAMP:20260422T194717
CREATED:20250901T002802Z
LAST-MODIFIED:20251031T194228Z
UID:10011315-1761753600-1761758100@concordacademy.org
SUMMARY:Boys Thirds Soccer vs Chapel Hill-Chauncey Hall (Main Campus)
DESCRIPTION:\n\nEVENT DETAILS\n\nOpponent: Chapel Hill-Chauncy Hall School\nHome/Away: Home\nLocation: Main Campus\nResult: W 4-3
URL:https://concordacademy.org/event/boys-thirds-soccer-vs-chapel-hill-chauncey-hall-main-campus-2/
CATEGORIES:Athletics Calendar,Boys Thirds Soccer
END:VEVENT
BEGIN:VEVENT
DTSTART;TZID=America/New_York:20251029T153000
DTEND;TZID=America/New_York:20251029T164500
DTSTAMP:20260422T194717
CREATED:20250820T120000Z
LAST-MODIFIED:20250827T222022Z
UID:10011244-1761751800-1761756300@concordacademy.org
SUMMARY:Boys Thirds Soccer vs Pingree School (Home)
DESCRIPTION:\n\nEVENT DETAILS\n\nOpponent: Pingree School\nHome/Away: Home\nLocation: Main Campus
URL:https://concordacademy.org/event/boys-thirds-soccer-vs-pingree-school-home-3/
CATEGORIES:Athletics Calendar,Boys Thirds Soccer
END:VEVENT
BEGIN:VEVENT
DTSTART;TZID=America/New_York:20251024T160000
DTEND;TZID=America/New_York:20251024T171500
DTSTAMP:20260422T194717
CREATED:20250820T120000Z
LAST-MODIFIED:20251025T133951Z
UID:10011243-1761321600-1761326100@concordacademy.org
SUMMARY:Boys Thirds Soccer vs Middlesex School (CA's Main Campus)
DESCRIPTION:\n\nEVENT DETAILS\n\nOpponent: Middlesex School\nHome/Away: Home\nLocation: Main Campus, 166 Main St., Concord, MA\nResult: T 3-3
URL:https://concordacademy.org/event/boys-thirds-soccer-vs-middlesex-school-home/
CATEGORIES:Athletics Calendar,Boys Thirds Soccer
END:VEVENT
BEGIN:VEVENT
DTSTART;TZID=America/New_York:20251021T160000
DTEND;TZID=America/New_York:20251021T173000
DTSTAMP:20260422T194717
CREATED:20250914T132801Z
LAST-MODIFIED:20251025T135050Z
UID:10011319-1761062400-1761067800@concordacademy.org
SUMMARY:Boys Thirds Soccer vs Gann (@ CA Main campus)
DESCRIPTION:\n\nEVENT DETAILS\n\nOpponent: Gann Academy\nHome/Away: Home\nLocation: Main Campus, 166 Main St., Concord, MA\nResult: W 6-2
URL:https://concordacademy.org/event/boys-thirds-soccer-vs-gann-gann/
CATEGORIES:Athletics Calendar,Boys Thirds Soccer
END:VEVENT
BEGIN:VEVENT
DTSTART;TZID=America/New_York:20251018T140000
DTEND;TZID=America/New_York:20251018T151500
DTSTAMP:20260422T194717
CREATED:20250820T120000Z
LAST-MODIFIED:20250827T222202Z
UID:10011241-1760796000-1760800500@concordacademy.org
SUMMARY:Boys Thirds Soccer vs Pingree School (Pingree)
DESCRIPTION:\n\nEVENT DETAILS\n\nOpponent: Pingree School\nHome/Away: Away\nLocation: Pingree School\nShuttle At: 12:15 p.m.
URL:https://concordacademy.org/event/boys-thirds-soccer-vs-pingree-school-pingree-school-2/
CATEGORIES:Athletics Calendar,Boys Thirds Soccer
END:VEVENT
BEGIN:VEVENT
DTSTART;TZID=America/New_York:20251016T160000
DTEND;TZID=America/New_York:20251016T171500
DTSTAMP:20260422T194717
CREATED:20250820T120000Z
LAST-MODIFIED:20251014T210223Z
UID:10011242-1760630400-1760634900@concordacademy.org
SUMMARY:Boys Thirds Soccer vs Gann Academy (Main Campus)
DESCRIPTION:\n\nEVENT DETAILS\n\nOpponent: Gann Academy\nHome/Away: Home\nLocation: Main Campus
URL:https://concordacademy.org/event/boys-thirds-soccer-vs-gann-academy-main-campus/
CATEGORIES:Athletics Calendar,Boys Thirds Soccer
END:VEVENT
BEGIN:VEVENT
DTSTART;TZID=America/New_York:20251010T161500
DTEND;TZID=America/New_York:20251010T173000
DTSTAMP:20260422T194717
CREATED:20250820T120000Z
LAST-MODIFIED:20251008T002514Z
UID:10011240-1760112900-1760117400@concordacademy.org
SUMMARY:Boys Thirds Soccer vs BU Academy JV (Main campus)
DESCRIPTION:\n\nEVENT DETAILS\n\nOpponent: BU Academy JV Boys soccer\nHome/Away: Home\nLocation: Main campus  - upper field
URL:https://concordacademy.org/event/boys-thirds-soccer-vs-cushing-academy-main-campus/
CATEGORIES:Athletics Calendar,Boys Thirds Soccer
END:VEVENT
BEGIN:VEVENT
DTSTART;TZID=America/New_York:20251008T160000
DTEND;TZID=America/New_York:20251008T171500
DTSTAMP:20260422T194717
CREATED:20250820T120000Z
LAST-MODIFIED:20251010T205302Z
UID:10011239-1759939200-1759943700@concordacademy.org
SUMMARY:Boys Thirds Soccer vs Belmont Hill (Belmont Hill)
DESCRIPTION:\n\nEVENT DETAILS\n\nOpponent: Belmont Hill\nHome/Away: Away\nLocation: Belmont Hill\nResult: L 3-5\nShuttle At: 3:00 p.m.
URL:https://concordacademy.org/event/boys-thirds-soccer-vs-belmont-hill-belmont-hill/
CATEGORIES:Athletics Calendar,Boys Thirds Soccer
END:VEVENT
BEGIN:VEVENT
DTSTART;TZID=America/New_York:20251003T160000
DTEND;TZID=America/New_York:20251003T171500
DTSTAMP:20260422T194717
CREATED:20250820T120000Z
LAST-MODIFIED:20251004T012338Z
UID:10011238-1759507200-1759511700@concordacademy.org
SUMMARY:Boys Thirds Soccer vs Chapel Hill-Chauncey Hall (@CHCH)
DESCRIPTION:\n\nEVENT DETAILS\n\nOpponent: Chapel Hill-Chauncey Hall\nHome/Away: Away\nLocation: Chapel Hill-Chauncey Hall\nResult: W 4-0\nShuttle At: 2:45 PM\nEstimated Return Time: 6:00 PM
URL:https://concordacademy.org/event/boys-thirds-soccer-vs-chapel-hill-chauncey-hall-main-campus/
CATEGORIES:Athletics Calendar,Boys Thirds Soccer
END:VEVENT
BEGIN:VEVENT
DTSTART;TZID=America/New_York:20250930T163000
DTEND;TZID=America/New_York:20250930T174500
DTSTAMP:20260422T194717
CREATED:20250820T120000Z
LAST-MODIFIED:20251001T124907Z
UID:10011237-1759249800-1759254300@concordacademy.org
SUMMARY:Boys Thirds Soccer vs The Wheeler School (Main Campus)
DESCRIPTION:\n\nEVENT DETAILS\n\nOpponent: The Wheeler School\nHome/Away: Home\nLocation: Main Campus\nResult: L 0-5
URL:https://concordacademy.org/event/boys-thirds-soccer-vs-the-wheeler-school-main-campus/
CATEGORIES:Athletics Calendar,Boys Thirds Soccer
END:VEVENT
BEGIN:VEVENT
DTSTART;TZID=America/New_York:20250926T160000
DTEND;TZID=America/New_York:20250926T171500
DTSTAMP:20260422T194717
CREATED:20250820T120000Z
LAST-MODIFIED:20250930T141348Z
UID:10011236-1758902400-1758906900@concordacademy.org
SUMMARY:Boys Thirds Soccer vs Chapel Hill-Chauncey Hall (Main Campus)
DESCRIPTION:\n\nEVENT DETAILS\n\nOpponent: Chapel Hill-Chauncey Hall\nHome/Away: Home\nLocation: Main Campus, 166 Main St., Concord, MA\nResult: W 8-1
URL:https://concordacademy.org/event/boys-thirds-soccer-vs-chapel-hill-chauncey-hall-chapel-hill-chauncey-hall/
CATEGORIES:Athletics Calendar,Boys Thirds Soccer
END:VEVENT
BEGIN:VEVENT
DTSTART;TZID=America/New_York:20250924T160000
DTEND;TZID=America/New_York:20250924T173000
DTSTAMP:20260422T194717
CREATED:20250908T152833Z
LAST-MODIFIED:20250925T225727Z
UID:10011317-1758729600-1758735000@concordacademy.org
SUMMARY:Boys Thirds Soccer vs Portsmouth Abbey (@ Main Campus)
DESCRIPTION:\n\nEVENT DETAILS\n\nOpponent: Portsmouth Abbey School\nHome/Away: Home\nLocation: Main Campus, 166 Main St., Concord, MA\nResult: W 5-1
URL:https://concordacademy.org/event/boys-thirds-soccer-vs-portsmouth-abbey-portsmouth-abbey-2/
CATEGORIES:Athletics Calendar,Boys Thirds Soccer
END:VEVENT
BEGIN:VEVENT
DTSTART;TZID=America/New_York:20250919T163000
DTEND;TZID=America/New_York:20250919T174500
DTSTAMP:20260422T194717
CREATED:20250820T120000Z
LAST-MODIFIED:20250922T205644Z
UID:10011235-1758299400-1758303900@concordacademy.org
SUMMARY:Boys Thirds Soccer vs Cushing Academy (Cushing Academy)
DESCRIPTION:\n\nEVENT DETAILS\n\nOpponent: Cushing Academy\nHome/Away: Away\nLocation: Cushing Academy\nResult: T 1-1\nShuttle At: 2:35 p.m.
URL:https://concordacademy.org/event/boys-thirds-soccer-vs-cushing-academy-cushing-academy/
CATEGORIES:Athletics Calendar,Boys Thirds Soccer
END:VEVENT
BEGIN:VEVENT
DTSTART;TZID=America/New_York:20250917T163000
DTEND;TZID=America/New_York:20250917T174500
DTSTAMP:20260422T194717
CREATED:20250901T001845Z
LAST-MODIFIED:20250918T123432Z
UID:10011314-1758126600-1758131100@concordacademy.org
SUMMARY:Boys Thirds Soccer vs Portsmouth Abbey (@ Portsmouth Abbey)
DESCRIPTION:\n\nEVENT DETAILS\n\nOpponent: Portsmouth Abbey\nHome/Away: Away\nLocation: Portsmouth Abbey\nResult: L 1-2\nShuttle At: 2:00 pm\nExcused At: 1:50 p.m.\nEstimated Return Time: 7:30 p.m.
URL:https://concordacademy.org/event/boys-thirds-soccer-vs-portsmouth-abbey-portsmouth-abbey/
CATEGORIES:Athletics Calendar,Boys Thirds Soccer
END:VEVENT
BEGIN:VEVENT
DTSTART;TZID=America/New_York:20250912T161500
DTEND;TZID=America/New_York:20250912T173000
DTSTAMP:20260422T194718
CREATED:20250820T120000Z
LAST-MODIFIED:20250827T222157Z
UID:10011234-1757693700-1757698200@concordacademy.org
SUMMARY:Boys Thirds Soccer vs Pingree (Pingree)
DESCRIPTION:\n\nEVENT DETAILS\n\nOpponent: Pingree School\nHome/Away: Away\nLocation: Pingree School\nShuttle At: 2:30 p.m.
URL:https://concordacademy.org/event/boys-thirds-soccer-vs-pingree-school-pingree-school/
CATEGORIES:Athletics Calendar,Boys Thirds Soccer
END:VEVENT
BEGIN:VEVENT
DTSTART;TZID=America/New_York:20241101T153000
DTEND;TZID=America/New_York:20241101T170000
DTSTAMP:20260422T194718
CREATED:20240822T210606Z
LAST-MODIFIED:20241104T190401Z
UID:10010209-1730475000-1730480400@concordacademy.org
SUMMARY:Boys Thirds Soccer vs Landmark School (Home)
DESCRIPTION:\n\nEVENT DETAILS\n\nOpponent: Landmark School\nHome/Away: Home\nLocation: Main Campus\nResult: L 1-2
URL:https://concordacademy.org/event/boys-thirds-soccer-vs-landmark-school-home/
LOCATION:Main Campus\, 166 Main Street\, Concord\, MA\, 01742\, United States
CATEGORIES:Athletics Calendar,Boys Thirds Soccer
END:VEVENT
BEGIN:VEVENT
DTSTART;TZID=America/New_York:20241030T150000
DTEND;TZID=America/New_York:20241030T163000
DTSTAMP:20260422T194718
CREATED:20240822T210606Z
LAST-MODIFIED:20241030T213628Z
UID:10010208-1730300400-1730305800@concordacademy.org
SUMMARY:Boys Thirds Soccer vs Pingree School (Away)
DESCRIPTION:\n\nEVENT DETAILS\n\nOpponent: Pingree School\nHome/Away: Away\nLocation: Pingree School\nResult: L 1-2\nTransportation: Bedford Charter\nShuttle At: 1:45 p.m.
URL:https://concordacademy.org/event/boys-thirds-soccer-vs-pingree-school-away/
LOCATION:Pingree School\, 537 Highland St\, South Hamilton\, MA\, United States
CATEGORIES:Athletics Calendar,Boys Thirds Soccer
GEO:42.642327;-70.882903
X-APPLE-STRUCTURED-LOCATION;VALUE=URI;X-ADDRESS=Pingree School 537 Highland St South Hamilton MA United States;X-APPLE-RADIUS=500;X-TITLE=537 Highland St:geo:-70.882903,42.642327
END:VEVENT
BEGIN:VEVENT
DTSTART;TZID=America/New_York:20241025T153000
DTEND;TZID=America/New_York:20241025T173000
DTSTAMP:20260422T194718
CREATED:20240822T210605Z
LAST-MODIFIED:20241026T141938Z
UID:10010207-1729870200-1729877400@concordacademy.org
SUMMARY:Boys Thirds Soccer vs Middlesex School (Away)
DESCRIPTION:\n\nEVENT DETAILS\n\nOpponent: Middlesex School\nHome/Away: Away\nLocation: Middlesex School\nResult: T 2-2\nTransportation: Bedford Charter\nShuttle At: 2:45 p.m.
URL:https://concordacademy.org/event/boys-thirds-soccer-vs-middlesex-school-away/
LOCATION:Middlesex School
CATEGORIES:Athletics Calendar,Boys Thirds Soccer
END:VEVENT
BEGIN:VEVENT
DTSTART;TZID=America/New_York:20241023T160000
DTEND;TZID=America/New_York:20241023T173000
DTSTAMP:20260422T194718
CREATED:20240822T210604Z
LAST-MODIFIED:20251008T132025Z
UID:10010206-1729699200-1729704600@concordacademy.org
SUMMARY:Boys Thirds Soccer vs Gann Academy (Home)
DESCRIPTION:Canceled\n\nEVENT DETAILS\n\nOpponent: Gann Academy\nHome/Away: Home\nLocation: Main Campus- Canceled
URL:https://concordacademy.org/event/boys-thirds-soccer-vs-gann-academy-home-2/
LOCATION:Main Campus\, 166 Main Street\, Concord\, MA\, 01742\, United States
CATEGORIES:Athletics Calendar,Boys Thirds Soccer
END:VEVENT
BEGIN:VEVENT
DTSTART;TZID=America/New_York:20241019T110000
DTEND;TZID=America/New_York:20241019T123000
DTSTAMP:20260422T194718
CREATED:20240822T210604Z
LAST-MODIFIED:20241021T122540Z
UID:10010205-1729335600-1729341000@concordacademy.org
SUMMARY:Boys Thirds Soccer vs Pingree School (Home)
DESCRIPTION:\n\nEVENT DETAILS\n\nOpponent: Pingree School\nHome/Away: Home\nLocation: Main Campus\nResult: W 5-1
URL:https://concordacademy.org/event/boys-thirds-soccer-vs-pingree-school-home-2/
LOCATION:Main Campus\, 166 Main Street\, Concord\, MA\, 01742\, United States
CATEGORIES:Athletics Calendar,Boys Thirds Soccer
END:VEVENT
BEGIN:VEVENT
DTSTART;TZID=America/New_York:20241010T160000
DTEND;TZID=America/New_York:20241010T173000
DTSTAMP:20260422T194718
CREATED:20240822T210604Z
LAST-MODIFIED:20241011T002744Z
UID:10010204-1728576000-1728581400@concordacademy.org
SUMMARY:Boys Thirds Soccer vs Gann Academy (Home)- Moved from 10/9
DESCRIPTION:\n\nEVENT DETAILS\n\nOpponent: Gann Academy\nHome/Away: Home\nLocation: Main Campus\nResult: W 3-1
URL:https://concordacademy.org/event/boys-thirds-soccer-vs-gann-academy-home/
LOCATION:Main Campus\, 166 Main Street\, Concord\, MA\, 01742\, United States
CATEGORIES:Athletics Calendar,Boys Thirds Soccer
END:VEVENT
BEGIN:VEVENT
DTSTART;TZID=America/New_York:20241004T160000
DTEND;TZID=America/New_York:20241004T173000
DTSTAMP:20260422T194718
CREATED:20240822T210603Z
LAST-MODIFIED:20241005T003306Z
UID:10010203-1728057600-1728063000@concordacademy.org
SUMMARY:Boys Thirds Soccer vs Chapel Hill Chauncy Hall (Away)
DESCRIPTION:\n\nEVENT DETAILS\n\nOpponent: Chapel Hill Chauncy Hall\nHome/Away: Away\nLocation: Chapel Hill Chauncy Hall\nResult: T 1-1\nTransportation: Bedford Charter\nShuttle At: 2:45 p.m.
URL:https://concordacademy.org/event/boys-thirds-soccer-vs-chapel-hill-chauncy-hall-away/
LOCATION:Chapel Hill Chauncy Hall
CATEGORIES:Athletics Calendar,Boys Thirds Soccer
END:VEVENT
BEGIN:VEVENT
DTSTART;TZID=America/New_York:20241001T161500
DTEND;TZID=America/New_York:20241001T180000
DTSTAMP:20260422T194718
CREATED:20240822T210601Z
LAST-MODIFIED:20241002T121454Z
UID:10010202-1727799300-1727805600@concordacademy.org
SUMMARY:Boys Thirds Soccer vs Wheeler School (Away)
DESCRIPTION:\n\nEVENT DETAILS\n\nOpponent: Wheeler School\nHome/Away: Away\nLocation: Wheeler Farms- 357 Walker St, Seekonk, MA \nResult: T 1-1\nTransportation: Bedford Charter\nShuttle At: 2:00 p.m.\nExcused At: 2:00 p.m
URL:https://concordacademy.org/event/boys-thirds-soccer-vs-wheeler-school-away/
LOCATION:Wheeler School
CATEGORIES:Athletics Calendar,Boys Thirds Soccer
END:VEVENT
BEGIN:VEVENT
DTSTART;TZID=America/New_York:20240927T160000
DTEND;TZID=America/New_York:20240927T174500
DTSTAMP:20260422T194718
CREATED:20240822T210600Z
LAST-MODIFIED:20240823T141516Z
UID:10010201-1727452800-1727459100@concordacademy.org
SUMMARY:Boys Thirds Soccer vs Chapel Hill Chauncy Hall (Home)
DESCRIPTION:\n\nEVENT DETAILS\n\nOpponent: Chapel Hill Chauncy Hall\nHome/Away: Home\nLocation: Main Campus
URL:https://concordacademy.org/event/boys-thirds-soccer-vs-chapel-hill-chauncy-hall-home/
LOCATION:Main Campus\, 166 Main Street\, Concord\, MA\, 01742\, United States
CATEGORIES:Athletics Calendar,Boys Thirds Soccer
END:VEVENT
BEGIN:VEVENT
DTSTART;TZID=America/New_York:20240925T160000
DTEND;TZID=America/New_York:20240925T173000
DTSTAMP:20260422T194718
CREATED:20240822T210600Z
LAST-MODIFIED:20240823T141516Z
UID:10010200-1727280000-1727285400@concordacademy.org
SUMMARY:Boys Thirds Soccer vs Gann Academy (Away)
DESCRIPTION:\n\nEVENT DETAILS\n\nOpponent: Gann Academy\nHome/Away: Away\nLocation: Gann Academy\nTransportation: Bedford Charter\nShuttle At: 2:45 p.m.
URL:https://concordacademy.org/event/boys-thirds-soccer-vs-gann-academy-away/
LOCATION:Gann Academy
CATEGORIES:Athletics Calendar,Boys Thirds Soccer
END:VEVENT
BEGIN:VEVENT
DTSTART;TZID=America/New_York:20240920T163000
DTEND;TZID=America/New_York:20240920T174500
DTSTAMP:20260422T194718
CREATED:20240919T004204Z
LAST-MODIFIED:20240923T190228Z
UID:10010473-1726849800-1726854300@concordacademy.org
SUMMARY:Boys Thirds Soccer vs Cushing Academy (Home)
DESCRIPTION:\n\nEVENT DETAILS\n\nOpponent: Cushing Academy\nHome/Away: Home\nLocation: Main Campus\nResult: W 2-1
URL:https://concordacademy.org/event/boys-thirds-soccer-vs-cushing-academy-home/
LOCATION:Main Campus\, 166 Main Street\, Concord\, MA\, 01742\, United States
CATEGORIES:Athletics Calendar,Boys Thirds Soccer
END:VEVENT
BEGIN:VEVENT
DTSTART;TZID=America/New_York:20240918T161500
DTEND;TZID=America/New_York:20240918T180000
DTSTAMP:20260422T194718
CREATED:20240822T210600Z
LAST-MODIFIED:20240919T004658Z
UID:10010199-1726676100-1726682400@concordacademy.org
SUMMARY:Boys Thirds Soccer vs Portsmouth Abbey School (Away)
DESCRIPTION:\n\nEVENT DETAILS\n\nOpponent: Portsmouth Abbey School\nHome/Away: Away\nLocation: Portsmouth Abbey School\nResult: W 8-2\nTransportation: Bedford Charter\nShuttle At: 1:50 p.m.
URL:https://concordacademy.org/event/boys-thirds-soccer-vs-portsmouth-abbey-school-away/
LOCATION:Portsmouth Abbey School
CATEGORIES:Athletics Calendar,Boys Thirds Soccer
END:VEVENT
BEGIN:VEVENT
DTSTART;TZID=America/New_York:20240913T163000
DTEND;TZID=America/New_York:20240913T180000
DTSTAMP:20260422T194718
CREATED:20240822T210559Z
LAST-MODIFIED:20240916T213231Z
UID:10010198-1726245000-1726250400@concordacademy.org
SUMMARY:Boys Thirds Soccer vs Pingree School (Home)
DESCRIPTION:\n\nEVENT DETAILS\n\nOpponent: Pingree School\nHome/Away: Home\nLocation: Main Campus\nResult: W 3-0
URL:https://concordacademy.org/event/boys-thirds-soccer-vs-pingree-school-home/
LOCATION:Main Campus\, 166 Main Street\, Concord\, MA\, 01742\, United States
CATEGORIES:Athletics Calendar,Boys Thirds Soccer
END:VEVENT
BEGIN:VEVENT
DTSTART;TZID=America/New_York:20231103T153000
DTEND;TZID=America/New_York:20231103T170000
DTSTAMP:20260422T194718
CREATED:20240625T201200Z
LAST-MODIFIED:20240625T201200Z
UID:10004524-1699025400-1699030800@concordacademy.org
SUMMARY:Boys Thirds Soccer
DESCRIPTION:\n\nEVENT DETAILS\n\nOpponent: Landmark School\nHome/Away: Away\nLocation: Landmark School\nResult: W 3-2
URL:https://concordacademy.org/event/boys-thirds-soccer-13/
CATEGORIES:Athletics Calendar,Boys Thirds Soccer
END:VEVENT
BEGIN:VEVENT
DTSTART;TZID=America/New_York:20231027T160000
DTEND;TZID=America/New_York:20231027T173000
DTSTAMP:20260422T194718
CREATED:20240625T201200Z
LAST-MODIFIED:20240625T201200Z
UID:10004449-1698422400-1698427800@concordacademy.org
SUMMARY:Boys Thirds Soccer
DESCRIPTION:\n\nEVENT DETAILS\n\nOpponent: Middlesex School\nHome/Away: Away\nLocation: Middlesex School\nResult: L 0-2
URL:https://concordacademy.org/event/boys-thirds-soccer-12/
CATEGORIES:Athletics Calendar,Boys Thirds Soccer
END:VEVENT
BEGIN:VEVENT
DTSTART;TZID=America/New_York:20231025T160000
DTEND;TZID=America/New_York:20231025T173000
DTSTAMP:20260422T194718
CREATED:20240625T201200Z
LAST-MODIFIED:20240625T201200Z
UID:10004423-1698249600-1698255000@concordacademy.org
SUMMARY:Boys Thirds Soccer
DESCRIPTION:\n\nEVENT DETAILS\n\nOpponent: Gann Academy\nHome/Away: Home\nLocation: Main Campus-Upper Field\nResult: W 5-0
URL:https://concordacademy.org/event/boys-thirds-soccer-11/
CATEGORIES:Athletics Calendar,Boys Thirds Soccer
END:VEVENT
BEGIN:VEVENT
DTSTART;TZID=America/New_York:20231021T140000
DTEND;TZID=America/New_York:20231021T153000
DTSTAMP:20260422T194718
CREATED:20240625T201200Z
LAST-MODIFIED:20240625T201200Z
UID:10004372-1697896800-1697902200@concordacademy.org
SUMMARY:Boys Thirds Soccer
DESCRIPTION:\n\nEVENT DETAILS\n\nOpponent: Pingree School\nHome/Away: Away\nLocation: Pingree School-Gate Field\nResult: L 1-2
URL:https://concordacademy.org/event/boys-thirds-soccer-10/
CATEGORIES:Athletics Calendar,Boys Thirds Soccer
END:VEVENT
BEGIN:VEVENT
DTSTART;TZID=America/New_York:20231018T160000
DTEND;TZID=America/New_York:20231018T173000
DTSTAMP:20260422T194718
CREATED:20240625T201200Z
LAST-MODIFIED:20240625T201200Z
UID:10004336-1697644800-1697650200@concordacademy.org
SUMMARY:Boys Thirds Soccer
DESCRIPTION:\n\nEVENT DETAILS\n\nOpponent: Brimmer &amp; May School\nHome/Away: Home\nLocation: Main Campus-Upper Field\nResult: T 2-2
URL:https://concordacademy.org/event/boys-thirds-soccer-9/
CATEGORIES:Athletics Calendar,Boys Thirds Soccer
END:VEVENT
BEGIN:VEVENT
DTSTART;TZID=America/New_York:20231013T163000
DTEND;TZID=America/New_York:20231013T180000
DTSTAMP:20260422T194718
CREATED:20240625T201200Z
LAST-MODIFIED:20240625T201200Z
UID:10004280-1697214600-1697220000@concordacademy.org
SUMMARY:Boys Thirds Soccer
DESCRIPTION:\n\nEVENT DETAILS\n\nOpponent: Cushing Academy\nHome/Away: Home\nLocation: Main Campus-Upper Field\nResult: W 6-2
URL:https://concordacademy.org/event/boys-thirds-soccer-8/
CATEGORIES:Athletics Calendar,Boys Thirds Soccer
END:VEVENT
BEGIN:VEVENT
DTSTART;TZID=America/New_York:20231006T153000
DTEND;TZID=America/New_York:20231006T170000
DTSTAMP:20260422T194718
CREATED:20240625T201200Z
LAST-MODIFIED:20240625T201200Z
UID:10004178-1696606200-1696611600@concordacademy.org
SUMMARY:Boys Thirds Soccer
DESCRIPTION:\n\nEVENT DETAILS\n\nOpponent: Chapel Hill Chauncy Hall\nHome/Away: Home\nLocation: Main Campus-Middle Field\nResult: W 5-0
URL:https://concordacademy.org/event/boys-thirds-soccer-7/
CATEGORIES:Athletics Calendar,Boys Thirds Soccer
END:VEVENT
BEGIN:VEVENT
DTSTART;TZID=America/New_York:20231004T163000
DTEND;TZID=America/New_York:20231004T180000
DTSTAMP:20260422T194718
CREATED:20240625T201200Z
LAST-MODIFIED:20240625T201200Z
UID:10004163-1696437000-1696442400@concordacademy.org
SUMMARY:Boys Thirds Soccer
DESCRIPTION:\n\nEVENT DETAILS\n\nOpponent: Wheeler School\nHome/Away: Home\nLocation: Main Campus-Upper Field\nResult: L 0-2
URL:https://concordacademy.org/event/boys-thirds-soccer-6/
CATEGORIES:Athletics Calendar,Boys Thirds Soccer
END:VEVENT
BEGIN:VEVENT
DTSTART;TZID=America/New_York:20230929T161500
DTEND;TZID=America/New_York:20230929T174500
DTSTAMP:20260422T194718
CREATED:20240625T201200Z
LAST-MODIFIED:20240625T201200Z
UID:10004102-1696004100-1696009500@concordacademy.org
SUMMARY:Boys Thirds Soccer
DESCRIPTION:\n\nEVENT DETAILS\n\nOpponent: Chapel Hill Chauncy Hall\nHome/Away: Away\nLocation: Chapel Hill Chauncy Hall
URL:https://concordacademy.org/event/boys-thirds-soccer-5/
CATEGORIES:Athletics Calendar,Boys Thirds Soccer
END:VEVENT
BEGIN:VEVENT
DTSTART;TZID=America/New_York:20230927T161500
DTEND;TZID=America/New_York:20230927T174500
DTSTAMP:20260422T194718
CREATED:20240625T201159Z
LAST-MODIFIED:20240625T201159Z
UID:10004076-1695831300-1695836700@concordacademy.org
SUMMARY:Boys Thirds Soccer
DESCRIPTION:\n\nEVENT DETAILS\n\nOpponent: Marianapolis Prep\nHome/Away: Away\nLocation: Marianapolis Prepatory
URL:https://concordacademy.org/event/boys-thirds-soccer-4/
CATEGORIES:Athletics Calendar,Boys Thirds Soccer
END:VEVENT
BEGIN:VEVENT
DTSTART;TZID=America/New_York:20230926T161500
DTEND;TZID=America/New_York:20230926T174500
DTSTAMP:20260422T194718
CREATED:20240625T201159Z
LAST-MODIFIED:20240625T201159Z
UID:10004056-1695744900-1695750300@concordacademy.org
SUMMARY:Boys Thirds Soccer
DESCRIPTION:\n\nEVENT DETAILS\n\nOpponent: Pingree School\nHome/Away: Home\nLocation: Moriarty Athletic Campus\nResult: T 2-2
URL:https://concordacademy.org/event/boys-thirds-soccer-3/
CATEGORIES:Athletics Calendar,Boys Thirds Soccer
END:VEVENT
BEGIN:VEVENT
DTSTART;TZID=America/New_York:20230922T163000
DTEND;TZID=America/New_York:20230922T180000
DTSTAMP:20260422T194718
CREATED:20240625T201159Z
LAST-MODIFIED:20240625T201159Z
UID:10004017-1695400200-1695405600@concordacademy.org
SUMMARY:Boys Thirds Soccer
DESCRIPTION:\n\nEVENT DETAILS\n\nOpponent: Cushing Academy\nHome/Away: Away\nLocation: Cushing Academy\nResult: L 2-3
URL:https://concordacademy.org/event/boys-thirds-soccer-2/
CATEGORIES:Athletics Calendar,Boys Thirds Soccer
END:VEVENT
BEGIN:VEVENT
DTSTART;TZID=America/New_York:20230920T163000
DTEND;TZID=America/New_York:20230920T180000
DTSTAMP:20260422T194718
CREATED:20240625T201159Z
LAST-MODIFIED:20240625T201159Z
UID:10003994-1695227400-1695232800@concordacademy.org
SUMMARY:Boys Thirds Soccer
DESCRIPTION:\n\nEVENT DETAILS\n\nOpponent: Portsmouth Abbey School\nHome/Away: Away\nLocation: Portsmouth Abbey School\nResult: L 0-2
URL:https://concordacademy.org/event/boys-thirds-soccer/
CATEGORIES:Athletics Calendar,Boys Thirds Soccer
END:VEVENT
END:VCALENDAR