BEGIN:VCALENDAR
VERSION:2.0
PRODID:-//Concord Academy - ECPv6.15.17.1//NONSGML v1.0//EN
CALSCALE:GREGORIAN
METHOD:PUBLISH
X-WR-CALNAME:Concord Academy
X-ORIGINAL-URL:https://concordacademy.org
X-WR-CALDESC:Events for Concord Academy
REFRESH-INTERVAL;VALUE=DURATION:PT1H
X-Robots-Tag:noindex
X-PUBLISHED-TTL:PT1H
BEGIN:VTIMEZONE
TZID:America/New_York
BEGIN:DAYLIGHT
TZOFFSETFROM:-0500
TZOFFSETTO:-0400
TZNAME:EDT
DTSTART:20250309T070000
END:DAYLIGHT
BEGIN:STANDARD
TZOFFSETFROM:-0400
TZOFFSETTO:-0500
TZNAME:EST
DTSTART:20251102T060000
END:STANDARD
BEGIN:DAYLIGHT
TZOFFSETFROM:-0500
TZOFFSETTO:-0400
TZNAME:EDT
DTSTART:20260308T070000
END:DAYLIGHT
BEGIN:STANDARD
TZOFFSETFROM:-0400
TZOFFSETTO:-0500
TZNAME:EST
DTSTART:20261101T060000
END:STANDARD
BEGIN:DAYLIGHT
TZOFFSETFROM:-0500
TZOFFSETTO:-0400
TZNAME:EDT
DTSTART:20270314T070000
END:DAYLIGHT
BEGIN:STANDARD
TZOFFSETFROM:-0400
TZOFFSETTO:-0500
TZNAME:EST
DTSTART:20271107T060000
END:STANDARD
END:VTIMEZONE
BEGIN:VEVENT
DTSTART;TZID=America/New_York:20260127T160000
DTEND;TZID=America/New_York:20260127T180000
DTSTAMP:20260419T092626
CREATED:20251107T152709Z
LAST-MODIFIED:20260127T225842Z
UID:10011441-1769529600-1769536800@concordacademy.org
SUMMARY:Boys Junior Varsity Basketball vs Middlesex School (Away)
DESCRIPTION:\n\nEVENT DETAILS\n\nOpponent: Middlesex School\nHome/Away: Away\nLocation: Middlesex School\nResult: L 27-32\nShuttle At: 3:15 p.m.\nExcused At: 3:00 p.m.\nEstimated Return Time: 6:15 p.m.
URL:https://concordacademy.org/event/boys-junior-varsity-basketball-vs-middlesex-school-away/
CATEGORIES:Athletics Calendar,Boys Junior Varsity Basketball
END:VEVENT
BEGIN:VEVENT
DTSTART;TZID=America/New_York:20260130T160000
DTEND;TZID=America/New_York:20260130T180000
DTSTAMP:20260419T092626
CREATED:20251107T152709Z
LAST-MODIFIED:20260130T224010Z
UID:10011442-1769788800-1769796000@concordacademy.org
SUMMARY:Boys Junior Varsity Basketball vs Cambridge School of Weston (Home)
DESCRIPTION:\n\nEVENT DETAILS\n\nOpponent: Cambridge School of Weston\nHome/Away: Home\nLocation: SHAC\nResult: W 39-29
URL:https://concordacademy.org/event/boys-junior-varsity-basketball-vs-cambridge-school-of-weston-home/
CATEGORIES:Athletics Calendar,Boys Junior Varsity Basketball
END:VEVENT
END:VCALENDAR