BEGIN:VCALENDAR
VERSION:2.0
PRODID:-//Concord Academy - ECPv6.15.17.1//NONSGML v1.0//EN
CALSCALE:GREGORIAN
METHOD:PUBLISH
X-WR-CALNAME:Concord Academy
X-ORIGINAL-URL:https://concordacademy.org
X-WR-CALDESC:Events for Concord Academy
REFRESH-INTERVAL;VALUE=DURATION:PT1H
X-Robots-Tag:noindex
X-PUBLISHED-TTL:PT1H
BEGIN:VTIMEZONE
TZID:America/New_York
BEGIN:DAYLIGHT
TZOFFSETFROM:-0500
TZOFFSETTO:-0400
TZNAME:EDT
DTSTART:20240310T070000
END:DAYLIGHT
BEGIN:STANDARD
TZOFFSETFROM:-0400
TZOFFSETTO:-0500
TZNAME:EST
DTSTART:20241103T060000
END:STANDARD
BEGIN:DAYLIGHT
TZOFFSETFROM:-0500
TZOFFSETTO:-0400
TZNAME:EDT
DTSTART:20250309T070000
END:DAYLIGHT
BEGIN:STANDARD
TZOFFSETFROM:-0400
TZOFFSETTO:-0500
TZNAME:EST
DTSTART:20251102T060000
END:STANDARD
BEGIN:DAYLIGHT
TZOFFSETFROM:-0500
TZOFFSETTO:-0400
TZNAME:EDT
DTSTART:20260308T070000
END:DAYLIGHT
BEGIN:STANDARD
TZOFFSETFROM:-0400
TZOFFSETTO:-0500
TZNAME:EST
DTSTART:20261101T060000
END:STANDARD
END:VTIMEZONE
BEGIN:VEVENT
DTSTART;TZID=America/New_York:20251205T160000
DTEND;TZID=America/New_York:20251205T180000
DTSTAMP:20260425T212811
CREATED:20251107T152709Z
LAST-MODIFIED:20260112T234301Z
UID:10011434-1764950400-1764957600@concordacademy.org
SUMMARY:Boys Junior Varsity Basketball vs Beaver Country Day School (Home)
DESCRIPTION:\n\nEVENT DETAILS\n\nOpponent: Beaver Country Day\nHome/Away: Home\nLocation: SHAC\nResult: W 51-41
URL:https://concordacademy.org/event/boys-junior-varsity-basketball-vs-st-marks-school-home/
CATEGORIES:Athletics Calendar,Boys Junior Varsity Basketball
END:VEVENT
BEGIN:VEVENT
DTSTART;TZID=America/New_York:20251210T163000
DTEND;TZID=America/New_York:20251210T183000
DTSTAMP:20260425T212811
CREATED:20251107T152709Z
LAST-MODIFIED:20251211T193156Z
UID:10011435-1765384200-1765391400@concordacademy.org
SUMMARY:Boys Junior Varsity Basketball vs Berwick Academy (Away)
DESCRIPTION:\n\nEVENT DETAILS\n\nOpponent: Berwick Academy\nHome/Away: Away\nLocation: Berwick Academy\nResult: W 36-29\nShuttle At: 2:00 p.m.\nExcused At: 1:45 p.m.\nEstimated Return Time: 8:00 p.m.
URL:https://concordacademy.org/event/boys-junior-varsity-basketball-vs-berwick-academy-away/
CATEGORIES:Athletics Calendar,Boys Junior Varsity Basketball
END:VEVENT
BEGIN:VEVENT
DTSTART;TZID=America/New_York:20251212T180000
DTEND;TZID=America/New_York:20251212T193000
DTSTAMP:20260425T212811
CREATED:20251107T152708Z
LAST-MODIFIED:20251218T163523Z
UID:10011436-1765562400-1765567800@concordacademy.org
SUMMARY:Boys Junior Varsity Basketball vs St. Marks (Home)
DESCRIPTION:\n\nEVENT DETAILS\n\nOpponent: St. Marks \nHome/Away: Home\nLocation: SHAC\nResult: L 39-43\nEstimated Return Time: 8:00 p.m.
URL:https://concordacademy.org/event/boys-junior-varsity-basketball-vs-beaver-country-day-school-home/
CATEGORIES:Athletics Calendar,Boys Junior Varsity Basketball
END:VEVENT
END:VCALENDAR