BEGIN:VCALENDAR
VERSION:2.0
PRODID:-//Concord Academy - ECPv6.15.17.1//NONSGML v1.0//EN
CALSCALE:GREGORIAN
METHOD:PUBLISH
X-WR-CALNAME:Concord Academy
X-ORIGINAL-URL:https://concordacademy.org
X-WR-CALDESC:Events for Concord Academy
REFRESH-INTERVAL;VALUE=DURATION:PT1H
X-Robots-Tag:noindex
X-PUBLISHED-TTL:PT1H
BEGIN:VTIMEZONE
TZID:America/New_York
BEGIN:DAYLIGHT
TZOFFSETFROM:-0500
TZOFFSETTO:-0400
TZNAME:EDT
DTSTART:20240310T070000
END:DAYLIGHT
BEGIN:STANDARD
TZOFFSETFROM:-0400
TZOFFSETTO:-0500
TZNAME:EST
DTSTART:20241103T060000
END:STANDARD
BEGIN:DAYLIGHT
TZOFFSETFROM:-0500
TZOFFSETTO:-0400
TZNAME:EDT
DTSTART:20250309T070000
END:DAYLIGHT
BEGIN:STANDARD
TZOFFSETFROM:-0400
TZOFFSETTO:-0500
TZNAME:EST
DTSTART:20251102T060000
END:STANDARD
BEGIN:DAYLIGHT
TZOFFSETFROM:-0500
TZOFFSETTO:-0400
TZNAME:EDT
DTSTART:20260308T070000
END:DAYLIGHT
BEGIN:STANDARD
TZOFFSETFROM:-0400
TZOFFSETTO:-0500
TZNAME:EST
DTSTART:20261101T060000
END:STANDARD
END:VTIMEZONE
BEGIN:VEVENT
DTSTART;TZID=America/New_York:20250430T160000
DTEND;TZID=America/New_York:20250430T180000
DTSTAMP:20260421T010259
CREATED:20250304T021400Z
LAST-MODIFIED:20250501T201841Z
UID:10011012-1746028800-1746036000@concordacademy.org
SUMMARY:All-Gender Varsity Sailing vs Winchester HS
DESCRIPTION:\n\nEVENT DETAILS\n\nOpponent: Winchester HS\nHome/Away: Away\nLocation: Winchester Boat Club, 65 Cambridge Street, Winchester, MA 01890\nResult: W 3-0  (vs. Lincoln Sud.) , L 0-3 Belmont Hill , L 0-3 (vs. Winchester)\nShuttle At: 2:45 PM\nExcused At: 2:30 PM\nEstimated Return Time: 6:30 PM
URL:https://concordacademy.org/event/all-gender-varsity-sailing-vs-lincoln-sundbury-rhs-lake-cochituate/
CATEGORIES:All-Gender Varsity Sailing,Athletics Calendar
END:VEVENT
BEGIN:VEVENT
DTSTART;TZID=America/New_York:20250502T163000
DTEND;TZID=America/New_York:20250502T180000
DTSTAMP:20260421T010259
CREATED:20250304T021359Z
LAST-MODIFIED:20250505T005030Z
UID:10011013-1746203400-1746208800@concordacademy.org
SUMMARY:All-Gender Varsity Sailing vs Winthrop/Swampscott (Winthrop Yacht Club)
DESCRIPTION:\n\nEVENT DETAILS\n\nOpponent: Winthrop/Swampscott\nHome/Away: Away\nLocation: Winthrop Yacht Club\nResult: W 4-1\nShuttle At: 2:45 PM\nExcused At: 2:30 p.m.\nEstimated Return Time: 7:00 PM
URL:https://concordacademy.org/event/all-gender-varsity-sailing-vs-winthrop-swampscott-winthrop-yacht-club/
CATEGORIES:All-Gender Varsity Sailing,Athletics Calendar
END:VEVENT
END:VCALENDAR