BEGIN:VCALENDAR
VERSION:2.0
PRODID:-//Concord Academy - ECPv6.15.17.1//NONSGML v1.0//EN
CALSCALE:GREGORIAN
METHOD:PUBLISH
X-ORIGINAL-URL:https://concordacademy.org
X-WR-CALDESC:Events for Concord Academy
REFRESH-INTERVAL;VALUE=DURATION:PT1H
X-Robots-Tag:noindex
X-PUBLISHED-TTL:PT1H
BEGIN:VTIMEZONE
TZID:America/New_York
BEGIN:DAYLIGHT
TZOFFSETFROM:-0500
TZOFFSETTO:-0400
TZNAME:EDT
DTSTART:20220313T070000
END:DAYLIGHT
BEGIN:STANDARD
TZOFFSETFROM:-0400
TZOFFSETTO:-0500
TZNAME:EST
DTSTART:20221106T060000
END:STANDARD
BEGIN:DAYLIGHT
TZOFFSETFROM:-0500
TZOFFSETTO:-0400
TZNAME:EDT
DTSTART:20230312T070000
END:DAYLIGHT
BEGIN:STANDARD
TZOFFSETFROM:-0400
TZOFFSETTO:-0500
TZNAME:EST
DTSTART:20231105T060000
END:STANDARD
BEGIN:DAYLIGHT
TZOFFSETFROM:-0500
TZOFFSETTO:-0400
TZNAME:EDT
DTSTART:20240310T070000
END:DAYLIGHT
BEGIN:STANDARD
TZOFFSETFROM:-0400
TZOFFSETTO:-0500
TZNAME:EST
DTSTART:20241103T060000
END:STANDARD
BEGIN:DAYLIGHT
TZOFFSETFROM:-0500
TZOFFSETTO:-0400
TZNAME:EDT
DTSTART:20250309T070000
END:DAYLIGHT
BEGIN:STANDARD
TZOFFSETFROM:-0400
TZOFFSETTO:-0500
TZNAME:EST
DTSTART:20251102T060000
END:STANDARD
END:VTIMEZONE
BEGIN:VEVENT
DTSTART;TZID=America/New_York:20240424T160000
DTEND;TZID=America/New_York:20240424T180000
DTSTAMP:20260419T125947
CREATED:20240625T201148Z
LAST-MODIFIED:20240625T201148Z
UID:10006214-1713974400-1713981600@concordacademy.org
SUMMARY:All Gender Varsity Sailing
DESCRIPTION:\n\nEVENT DETAILS\n\nOpponent: Pingree School\nHome/Away: Away\nLocation: Manchester Yacht Club\nTransportation: CA minibus
URL:https://concordacademy.org/event/all-gender-varsity-sailing-14/
CATEGORIES:All-Gender Varsity Sailing,Athletics Calendar
END:VEVENT
BEGIN:VEVENT
DTSTART;TZID=America/New_York:20240419T160000
DTEND;TZID=America/New_York:20240419T180000
DTSTAMP:20260419T125947
CREATED:20240625T201148Z
LAST-MODIFIED:20240625T201148Z
UID:10006146-1713542400-1713549600@concordacademy.org
SUMMARY:All Gender Varsity Sailing
DESCRIPTION:\n\nEVENT DETAILS\n\nOpponent: Beverly High School\nHome/Away: Away\nLocation: Jubilee Yacht Club\nResult: W 3-2\nTransportation: CA minibus
URL:https://concordacademy.org/event/all-gender-varsity-sailing-13/
CATEGORIES:All-Gender Varsity Sailing,Athletics Calendar
END:VEVENT
BEGIN:VEVENT
DTSTART;TZID=America/New_York:20240417T160000
DTEND;TZID=America/New_York:20240417T180000
DTSTAMP:20260419T125947
CREATED:20240625T201148Z
LAST-MODIFIED:20240625T201148Z
UID:10006115-1713369600-1713376800@concordacademy.org
SUMMARY:All Gender Varsity Sailing
DESCRIPTION:\n\nEVENT DETAILS\n\nOpponent: Landmark School\nHome/Away: Away\nLocation: Tuck&#039;s point, Manchester\nResult: L 1-4\nTransportation: CA minibus
URL:https://concordacademy.org/event/all-gender-varsity-sailing-12/
CATEGORIES:All-Gender Varsity Sailing,Athletics Calendar
END:VEVENT
BEGIN:VEVENT
DTSTART;TZID=America/New_York:20240410T160000
DTEND;TZID=America/New_York:20240410T180000
DTSTAMP:20260419T125947
CREATED:20240625T201148Z
LAST-MODIFIED:20240625T201148Z
UID:10006031-1712764800-1712772000@concordacademy.org
SUMMARY:All Gender Varsity Sailing
DESCRIPTION:\n\nEVENT DETAILS\n\nOpponent: Salem High School\nHome/Away: Away\nLocation: TBA\nTransportation: CA minibus
URL:https://concordacademy.org/event/all-gender-varsity-sailing-11/
CATEGORIES:All-Gender Varsity Sailing,Athletics Calendar
END:VEVENT
BEGIN:VEVENT
DTSTART;TZID=America/New_York:20230517T160000
DTEND;TZID=America/New_York:20230517T180000
DTSTAMP:20260419T125947
CREATED:20240625T201148Z
LAST-MODIFIED:20240625T201148Z
UID:10003451-1684339200-1684346400@concordacademy.org
SUMMARY:All Gender Varsity Sailing
DESCRIPTION:\n\nEVENT DETAILS\n\nOpponent: Wayland High School\nHome/Away: Away\nLocation: Lake Cochituate\nTransportation: CA minibus
URL:https://concordacademy.org/event/all-gender-varsity-sailing-10/
CATEGORIES:All-Gender Varsity Sailing,Athletics Calendar
END:VEVENT
BEGIN:VEVENT
DTSTART;TZID=America/New_York:20230510T160000
DTEND;TZID=America/New_York:20230510T180000
DTSTAMP:20260419T125947
CREATED:20240625T201148Z
LAST-MODIFIED:20240625T201148Z
UID:10003345-1683734400-1683741600@concordacademy.org
SUMMARY:All Gender Varsity Sailing
DESCRIPTION:\n\nEVENT DETAILS\n\nOpponent: Wayland High School\nHome/Away: Away\nLocation: Winter Park, Salem\nResult: W 4-1\nTransportation: CA minibus
URL:https://concordacademy.org/event/all-gender-varsity-sailing-9/
CATEGORIES:All-Gender Varsity Sailing,Athletics Calendar
END:VEVENT
BEGIN:VEVENT
DTSTART;TZID=America/New_York:20230505T160000
DTEND;TZID=America/New_York:20230505T180000
DTSTAMP:20260419T125947
CREATED:20240625T201148Z
LAST-MODIFIED:20240625T201148Z
UID:10003267-1683302400-1683309600@concordacademy.org
SUMMARY:All Gender Varsity Sailing
DESCRIPTION:\n\nEVENT DETAILS\n\nOpponent: Gloucester High School\nHome/Away: Away\nLocation: Gloucester Harbor\nResult: L 0-3\nTransportation: CA minibus
URL:https://concordacademy.org/event/all-gender-varsity-sailing-8/
CATEGORIES:All-Gender Varsity Sailing,Athletics Calendar
END:VEVENT
BEGIN:VEVENT
DTSTART;TZID=America/New_York:20230503T160000
DTEND;TZID=America/New_York:20230503T180000
DTSTAMP:20260419T125947
CREATED:20240625T201147Z
LAST-MODIFIED:20240625T201147Z
UID:10003222-1683129600-1683136800@concordacademy.org
SUMMARY:All Gender Varsity Sailing
DESCRIPTION:\n\nEVENT DETAILS\n\nOpponent: Landmark School, Manchester High School\nHome/Away: Away\nLocation: Tuck&#039;s Point, Manchester\nTransportation: CA minibus
URL:https://concordacademy.org/event/all-gender-varsity-sailing-7/
CATEGORIES:All-Gender Varsity Sailing,Athletics Calendar
END:VEVENT
BEGIN:VEVENT
DTSTART;TZID=America/New_York:20230429T100000
DTEND;TZID=America/New_York:20230429T130000
DTSTAMP:20260419T125947
CREATED:20240625T201147Z
LAST-MODIFIED:20240625T201147Z
UID:10003180-1682762400-1682773200@concordacademy.org
SUMMARY:All Gender Varsity Sailing
DESCRIPTION:\n\nEVENT DETAILS\n\nOpponent: Cape Cod Academy\nHome/Away: Away\nLocation: Wianno, Yacht Club\nTransportation: CA minibus
URL:https://concordacademy.org/event/all-gender-varsity-sailing-6/
CATEGORIES:All-Gender Varsity Sailing,Athletics Calendar
END:VEVENT
BEGIN:VEVENT
DTSTART;TZID=America/New_York:20230428T160000
DTEND;TZID=America/New_York:20230428T180000
DTSTAMP:20260419T125947
CREATED:20240625T201147Z
LAST-MODIFIED:20240625T201147Z
UID:10003163-1682697600-1682704800@concordacademy.org
SUMMARY:All Gender Varsity Sailing
DESCRIPTION:\n\nEVENT DETAILS\n\nOpponent: Beverly High School\nHome/Away: Away\nLocation: Jubilee Yacht Club\nResult: W 5-0\nTransportation: CA minibus
URL:https://concordacademy.org/event/all-gender-varsity-sailing-5/
CATEGORIES:All-Gender Varsity Sailing,Athletics Calendar
END:VEVENT
BEGIN:VEVENT
DTSTART;TZID=America/New_York:20230426T160000
DTEND;TZID=America/New_York:20230426T180000
DTSTAMP:20260419T125947
CREATED:20240625T201147Z
LAST-MODIFIED:20240625T201147Z
UID:10003133-1682524800-1682532000@concordacademy.org
SUMMARY:All Gender Varsity Sailing
DESCRIPTION:\n\nEVENT DETAILS\n\nOpponent: Winthrop High School\nHome/Away: Away\nLocation: Winthrop, Yacht Club\nResult: L 0-5\nTransportation: CA minibus
URL:https://concordacademy.org/event/all-gender-varsity-sailing-4/
CATEGORIES:All-Gender Varsity Sailing,Athletics Calendar
END:VEVENT
BEGIN:VEVENT
DTSTART;TZID=America/New_York:20230421T160000
DTEND;TZID=America/New_York:20230421T180000
DTSTAMP:20260419T125947
CREATED:20240625T201147Z
LAST-MODIFIED:20240625T201147Z
UID:10003068-1682092800-1682100000@concordacademy.org
SUMMARY:All Gender Varsity Sailing
DESCRIPTION:\n\nEVENT DETAILS\n\nOpponent: Landmark School\nHome/Away: Away\nLocation: Tuck&#039;s Point, Manchester\nTransportation: CA minibus
URL:https://concordacademy.org/event/all-gender-varsity-sailing-3/
CATEGORIES:All-Gender Varsity Sailing,Athletics Calendar
END:VEVENT
BEGIN:VEVENT
DTSTART;TZID=America/New_York:20230419T160000
DTEND;TZID=America/New_York:20230419T180000
DTSTAMP:20260419T125947
CREATED:20240625T201147Z
LAST-MODIFIED:20240625T201147Z
UID:10003041-1681920000-1681927200@concordacademy.org
SUMMARY:All Gender Varsity Sailing
DESCRIPTION:\n\nEVENT DETAILS\n\nOpponent: Pingree School\nHome/Away: Away\nLocation: Tuck&#039;s Point, Manchester\nResult: W 4-1\nTransportation: CA minibus
URL:https://concordacademy.org/event/all-gender-varsity-sailing-2/
CATEGORIES:All-Gender Varsity Sailing,Athletics Calendar
END:VEVENT
BEGIN:VEVENT
DTSTART;TZID=America/New_York:20230412T160000
DTEND;TZID=America/New_York:20230412T180000
DTSTAMP:20260419T125947
CREATED:20240625T201147Z
LAST-MODIFIED:20240625T201147Z
UID:10002953-1681315200-1681322400@concordacademy.org
SUMMARY:All Gender Varsity Sailing
DESCRIPTION:\n\nEVENT DETAILS\n\nOpponent: Pingree School\nHome/Away: Away\nLocation: Tuck&#039;s Point, Manchester\nTransportation: CA minibus
URL:https://concordacademy.org/event/all-gender-varsity-sailing/
CATEGORIES:All-Gender Varsity Sailing,Athletics Calendar
END:VEVENT
END:VCALENDAR