BEGIN:VCALENDAR
VERSION:2.0
PRODID:-//Concord Academy - ECPv6.15.17.1//NONSGML v1.0//EN
CALSCALE:GREGORIAN
METHOD:PUBLISH
X-ORIGINAL-URL:https://concordacademy.org
X-WR-CALDESC:Events for Concord Academy
REFRESH-INTERVAL;VALUE=DURATION:PT1H
X-Robots-Tag:noindex
X-PUBLISHED-TTL:PT1H
BEGIN:VTIMEZONE
TZID:America/New_York
BEGIN:DAYLIGHT
TZOFFSETFROM:-0500
TZOFFSETTO:-0400
TZNAME:EDT
DTSTART:20240310T070000
END:DAYLIGHT
BEGIN:STANDARD
TZOFFSETFROM:-0400
TZOFFSETTO:-0500
TZNAME:EST
DTSTART:20241103T060000
END:STANDARD
BEGIN:DAYLIGHT
TZOFFSETFROM:-0500
TZOFFSETTO:-0400
TZNAME:EDT
DTSTART:20250309T070000
END:DAYLIGHT
BEGIN:STANDARD
TZOFFSETFROM:-0400
TZOFFSETTO:-0500
TZNAME:EST
DTSTART:20251102T060000
END:STANDARD
BEGIN:DAYLIGHT
TZOFFSETFROM:-0500
TZOFFSETTO:-0400
TZNAME:EDT
DTSTART:20260308T070000
END:DAYLIGHT
BEGIN:STANDARD
TZOFFSETFROM:-0400
TZOFFSETTO:-0500
TZNAME:EST
DTSTART:20261101T060000
END:STANDARD
END:VTIMEZONE
BEGIN:VEVENT
DTSTART;TZID=America/New_York:20250416T160000
DTEND;TZID=America/New_York:20250416T180000
DTSTAMP:20260421T010644
CREATED:20250304T021406Z
LAST-MODIFIED:20251008T132454Z
UID:10011009-1744819200-1744826400@concordacademy.org
SUMMARY:All-Gender Varsity Sailing vs Dover (Sherborn High School)
DESCRIPTION:\n\nEVENT DETAILS\n\nOpponent: Dover-Sherborn RHS\nHome/Away: Away\nLocation: Lake Massapoug, Sharon Ma\nShuttle At: 2:30 PM ( leave school for ride to practice on lake )\nExcused At: 2:15 PM\nEstimated Return Time: 5:30 pm  -Return from practice 
URL:https://concordacademy.org/event/all-gender-varsity-sailing-vs-dover-sherborn-rhs-lake-massapoug-sharon-ma/
CATEGORIES:All-Gender Varsity Sailing,Athletics Calendar
END:VEVENT
END:VCALENDAR