BEGIN:VCALENDAR
VERSION:2.0
PRODID:-//Concord Academy - ECPv6.15.17.1//NONSGML v1.0//EN
CALSCALE:GREGORIAN
METHOD:PUBLISH
X-ORIGINAL-URL:https://concordacademy.org
X-WR-CALDESC:Events for Concord Academy
REFRESH-INTERVAL;VALUE=DURATION:PT1H
X-Robots-Tag:noindex
X-PUBLISHED-TTL:PT1H
BEGIN:VTIMEZONE
TZID:America/New_York
BEGIN:DAYLIGHT
TZOFFSETFROM:-0500
TZOFFSETTO:-0400
TZNAME:EDT
DTSTART:20240310T070000
END:DAYLIGHT
BEGIN:STANDARD
TZOFFSETFROM:-0400
TZOFFSETTO:-0500
TZNAME:EST
DTSTART:20241103T060000
END:STANDARD
BEGIN:DAYLIGHT
TZOFFSETFROM:-0500
TZOFFSETTO:-0400
TZNAME:EDT
DTSTART:20250309T070000
END:DAYLIGHT
BEGIN:STANDARD
TZOFFSETFROM:-0400
TZOFFSETTO:-0500
TZNAME:EST
DTSTART:20251102T060000
END:STANDARD
BEGIN:DAYLIGHT
TZOFFSETFROM:-0500
TZOFFSETTO:-0400
TZNAME:EDT
DTSTART:20260308T070000
END:DAYLIGHT
BEGIN:STANDARD
TZOFFSETFROM:-0400
TZOFFSETTO:-0500
TZNAME:EST
DTSTART:20261101T060000
END:STANDARD
END:VTIMEZONE
BEGIN:VEVENT
DTSTART;TZID=America/New_York:20250207T180000
DTEND;TZID=America/New_York:20250207T200000
DTSTAMP:20260422T162907
CREATED:20250211T234150Z
LAST-MODIFIED:20260422T202231Z
UID:10010873-1738951200-1738958400@concordacademy.org
SUMMARY:Self Defense Seminar
DESCRIPTION:
URL:https://concordacademy.org/event/self-defense-seminar/
LOCATION:MAC – 105 Ransome Room
CATEGORIES:All School Events
ORGANIZER;CN="concordacademy.org_lg8bsrdt1orqabfoh4mupn6k38@group.calendar.google.com":MAILTO:concordacademy.org_lg8bsrdt1orqabfoh4mupn6k38@group.calendar.google.com
END:VEVENT
BEGIN:VEVENT
DTSTART;TZID=America/New_York:20250207T200000
DTEND;TZID=America/New_York:20250207T220000
DTSTAMP:20260422T162907
CREATED:20240910T170044Z
LAST-MODIFIED:20260422T202225Z
UID:10010417-1738958400-1738965600@concordacademy.org
SUMMARY:International Potluck
DESCRIPTION:On Friday\, February 7\, we will be hosting the CA Community International Potluck for all students\, faculty\, and staff from 8:00 to 10:00 p.m. in the Student-Faculty Dining Hall. \nThis event is an opportunity for CA families to share and celebrate their cultural and family traditions. For some\, the meal is an introduction to dishes from other regions of the U.S. and the world\, while for others\, it provides comfort\, as students enjoy the cooking they miss from home. Most importantly\, this event is about bringing people together to share in the gift of food.  \nThere are many ways to be involved for both day and boarding families. You can bring homemade food to this event or order dishes from local restaurants\, which can be picked up and brought to the event by parent volunteers. Venmo donations are also always appreciated if you prefer for other parent volunteers to choose the restaurants and the dishes on your behalf.  \nMore details\, like how to get involved\, will be available closer to the event. Please reach out meredith_walsh@concordacademy.org with any questions.
URL:https://concordacademy.org/event/international-potluck/
CATEGORIES:All School Events
END:VEVENT
END:VCALENDAR