BEGIN:VCALENDAR
VERSION:2.0
PRODID:-//Concord Academy - ECPv6.15.17.1//NONSGML v1.0//EN
CALSCALE:GREGORIAN
METHOD:PUBLISH
X-ORIGINAL-URL:https://concordacademy.org
X-WR-CALDESC:Events for Concord Academy
REFRESH-INTERVAL;VALUE=DURATION:PT1H
X-Robots-Tag:noindex
X-PUBLISHED-TTL:PT1H
BEGIN:VTIMEZONE
TZID:America/New_York
BEGIN:DAYLIGHT
TZOFFSETFROM:-0500
TZOFFSETTO:-0400
TZNAME:EDT
DTSTART:20230312T070000
END:DAYLIGHT
BEGIN:STANDARD
TZOFFSETFROM:-0400
TZOFFSETTO:-0500
TZNAME:EST
DTSTART:20231105T060000
END:STANDARD
BEGIN:DAYLIGHT
TZOFFSETFROM:-0500
TZOFFSETTO:-0400
TZNAME:EDT
DTSTART:20240310T070000
END:DAYLIGHT
BEGIN:STANDARD
TZOFFSETFROM:-0400
TZOFFSETTO:-0500
TZNAME:EST
DTSTART:20241103T060000
END:STANDARD
BEGIN:DAYLIGHT
TZOFFSETFROM:-0500
TZOFFSETTO:-0400
TZNAME:EDT
DTSTART:20250309T070000
END:DAYLIGHT
BEGIN:STANDARD
TZOFFSETFROM:-0400
TZOFFSETTO:-0500
TZNAME:EST
DTSTART:20251102T060000
END:STANDARD
END:VTIMEZONE
BEGIN:VEVENT
DTSTART;TZID=America/New_York:20240910T091500
DTEND;TZID=America/New_York:20240910T100000
DTSTAMP:20260424T171547
CREATED:20240910T170016Z
LAST-MODIFIED:20260424T202111Z
UID:10010351-1725959700-1725962400@concordacademy.org
SUMMARY:CA Parents Coffee & Conversation
DESCRIPTION:CA Parents will be offering a monthly casual opportunity to meet and connect with fellow CA parents. Join us at the Moriarty Athletic Campus. CA Parents President Jared Johnson P’25 and Associate Director of Engagement & Parent Program Meredith Walsh will be there to answer questions about CA and the community.
URL:https://concordacademy.org/event/ca-parents-coffee-conversation/
CATEGORIES:All School Events
END:VEVENT
BEGIN:VEVENT
DTSTART;TZID=America/New_York:20240910T180000
DTEND;TZID=America/New_York:20240910T193000
DTSTAMP:20260424T171547
CREATED:20240910T170016Z
LAST-MODIFIED:20260424T202111Z
UID:10010352-1725991200-1725996600@concordacademy.org
SUMMARY:CARE Program Dinner & Orientation
DESCRIPTION:For local day CARE Families and boarding CARE students\, thank you for volunteering to be a part of the CARE (Concord Academy Residential Enrichment) Program! We look forward to welcoming you to campus for our CARE Dinner and Orientation to kick off the year. \nFor our families who are new to the CARE program\, we have matched you with a boarding student and you will receive information about them prior to the dinner. This dinner is your opportunity to meet and start getting to know each other. For returning CARE families\, this dinner is a chance to reconnect and enjoy a meal together. It should be a fun and casual opportunity to build connections. All local CARE families are encouraged to bring their own students to the dinner as well. Following the dinner\, we will be holding a brief orientation for all of our new families. \nMore information\, including how to register\, will be available soon.
URL:https://concordacademy.org/event/care-program-dinner-orientation/
LOCATION:Ransome Room\, Math and Arts Center
CATEGORIES:All School Events
END:VEVENT
END:VCALENDAR