BEGIN:VCALENDAR
VERSION:2.0
PRODID:-//Concord Academy - ECPv6.15.17.1//NONSGML v1.0//EN
CALSCALE:GREGORIAN
METHOD:PUBLISH
X-WR-CALNAME:Concord Academy
X-ORIGINAL-URL:https://concordacademy.org
X-WR-CALDESC:Events for Concord Academy
REFRESH-INTERVAL;VALUE=DURATION:PT1H
X-Robots-Tag:noindex
X-PUBLISHED-TTL:PT1H
BEGIN:VTIMEZONE
TZID:America/New_York
BEGIN:DAYLIGHT
TZOFFSETFROM:-0500
TZOFFSETTO:-0400
TZNAME:EDT
DTSTART:20230312T070000
END:DAYLIGHT
BEGIN:STANDARD
TZOFFSETFROM:-0400
TZOFFSETTO:-0500
TZNAME:EST
DTSTART:20231105T060000
END:STANDARD
BEGIN:DAYLIGHT
TZOFFSETFROM:-0500
TZOFFSETTO:-0400
TZNAME:EDT
DTSTART:20240310T070000
END:DAYLIGHT
BEGIN:STANDARD
TZOFFSETFROM:-0400
TZOFFSETTO:-0500
TZNAME:EST
DTSTART:20241103T060000
END:STANDARD
BEGIN:DAYLIGHT
TZOFFSETFROM:-0500
TZOFFSETTO:-0400
TZNAME:EDT
DTSTART:20250309T070000
END:DAYLIGHT
BEGIN:STANDARD
TZOFFSETFROM:-0400
TZOFFSETTO:-0500
TZNAME:EST
DTSTART:20251102T060000
END:STANDARD
END:VTIMEZONE
BEGIN:VEVENT
DTSTART;VALUE=DATE:20240902
DTEND;VALUE=DATE:20240903
DTSTAMP:20260425T193648
CREATED:20240803T012051Z
LAST-MODIFIED:20260425T224951Z
UID:10008362-1725235200-1725321599@concordacademy.org
SUMMARY:Labor Day; offices open; houses open
DESCRIPTION:
URL:https://concordacademy.org/event/labor-day-offices-open-houses-open/
CATEGORIES:All School Events
END:VEVENT
BEGIN:VEVENT
DTSTART;VALUE=DATE:20240902
DTEND;VALUE=DATE:20240903
DTSTAMP:20260425T193648
CREATED:20240803T012051Z
LAST-MODIFIED:20260425T224954Z
UID:10008366-1725235200-1725321599@concordacademy.org
SUMMARY:Returning Boarding Student Registration
DESCRIPTION:
URL:https://concordacademy.org/event/returning-boarding-student-registration/
CATEGORIES:All School Events
END:VEVENT
BEGIN:VEVENT
DTSTART;VALUE=DATE:20240902
DTEND;VALUE=DATE:20240903
DTSTAMP:20260425T193648
CREATED:20240803T012051Z
LAST-MODIFIED:20260425T224952Z
UID:10008368-1725235200-1725321599@concordacademy.org
SUMMARY:Returning Day Student Registration
DESCRIPTION:
URL:https://concordacademy.org/event/returning-day-student-registration-2/
CATEGORIES:All School Events
END:VEVENT
BEGIN:VEVENT
DTSTART;VALUE=DATE:20240902
DTEND;VALUE=DATE:20240906
DTSTAMP:20260425T193648
CREATED:20240803T012052Z
LAST-MODIFIED:20260425T224951Z
UID:10008364-1725235200-1725580799@concordacademy.org
SUMMARY:Fall Tryouts
DESCRIPTION:
URL:https://concordacademy.org/event/fall-tryouts/
CATEGORIES:All School Events
END:VEVENT
BEGIN:VEVENT
DTSTART;TZID=America/New_York:20240902T130000
DTEND;TZID=America/New_York:20240902T134500
DTSTAMP:20260425T193648
CREATED:20240803T012051Z
LAST-MODIFIED:20260425T224954Z
UID:10008359-1725282000-1725284700@concordacademy.org
SUMMARY:Returning Day Student Registration
DESCRIPTION:
URL:https://concordacademy.org/event/returning-day-student-registration/
CATEGORIES:All School Events
END:VEVENT
BEGIN:VEVENT
DTSTART;TZID=America/New_York:20240902T140000
DTEND;TZID=America/New_York:20240902T170000
DTSTAMP:20260425T193648
CREATED:20240803T012051Z
LAST-MODIFIED:20260425T224954Z
UID:10008363-1725285600-1725296400@concordacademy.org
SUMMARY:Fall Team Athletic Tryouts
DESCRIPTION:
URL:https://concordacademy.org/event/fall-team-athletic-tryouts/
CATEGORIES:All School Events
END:VEVENT
END:VCALENDAR