BEGIN:VCALENDAR
VERSION:2.0
PRODID:-//Concord Academy - ECPv6.15.17.1//NONSGML v1.0//EN
CALSCALE:GREGORIAN
METHOD:PUBLISH
X-WR-CALNAME:Concord Academy
X-ORIGINAL-URL:https://concordacademy.org
X-WR-CALDESC:Events for Concord Academy
REFRESH-INTERVAL;VALUE=DURATION:PT1H
X-Robots-Tag:noindex
X-PUBLISHED-TTL:PT1H
BEGIN:VTIMEZONE
TZID:America/New_York
BEGIN:DAYLIGHT
TZOFFSETFROM:-0500
TZOFFSETTO:-0400
TZNAME:EDT
DTSTART:20250309T070000
END:DAYLIGHT
BEGIN:STANDARD
TZOFFSETFROM:-0400
TZOFFSETTO:-0500
TZNAME:EST
DTSTART:20251102T060000
END:STANDARD
BEGIN:DAYLIGHT
TZOFFSETFROM:-0500
TZOFFSETTO:-0400
TZNAME:EDT
DTSTART:20260308T070000
END:DAYLIGHT
BEGIN:STANDARD
TZOFFSETFROM:-0400
TZOFFSETTO:-0500
TZNAME:EST
DTSTART:20261101T060000
END:STANDARD
BEGIN:DAYLIGHT
TZOFFSETFROM:-0500
TZOFFSETTO:-0400
TZNAME:EDT
DTSTART:20270314T070000
END:DAYLIGHT
BEGIN:STANDARD
TZOFFSETFROM:-0400
TZOFFSETTO:-0500
TZNAME:EST
DTSTART:20271107T060000
END:STANDARD
END:VTIMEZONE
BEGIN:VEVENT
DTSTART;TZID=America/New_York:20260410T160000
DTEND;TZID=America/New_York:20260410T173000
DTSTAMP:20260420T061955
CREATED:20260302T144003Z
LAST-MODIFIED:20260412T235142Z
UID:10011665-1775836800-1775842200@concordacademy.org
SUMMARY:Boys Varsity Lacrosse vs Chapel Hill-Chauncy Hall (Home)
DESCRIPTION:\n\nEVENT DETAILS\n\nOpponent: Chapel Hill Chauncy Hall School\nHome/Away: Home\nLocation: Moriarty Athletic Campus\nResult: L 5-6\nTransportation: 3:00 p.m. Shuttle\nExcused At: 2:45 PM
URL:https://concordacademy.org/event/boys-varsity-lacrosse-vs-chapel-hill-chauncy-hall-school-home/
CATEGORIES:Athletics Calendar,Boys Varsity Lacrosse
END:VEVENT
BEGIN:VEVENT
DTSTART;TZID=America/New_York:20260410T160000
DTEND;TZID=America/New_York:20260410T180000
DTSTAMP:20260420T061955
CREATED:20260302T143039Z
LAST-MODIFIED:20260413T001014Z
UID:10011607-1775836800-1775844000@concordacademy.org
SUMMARY:Girls Varsity Softball vs Beaver Country Day School (Home)
DESCRIPTION:\n\nEVENT DETAILS\n\nOpponent: Beaver Country Day School\nHome/Away: Home\nLocation: Main Campus\nResult: L 0-13\nExcused At: 3:00 p.m.
URL:https://concordacademy.org/event/girls-varsity-softball-vs-beaver-country-day-school-home/
CATEGORIES:Athletics Calendar,Girls Varsity Softball
END:VEVENT
BEGIN:VEVENT
DTSTART;TZID=America/New_York:20260410T160000
DTEND;TZID=America/New_York:20260410T180000
DTSTAMP:20260420T061955
CREATED:20260302T151009Z
LAST-MODIFIED:20260412T234352Z
UID:10011725-1775836800-1775844000@concordacademy.org
SUMMARY:Boys Varsity Baseball vs Landmark School (Away)
DESCRIPTION:\n\nEVENT DETAILS\n\nOpponent: Landmark School\nHome/Away: Away\nLocation: Landmark School\nResult: W 19-7\nShuttle At: 2:00 p.m.\nExcused At: 1:45
URL:https://concordacademy.org/event/boys-varsity-baseball-vs-landmark-school-away/
CATEGORIES:Athletics Calendar,Boys Varsity Baseball
END:VEVENT
BEGIN:VEVENT
DTSTART;TZID=America/New_York:20260410T161500
DTEND;TZID=America/New_York:20260410T180000
DTSTAMP:20260420T061955
CREATED:20260302T150351Z
LAST-MODIFIED:20260412T233605Z
UID:10011701-1775837700-1775844000@concordacademy.org
SUMMARY:All-Gender Varsity Ultimate Frisbee vs Pomfret School (Away)
DESCRIPTION:\n\nEVENT DETAILS\n\nOpponent: Pomfret School\nHome/Away: Away\nLocation: Pomfret School\nResult: W 15-3\nShuttle At: 2:15 p.m.\nExcused At: 2:00 p.m.\nEstimated Return Time: 7:30 p.m.
URL:https://concordacademy.org/event/all-gender-varsity-ultimate-frisbee-vs-pomfret-school-away/
CATEGORIES:All-Gender Varsity Ultimate Frisbee,Athletics Calendar
END:VEVENT
BEGIN:VEVENT
DTSTART;TZID=America/New_York:20260410T163000
DTEND;TZID=America/New_York:20260410T180000
DTSTAMP:20260420T061955
CREATED:20260302T145542Z
LAST-MODIFIED:20260412T235729Z
UID:10011678-1775838600-1775844000@concordacademy.org
SUMMARY:Girls Varsity Lacrosse vs St. Andrews School (Home)
DESCRIPTION:\n\nEVENT DETAILS\n\nOpponent: St. Andrews School\nHome/Away: Home\nLocation: Moriarty Athletic Campus\nResult: W 21-5\nTransportation: 3:30 p.m. Shuttle
URL:https://concordacademy.org/event/girls-varsity-lacrosse-vs-st-andrews-school-home/
CATEGORIES:Athletics Calendar,Girls Varsity Lacrosse
END:VEVENT
BEGIN:VEVENT
DTSTART;TZID=America/New_York:20260410T163000
DTEND;TZID=America/New_York:20260410T183000
DTSTAMP:20260420T061955
CREATED:20260302T144517Z
LAST-MODIFIED:20260413T001222Z
UID:10011650-1775838600-1775845800@concordacademy.org
SUMMARY:Girls Varsity Tennis vs Wheeler School (Away)
DESCRIPTION:\n\nEVENT DETAILS\n\nOpponent: Wheeler School\nHome/Away: Away\nLocation: Wheeler School\nResult: W 5-0\nShuttle At: 2:15 p.m.\nExcused At: 2:00 p.m.\nEstimated Return Time: 7:30 p.m.
URL:https://concordacademy.org/event/girls-varsity-tennis-vs-wheeler-school-away/
CATEGORIES:Athletics Calendar,Girls Varsity Tennis
END:VEVENT
BEGIN:VEVENT
DTSTART;TZID=America/New_York:20260410T163000
DTEND;TZID=America/New_York:20260410T183000
DTSTAMP:20260420T061955
CREATED:20260302T144800Z
LAST-MODIFIED:20260414T140403Z
UID:10011621-1775838600-1775845800@concordacademy.org
SUMMARY:Boys Varsity Tennis vs Wheeler School (Home)
DESCRIPTION:\n\nEVENT DETAILS\n\nOpponent: Wheeler School\nHome/Away: Home\nLocation: Moriarty Athletic Campus\nResult: W 5-0\nTransportation: 3:30 p.m. Shuttle
URL:https://concordacademy.org/event/boys-varsity-tennis-vs-wheeler-school-home/
CATEGORIES:Athletics Calendar,Boys Varsity Tennis
END:VEVENT
BEGIN:VEVENT
DTSTART;TZID=America/New_York:20260410T173000
DTEND;TZID=America/New_York:20260410T183000
DTSTAMP:20260420T061955
CREATED:20260302T144424Z
LAST-MODIFIED:20260413T002139Z
UID:10011638-1775842200-1775845800@concordacademy.org
SUMMARY:Boys Junior Varsity Tennis vs Wheeler School (Home)
DESCRIPTION:\n\nEVENT DETAILS\n\nOpponent: Wheeler School\nHome/Away: Home\nLocation: Moriarty Athletic Campus\nResult: W 4-0\nTransportation: 4:30 p.m. Shuttle
URL:https://concordacademy.org/event/boys-junior-varsity-tennis-vs-wheeler-school-home/
CATEGORIES:Athletics Calendar,Boys Junior Varsity Tennis
END:VEVENT
BEGIN:VEVENT
DTSTART;TZID=America/New_York:20260410T183000
DTEND;TZID=America/New_York:20260410T203000
DTSTAMP:20260420T061955
CREATED:20260407T142259Z
LAST-MODIFIED:20260420T091059Z
UID:10011753-1775845800-1775853000@concordacademy.org
SUMMARY:Religious Potluck
DESCRIPTION:
URL:https://concordacademy.org/event/religious-potluck/
LOCATION:MAC – 105 Ransome Room
CATEGORIES:All School Events
ORGANIZER;CN="concordacademy.org_lg8bsrdt1orqabfoh4mupn6k38@group.calendar.google.com":MAILTO:concordacademy.org_lg8bsrdt1orqabfoh4mupn6k38@group.calendar.google.com
END:VEVENT
END:VCALENDAR