BEGIN:VCALENDAR
VERSION:2.0
PRODID:-//Concord Academy - ECPv6.15.17.1//NONSGML v1.0//EN
CALSCALE:GREGORIAN
METHOD:PUBLISH
X-WR-CALNAME:Concord Academy
X-ORIGINAL-URL:https://concordacademy.org
X-WR-CALDESC:Events for Concord Academy
REFRESH-INTERVAL;VALUE=DURATION:PT1H
X-Robots-Tag:noindex
X-PUBLISHED-TTL:PT1H
BEGIN:VTIMEZONE
TZID:America/New_York
BEGIN:DAYLIGHT
TZOFFSETFROM:-0500
TZOFFSETTO:-0400
TZNAME:EDT
DTSTART:20240310T070000
END:DAYLIGHT
BEGIN:STANDARD
TZOFFSETFROM:-0400
TZOFFSETTO:-0500
TZNAME:EST
DTSTART:20241103T060000
END:STANDARD
BEGIN:DAYLIGHT
TZOFFSETFROM:-0500
TZOFFSETTO:-0400
TZNAME:EDT
DTSTART:20250309T070000
END:DAYLIGHT
BEGIN:STANDARD
TZOFFSETFROM:-0400
TZOFFSETTO:-0500
TZNAME:EST
DTSTART:20251102T060000
END:STANDARD
BEGIN:DAYLIGHT
TZOFFSETFROM:-0500
TZOFFSETTO:-0400
TZNAME:EDT
DTSTART:20260308T070000
END:DAYLIGHT
BEGIN:STANDARD
TZOFFSETFROM:-0400
TZOFFSETTO:-0500
TZNAME:EST
DTSTART:20261101T060000
END:STANDARD
END:VTIMEZONE
BEGIN:VEVENT
DTSTART;TZID=America/New_York:20250929T163000
DTEND;TZID=America/New_York:20250929T174500
DTSTAMP:20260423T012339
CREATED:20250820T120000Z
LAST-MODIFIED:20250930T140325Z
UID:10011150-1759163400-1759167900@concordacademy.org
SUMMARY:Girls Junior Varsity Volleyball vs Dana Hall School (Dana Hall School)
DESCRIPTION:\n\nEVENT DETAILS\n\nOpponent: Dana Hall School\nHome/Away: Away\nLocation: Dana Hall School\nResult: W 2-0\nShuttle At: 3:15 p.m.\nExcused At: 3:00 p.m.\nEstimated Return Time: 6:30 p.m.
URL:https://concordacademy.org/event/girls-junior-varsity-volleyball-vs-dana-hall-school-dana-hall-school/
CATEGORIES:Athletics Calendar,Girls Junior Varsity Volleyball
END:VEVENT
BEGIN:VEVENT
DTSTART;TZID=America/New_York:20250929T163000
DTEND;TZID=America/New_York:20250929T180000
DTSTAMP:20260423T012339
CREATED:20250820T120000Z
LAST-MODIFIED:20250930T140151Z
UID:10011246-1759163400-1759168800@concordacademy.org
SUMMARY:Girls Varsity Volleyball vs Dana Hall School (Dana Hall School)
DESCRIPTION:\n\nEVENT DETAILS\n\nOpponent: Dana Hall School\nHome/Away: Away\nLocation: Dana Hall School\nResult: L 0-3\nShuttle At: 3:15 p.m.\nExcused At: 3:00 p.m.\nEstimated Return Time: 6:30 p.m.
URL:https://concordacademy.org/event/girls-varsity-volleyball-vs-dana-hall-school-dana-hall-school/
CATEGORIES:Athletics Calendar,Girls Varsity Volleyball
END:VEVENT
BEGIN:VEVENT
DTSTART;TZID=America/New_York:20250929T190000
DTEND;TZID=America/New_York:20250929T203000
DTSTAMP:20260423T012339
CREATED:20250814T144327Z
LAST-MODIFIED:20260423T045436Z
UID:10011253-1759172400-1759177800@concordacademy.org
SUMMARY:CA Parents Health & Wellness Series (Virtual for Boarding Parents)
DESCRIPTION:────────── \nMeredith Walsh is inviting you to a scheduled Zoom meeting.Join Zoom Meetinghttps://us02web.zoom.us/j/81248219643?pwd=4E5ZOiuP7oTnnjmC9y1tRkReGXJ5jY.1 \nMeeting ID: 812 4821 9643Passcode: 691159 \n— \nOne tap mobile+13126266799\,\,81248219643#\,\,\,\,*691159# US (Chicago)+16469313860\,\,81248219643#\,\,\,\,*691159# US \n— \nDial by your location• +1 312 626 6799 US (Chicago)• +1 646 931 3860 US• +1 929 205 6099 US (New York)• +1 301 715 8592 US (Washington DC)• +1 305 224 1968 US• +1 309 205 3325 US• +1 360 209 5623 US• +1 386 347 5053 US• +1 507 473 4847 US• +1 564 217 2000 US• +1 669 444 9171 US• +1 669 900 6833 US (San Jose)• +1 689 278 1000 US• +1 719 359 4580 US• +1 253 205 0468 US• +1 253 215 8782 US (Tacoma)• +1 346 248 7799 US (Houston) \nMeeting ID: 812 4821 9643Passcode: 691159 \nFind your local number: https://us02web.zoom.us/u/kbFNRirZZ \n──────────
URL:https://concordacademy.org/event/ca-parents-health-wellness-series-virtual-for-boarding-parents/
LOCATION:https://us02web.zoom.us/j/81248219643?pwd=4E5ZOiuP7oTnnjmC9y1tRkReGXJ5jY.1&jst=3
CATEGORIES:All School Events
ORGANIZER;CN="concordacademy.org_lg8bsrdt1orqabfoh4mupn6k38@group.calendar.google.com":MAILTO:concordacademy.org_lg8bsrdt1orqabfoh4mupn6k38@group.calendar.google.com
END:VEVENT
END:VCALENDAR