BEGIN:VCALENDAR
VERSION:2.0
PRODID:-//Concord Academy - ECPv6.15.17.1//NONSGML v1.0//EN
CALSCALE:GREGORIAN
METHOD:PUBLISH
X-WR-CALNAME:Concord Academy
X-ORIGINAL-URL:https://concordacademy.org
X-WR-CALDESC:Events for Concord Academy
REFRESH-INTERVAL;VALUE=DURATION:PT1H
X-Robots-Tag:noindex
X-PUBLISHED-TTL:PT1H
BEGIN:VTIMEZONE
TZID:America/New_York
BEGIN:DAYLIGHT
TZOFFSETFROM:-0500
TZOFFSETTO:-0400
TZNAME:EDT
DTSTART:20240310T070000
END:DAYLIGHT
BEGIN:STANDARD
TZOFFSETFROM:-0400
TZOFFSETTO:-0500
TZNAME:EST
DTSTART:20241103T060000
END:STANDARD
BEGIN:DAYLIGHT
TZOFFSETFROM:-0500
TZOFFSETTO:-0400
TZNAME:EDT
DTSTART:20250309T070000
END:DAYLIGHT
BEGIN:STANDARD
TZOFFSETFROM:-0400
TZOFFSETTO:-0500
TZNAME:EST
DTSTART:20251102T060000
END:STANDARD
BEGIN:DAYLIGHT
TZOFFSETFROM:-0500
TZOFFSETTO:-0400
TZNAME:EDT
DTSTART:20260308T070000
END:DAYLIGHT
BEGIN:STANDARD
TZOFFSETFROM:-0400
TZOFFSETTO:-0500
TZNAME:EST
DTSTART:20261101T060000
END:STANDARD
END:VTIMEZONE
BEGIN:VEVENT
DTSTART;VALUE=DATE:20250912
DTEND;VALUE=DATE:20250915
DTSTAMP:20260424T092940
CREATED:20250609T155159Z
LAST-MODIFIED:20260424T132538Z
UID:10011067-1757635200-1757894399@concordacademy.org
SUMMARY:Community Weekend
DESCRIPTION:
URL:https://concordacademy.org/event/community-weekend/
CATEGORIES:All School Events
ORGANIZER;CN="concordacademy.org_lg8bsrdt1orqabfoh4mupn6k38@group.calendar.google.com":MAILTO:concordacademy.org_lg8bsrdt1orqabfoh4mupn6k38@group.calendar.google.com
END:VEVENT
BEGIN:VEVENT
DTSTART;VALUE=DATE:20250913
DTEND;VALUE=DATE:20250914
DTSTAMP:20260424T092940
CREATED:20250723T164023Z
LAST-MODIFIED:20260424T132542Z
UID:10011086-1757721600-1757807999@concordacademy.org
SUMMARY:SATs
DESCRIPTION:
URL:https://concordacademy.org/event/sats-3/
CATEGORIES:All School Events
END:VEVENT
BEGIN:VEVENT
DTSTART;TZID=America/New_York:20250913T130000
DTEND;TZID=America/New_York:20250913T180000
DTSTAMP:20260424T092940
CREATED:20250723T164027Z
LAST-MODIFIED:20260424T132541Z
UID:10011088-1757768400-1757786400@concordacademy.org
SUMMARY:Canobie Lake
DESCRIPTION:
URL:https://concordacademy.org/event/canobie-lake/
CATEGORIES:All School Events
END:VEVENT
END:VCALENDAR