BEGIN:VCALENDAR
VERSION:2.0
PRODID:-//Concord Academy - ECPv6.15.17.1//NONSGML v1.0//EN
CALSCALE:GREGORIAN
METHOD:PUBLISH
X-ORIGINAL-URL:https://concordacademy.org
X-WR-CALDESC:Events for Concord Academy
REFRESH-INTERVAL;VALUE=DURATION:PT1H
X-Robots-Tag:noindex
X-PUBLISHED-TTL:PT1H
BEGIN:VTIMEZONE
TZID:America/New_York
BEGIN:DAYLIGHT
TZOFFSETFROM:-0500
TZOFFSETTO:-0400
TZNAME:EDT
DTSTART:20240310T070000
END:DAYLIGHT
BEGIN:STANDARD
TZOFFSETFROM:-0400
TZOFFSETTO:-0500
TZNAME:EST
DTSTART:20241103T060000
END:STANDARD
BEGIN:DAYLIGHT
TZOFFSETFROM:-0500
TZOFFSETTO:-0400
TZNAME:EDT
DTSTART:20250309T070000
END:DAYLIGHT
BEGIN:STANDARD
TZOFFSETFROM:-0400
TZOFFSETTO:-0500
TZNAME:EST
DTSTART:20251102T060000
END:STANDARD
BEGIN:DAYLIGHT
TZOFFSETFROM:-0500
TZOFFSETTO:-0400
TZNAME:EDT
DTSTART:20260308T070000
END:DAYLIGHT
BEGIN:STANDARD
TZOFFSETFROM:-0400
TZOFFSETTO:-0500
TZNAME:EST
DTSTART:20261101T060000
END:STANDARD
END:VTIMEZONE
BEGIN:VEVENT
DTSTART;TZID=America/New_York:20250409T160000
DTEND;TZID=America/New_York:20250409T173000
DTSTAMP:20260419T183957
CREATED:20250304T021409Z
LAST-MODIFIED:20250411T203332Z
UID:10010971-1744214400-1744219800@concordacademy.org
SUMMARY:Girls Varsity Lacrosse vs Portsmouth Abbey School (Moriarty Athletic Campus)
DESCRIPTION:\n\nEVENT DETAILS\n\nOpponent: Portsmouth Abbey School\nHome/Away: Home\nLocation: Moriarty Athletic Campus\nResult: L 8-22\nTransportation: 3:00 pm shuttle
URL:https://concordacademy.org/event/girls-varsity-lacrosse-vs-portsmouth-abbey-school-moriarty-athletic-campus/
CATEGORIES:Athletics Calendar,Girls Varsity Lacrosse
END:VEVENT
BEGIN:VEVENT
DTSTART;TZID=America/New_York:20250409T160000
DTEND;TZID=America/New_York:20250409T173000
DTSTAMP:20260419T183957
CREATED:20250304T021410Z
LAST-MODIFIED:20250410T125054Z
UID:10010929-1744214400-1744219800@concordacademy.org
SUMMARY:Boys Junior Varsity Tennis vs Beaver Country Day School (Beaver Country Day School)
DESCRIPTION:\n\nEVENT DETAILS\n\nOpponent: Beaver Country Day School\nHome/Away: Away\nLocation: Beaver Country Day School\nResult: W 5-0\nShuttle At: 2:35 PM\nExcused At: 2:15 PM\nEstimated Return Time: 6:15 PM
URL:https://concordacademy.org/event/boys-junior-varsity-tennis-vs-beaver-country-day-school-beaver-country-day-school/
CATEGORIES:Athletics Calendar,Boys Junior Varsity Tennis
END:VEVENT
BEGIN:VEVENT
DTSTART;TZID=America/New_York:20250409T160000
DTEND;TZID=America/New_York:20250409T173000
DTSTAMP:20260419T183957
CREATED:20250304T021410Z
LAST-MODIFIED:20250410T153457Z
UID:10010955-1744214400-1744219800@concordacademy.org
SUMMARY:Boys Varsity Lacrosse vs Landmark School (Moriarty Athletic Campus)
DESCRIPTION:\n\nEVENT DETAILS\n\nOpponent: Landmark School\nHome/Away: Home\nLocation: Moriarty Athletic Campus\nResult: L 12-7\nTransportation: 3:00 pm shuttle
URL:https://concordacademy.org/event/boys-varsity-lacrosse-vs-landmark-school-moriarty-athletic-campus/
CATEGORIES:Athletics Calendar,Boys Varsity Lacrosse
END:VEVENT
BEGIN:VEVENT
DTSTART;TZID=America/New_York:20250409T160000
DTEND;TZID=America/New_York:20250409T180000
DTSTAMP:20260419T183957
CREATED:20250304T021410Z
LAST-MODIFIED:20250410T124920Z
UID:10010898-1744214400-1744221600@concordacademy.org
SUMMARY:Girls Varsity Softball vs Portsmouth Abbey School (Main Campus)
DESCRIPTION:\n\nEVENT DETAILS\n\nOpponent: Portsmouth Abbey School\nHome/Away: Home\nLocation: Main Campus\nResult: L 28-4
URL:https://concordacademy.org/event/girls-varsity-softball-vs-portsmouth-abbey-school-moriarty-athletic-campus/
CATEGORIES:Athletics Calendar,Girls Varsity Softball
END:VEVENT
BEGIN:VEVENT
DTSTART;TZID=America/New_York:20250409T160000
DTEND;TZID=America/New_York:20250409T180000
DTSTAMP:20260419T183957
CREATED:20250304T021410Z
LAST-MODIFIED:20250410T124557Z
UID:10010939-1744214400-1744221600@concordacademy.org
SUMMARY:Girls Varsity Tennis vs Portsmouth Abbey School (Moriarty Athletic Campus)
DESCRIPTION:\n\nEVENT DETAILS\n\nOpponent: Portsmouth Abbey School\nHome/Away: Home\nLocation: Moriarty Athletic Campus\nResult: W 5-0\nTransportation: 3:00 pm shuttle
URL:https://concordacademy.org/event/girls-varsity-tennis-vs-portsmouth-abbey-school-moriarty-athletic-campus/
CATEGORIES:Athletics Calendar,Girls Varsity Tennis
END:VEVENT
BEGIN:VEVENT
DTSTART;TZID=America/New_York:20250409T160000
DTEND;TZID=America/New_York:20250409T180000
DTSTAMP:20260419T183957
CREATED:20250304T021410Z
LAST-MODIFIED:20250410T124322Z
UID:10010995-1744214400-1744221600@concordacademy.org
SUMMARY:All-Gender Varsity Ultimate Frisbee vs Worcester Academy (Worcester Academy)
DESCRIPTION:\n\nEVENT DETAILS\n\nOpponent: Worcester Academy\nHome/Away: Away\nLocation: Worcester Academy\nResult: 15-4\nShuttle At: 2:30 PM\nExcused At: 2:15 PM\nEstimated Return Time: 6:45 PM
URL:https://concordacademy.org/event/all-gender-ultimate-frisbee-vs-worcester-academy-worcester-academy/
CATEGORIES:All-Gender Varsity Ultimate Frisbee,Athletics Calendar
END:VEVENT
BEGIN:VEVENT
DTSTART;TZID=America/New_York:20250409T160000
DTEND;TZID=America/New_York:20250409T190000
DTSTAMP:20260419T183957
CREATED:20250304T021409Z
LAST-MODIFIED:20250410T153924Z
UID:10010985-1744214400-1744225200@concordacademy.org
SUMMARY:Track and Field vs P. Abbey & Wheeler (Portsmouth Abbey School)
DESCRIPTION:\n\nEVENT DETAILS\n\nOpponent: P. Abbey &amp; Wheeler\nHome/Away: Away\nLocation: Portsmouth Abbey School\nResult: (Boys) P Abbey 90, Concord 85, Wheeler 63.5, Bancroft 21     (Girls) P Concord 95, Abbey 89, Wheeler 56, Bancroft 14\nShuttle At: 1:45 PM\nExcused At: 1:30 PM\nEstimated Return Time: 8:15 PM
URL:https://concordacademy.org/event/track-and-field-vs-p-abbey-wheeler-portsmouth-abbey-school/
CATEGORIES:Athletics Calendar,Boys Varsity Track & Field,Girls Varsity Track & Field
END:VEVENT
BEGIN:VEVENT
DTSTART;TZID=America/New_York:20250409T163000
DTEND;TZID=America/New_York:20250409T183000
DTSTAMP:20260419T183957
CREATED:20250304T021409Z
LAST-MODIFIED:20250509T211705Z
UID:10010913-1744216200-1744223400@concordacademy.org
SUMMARY:Boys Varsity Tennis vs Portsmouth Abbey School (Portsmouth Abbey School)
DESCRIPTION:\n\nEVENT DETAILS\n\nOpponent: Portsmouth Abbey School\nHome/Away: Away\nLocation: Portsmouth Abbey School\nResult: W 4-1\nShuttle At: 1:50 PM\nExcused At: 1:40 PM\nEstimated Return Time: 7:45 PM
URL:https://concordacademy.org/event/boys-varsity-tennis-vs-portsmouth-abbey-school-portsmouth-abbey-school/
CATEGORIES:Athletics Calendar,Boys Varsity Tennis
END:VEVENT
BEGIN:VEVENT
DTSTART;TZID=America/New_York:20250409T163000
DTEND;TZID=America/New_York:20250409T183000
DTSTAMP:20260419T183957
CREATED:20250304T021409Z
LAST-MODIFIED:20250410T130147Z
UID:10011019-1744216200-1744223400@concordacademy.org
SUMMARY:Boys Varsity Baseball vs Portsmouth Abbey School (Portsmouth Abbey School)
DESCRIPTION:\n\nEVENT DETAILS\n\nOpponent: Portsmouth Abbey School\nHome/Away: Away\nLocation: Portsmouth Abbey School\nResult: L 1-2\nShuttle At: 1:50 PM\nExcused At: 1:40 PM\nEstimated Return Time: 7:45 PM
URL:https://concordacademy.org/event/boys-varsity-baseball-vs-portsmouth-abbey-school-portsmouth-abbey-school/
CATEGORIES:Athletics Calendar,Boys Varsity Baseball
END:VEVENT
BEGIN:VEVENT
DTSTART;TZID=America/New_York:20250409T183000
DTEND;TZID=America/New_York:20250409T203000
DTSTAMP:20260419T183957
CREATED:20240918T204735Z
LAST-MODIFIED:20260419T222145Z
UID:10010465-1744223400-1744230600@concordacademy.org
SUMMARY:CA On the Road: Chicago Regional Gathering with Henry Fairfax
DESCRIPTION:Head of School Henry Fairfax will be visiting Chicago! Don’t miss this opportunity to connect with fellow alums\, parents\, and friends and learn more about CA today. Locations and how to register for this event will be available soon!
URL:https://concordacademy.org/event/ca-on-the-road-chicago-regional-gathering-with-henry-fairfax/
CATEGORIES:CA Alum
END:VEVENT
END:VCALENDAR