BEGIN:VCALENDAR
VERSION:2.0
PRODID:-//Concord Academy - ECPv6.15.17.1//NONSGML v1.0//EN
CALSCALE:GREGORIAN
METHOD:PUBLISH
X-WR-CALNAME:Concord Academy
X-ORIGINAL-URL:https://concordacademy.org
X-WR-CALDESC:Events for Concord Academy
REFRESH-INTERVAL;VALUE=DURATION:PT1H
X-Robots-Tag:noindex
X-PUBLISHED-TTL:PT1H
BEGIN:VTIMEZONE
TZID:America/New_York
BEGIN:DAYLIGHT
TZOFFSETFROM:-0500
TZOFFSETTO:-0400
TZNAME:EDT
DTSTART:20240310T070000
END:DAYLIGHT
BEGIN:STANDARD
TZOFFSETFROM:-0400
TZOFFSETTO:-0500
TZNAME:EST
DTSTART:20241103T060000
END:STANDARD
BEGIN:DAYLIGHT
TZOFFSETFROM:-0500
TZOFFSETTO:-0400
TZNAME:EDT
DTSTART:20250309T070000
END:DAYLIGHT
BEGIN:STANDARD
TZOFFSETFROM:-0400
TZOFFSETTO:-0500
TZNAME:EST
DTSTART:20251102T060000
END:STANDARD
BEGIN:DAYLIGHT
TZOFFSETFROM:-0500
TZOFFSETTO:-0400
TZNAME:EDT
DTSTART:20260308T070000
END:DAYLIGHT
BEGIN:STANDARD
TZOFFSETFROM:-0400
TZOFFSETTO:-0500
TZNAME:EST
DTSTART:20261101T060000
END:STANDARD
END:VTIMEZONE
BEGIN:VEVENT
DTSTART;VALUE=DATE:20250214
DTEND;VALUE=DATE:20250216
DTSTAMP:20260420T075713
CREATED:20241106T192704Z
LAST-MODIFIED:20250209T210316Z
UID:10010731-1739491200-1739663999@concordacademy.org
SUMMARY:All-Gender Wrestling NEPSAC Tournament (Away)
DESCRIPTION:\n\nEVENT DETAILS\n\nOpponent: TBD\nHome/Away: Away\nLocation: Phillips Exeter Academy, Exeter, NH\nTransportation: Concord Academy Mini-bus\nShuttle At: 12:15 pm\nExcused At: 11:30 AM
URL:https://concordacademy.org/event/all-gender-wrestling-nepsac-tournament/
CATEGORIES:All-Gender Varsity Wrestling,Athletics Calendar
END:VEVENT
BEGIN:VEVENT
DTSTART;TZID=America/New_York:20250214T153000
DTEND;TZID=America/New_York:20250214T173000
DTSTAMP:20260420T075713
CREATED:20241106T192702Z
LAST-MODIFIED:20250219T021603Z
UID:10010630-1739547000-1739554200@concordacademy.org
SUMMARY:Boys JV Basketball vs Cambridge School of Weston (Home)
DESCRIPTION:\n\nEVENT DETAILS\n\nOpponent: Cambridge School of Weston\nHome/Away: Home\nLocation: SHAC\nResult: W 39-33
URL:https://concordacademy.org/event/boys-jv-basketball-vs-cambridge-school-of-weston-home/
CATEGORIES:Athletics Calendar,Boys Junior Varsity Basketball
END:VEVENT
BEGIN:VEVENT
DTSTART;TZID=America/New_York:20250214T160000
DTEND;TZID=America/New_York:20250214T180000
DTSTAMP:20260420T075713
CREATED:20241106T192711Z
LAST-MODIFIED:20250219T021724Z
UID:10010710-1739548800-1739556000@concordacademy.org
SUMMARY:Girls Varsity Squash vs Andover (Away)
DESCRIPTION:\n\nEVENT DETAILS\n\nOpponent: Andover\nHome/Away: Away\nLocation: Andover\nResult: W 6-1\nTransportation: Bedford Charter\nShuttle At: 2:45
URL:https://concordacademy.org/event/girls-varsity-squash-vs-andover-away/
CATEGORIES:Athletics Calendar,Girls Varsity Squash
END:VEVENT
BEGIN:VEVENT
DTSTART;TZID=America/New_York:20250214T163000
DTEND;TZID=America/New_York:20250214T183000
DTSTAMP:20260420T075713
CREATED:20241119T215404Z
LAST-MODIFIED:20250117T125847Z
UID:10010744-1739550600-1739557800@concordacademy.org
SUMMARY:Girls Alpine Skiing
DESCRIPTION:\n\nEVENT DETAILS\n\nOpponent: Central Massachusetts Ski League Race\nHome/Away: Away\nLocation: Wachusett Mountain\nTransportation: Bedford Charter\nShuttle At: 2:25 PM\nExcused At: 2:15 PM
URL:https://concordacademy.org/event/girls-alpine-skiing-20/
CATEGORIES:Athletics Calendar,Girls Alpine Skiing
END:VEVENT
BEGIN:VEVENT
DTSTART;TZID=America/New_York:20250214T163000
DTEND;TZID=America/New_York:20250214T183000
DTSTAMP:20260420T075713
CREATED:20241119T221548Z
LAST-MODIFIED:20250117T125919Z
UID:10010753-1739550600-1739557800@concordacademy.org
SUMMARY:Boys Alpine Skiing
DESCRIPTION:\n\nEVENT DETAILS\n\nOpponent: Central Massachusetts Ski League Race\nHome/Away: Away\nLocation: Wachusett Mountain\nTransportation: Bedford Charter\nShuttle At: 2:25 PM\nExcused At: 2:15 PM
URL:https://concordacademy.org/event/boys-alpine-skiing-21/
CATEGORIES:Athletics Calendar,Boys Alpine Skiing
END:VEVENT
BEGIN:VEVENT
DTSTART;TZID=America/New_York:20250214T170000
DTEND;TZID=America/New_York:20250214T190000
DTSTAMP:20260420T075713
CREATED:20241106T192659Z
LAST-MODIFIED:20250215T220504Z
UID:10010608-1739552400-1739559600@concordacademy.org
SUMMARY:Boys Varsity Basketball vs Brimmer and May School (Home)
DESCRIPTION:\n\nEVENT DETAILS\n\nOpponent: Brimmer and May School\nHome/Away: Home\nLocation: SHAC\nResult: L 64-67
URL:https://concordacademy.org/event/boys-varsity-basketball-vs-brimmer-and-may-school-home/
CATEGORIES:Athletics Calendar,Boys Varsity Basketball
END:VEVENT
END:VCALENDAR