BEGIN:VCALENDAR
VERSION:2.0
PRODID:-//Concord Academy - ECPv6.15.17.1//NONSGML v1.0//EN
CALSCALE:GREGORIAN
METHOD:PUBLISH
X-ORIGINAL-URL:https://concordacademy.org
X-WR-CALDESC:Events for Concord Academy
REFRESH-INTERVAL;VALUE=DURATION:PT1H
X-Robots-Tag:noindex
X-PUBLISHED-TTL:PT1H
BEGIN:VTIMEZONE
TZID:America/New_York
BEGIN:DAYLIGHT
TZOFFSETFROM:-0500
TZOFFSETTO:-0400
TZNAME:EDT
DTSTART:20240310T070000
END:DAYLIGHT
BEGIN:STANDARD
TZOFFSETFROM:-0400
TZOFFSETTO:-0500
TZNAME:EST
DTSTART:20241103T060000
END:STANDARD
BEGIN:DAYLIGHT
TZOFFSETFROM:-0500
TZOFFSETTO:-0400
TZNAME:EDT
DTSTART:20250309T070000
END:DAYLIGHT
BEGIN:STANDARD
TZOFFSETFROM:-0400
TZOFFSETTO:-0500
TZNAME:EST
DTSTART:20251102T060000
END:STANDARD
BEGIN:DAYLIGHT
TZOFFSETFROM:-0500
TZOFFSETTO:-0400
TZNAME:EDT
DTSTART:20260308T070000
END:DAYLIGHT
BEGIN:STANDARD
TZOFFSETFROM:-0400
TZOFFSETTO:-0500
TZNAME:EST
DTSTART:20261101T060000
END:STANDARD
END:VTIMEZONE
BEGIN:VEVENT
DTSTART;TZID=America/New_York:20250208T110000
DTEND;TZID=America/New_York:20250208T160000
DTSTAMP:20260420T081524
CREATED:20241106T192704Z
LAST-MODIFIED:20250207T010514Z
UID:10010730-1739012400-1739030400@concordacademy.org
SUMMARY:All-Gender Wrestling EIL Tournament
DESCRIPTION:\n\nEVENT DETAILS\n\nOpponent: TBD\nHome/Away: Away\nLocation: Eagle Hill, 11:00 a.m. Start\nTransportation: Bedford Charter\nShuttle At: 7:15 AM\nEstimated Return Time: 6:30
URL:https://concordacademy.org/event/all-gender-wrestling-eil-tournament/
CATEGORIES:All-Gender Varsity Wrestling,Athletics Calendar
END:VEVENT
BEGIN:VEVENT
DTSTART;TZID=America/New_York:20250208T114500
DTEND;TZID=America/New_York:20250208T143000
DTSTAMP:20260420T081524
CREATED:20250211T234151Z
LAST-MODIFIED:20260420T112452Z
UID:10010874-1739015100-1739025000@concordacademy.org
SUMMARY:Flight School
DESCRIPTION:
URL:https://concordacademy.org/event/flight-school/
LOCATION:VEHICLE – Van 02 EV – NOT FOR PERSONAL USE
CATEGORIES:All School Events
ORGANIZER;CN="concordacademy.org_lg8bsrdt1orqabfoh4mupn6k38@group.calendar.google.com":MAILTO:concordacademy.org_lg8bsrdt1orqabfoh4mupn6k38@group.calendar.google.com
END:VEVENT
BEGIN:VEVENT
DTSTART;TZID=America/New_York:20250208T190000
DTEND;TZID=America/New_York:20250208T220000
DTSTAMP:20260420T081524
CREATED:20250115T193656Z
LAST-MODIFIED:20260420T112452Z
UID:10010797-1739041200-1739052000@concordacademy.org
SUMMARY:Semiformal
DESCRIPTION:
URL:https://concordacademy.org/event/semiformal/
LOCATION:SHAC – B02 Gym
CATEGORIES:All School Events
ORGANIZER;CN="concordacademy.org_lg8bsrdt1orqabfoh4mupn6k38@group.calendar.google.com":MAILTO:concordacademy.org_lg8bsrdt1orqabfoh4mupn6k38@group.calendar.google.com
END:VEVENT
END:VCALENDAR