BEGIN:VCALENDAR
VERSION:2.0
PRODID:-//Concord Academy - ECPv6.15.17.1//NONSGML v1.0//EN
CALSCALE:GREGORIAN
METHOD:PUBLISH
X-ORIGINAL-URL:https://concordacademy.org
X-WR-CALDESC:Events for Concord Academy
REFRESH-INTERVAL;VALUE=DURATION:PT1H
X-Robots-Tag:noindex
X-PUBLISHED-TTL:PT1H
BEGIN:VTIMEZONE
TZID:America/New_York
BEGIN:DAYLIGHT
TZOFFSETFROM:-0500
TZOFFSETTO:-0400
TZNAME:EDT
DTSTART:20230312T070000
END:DAYLIGHT
BEGIN:STANDARD
TZOFFSETFROM:-0400
TZOFFSETTO:-0500
TZNAME:EST
DTSTART:20231105T060000
END:STANDARD
BEGIN:DAYLIGHT
TZOFFSETFROM:-0500
TZOFFSETTO:-0400
TZNAME:EDT
DTSTART:20240310T070000
END:DAYLIGHT
BEGIN:STANDARD
TZOFFSETFROM:-0400
TZOFFSETTO:-0500
TZNAME:EST
DTSTART:20241103T060000
END:STANDARD
BEGIN:DAYLIGHT
TZOFFSETFROM:-0500
TZOFFSETTO:-0400
TZNAME:EDT
DTSTART:20250309T070000
END:DAYLIGHT
BEGIN:STANDARD
TZOFFSETFROM:-0400
TZOFFSETTO:-0500
TZNAME:EST
DTSTART:20251102T060000
END:STANDARD
END:VTIMEZONE
BEGIN:VEVENT
DTSTART;VALUE=DATE:20241101
DTEND;VALUE=DATE:20241102
DTSTAMP:20260425T125026
CREATED:20240822T210653Z
LAST-MODIFIED:20241027T190722Z
UID:10010288-1730419200-1730505599@concordacademy.org
SUMMARY:Girls Varsity Cross Country Meet
DESCRIPTION:\n\nEVENT DETAILS\n\nHome/Away: Away\nLocation: Chase Farms, 667 Great Road, Lincoln, RI.\nTransportation: Bedford Charter\nShuttle At: 11:45 a.m. (meet starts 3:15 pm)\nExcused At: 11:30 am
URL:https://concordacademy.org/event/girls-varsity-cross-country-meet-6/
LOCATION:Chase Farms\, 667 Great Road\, Lincoln\, RI.\, Chase Farms\, 667 Great Road\, Lincoln\, RI.
CATEGORIES:Athletics Calendar,Girls Varsity Cross Country
END:VEVENT
BEGIN:VEVENT
DTSTART;VALUE=DATE:20241101
DTEND;VALUE=DATE:20241102
DTSTAMP:20260425T125026
CREATED:20240822T210656Z
LAST-MODIFIED:20241027T190828Z
UID:10010295-1730419200-1730505599@concordacademy.org
SUMMARY:Boys Varsity Cross Country Meet
DESCRIPTION:\n\nEVENT DETAILS\n\nHome/Away: Away\nLocation: Chase Farms, 667 Great Road, Lincoln, RI.\nTransportation: Bedford Charter\nShuttle At: 11:45 a.m. (meet starts 2:30 pm)\nExcused At: 11:30 am
URL:https://concordacademy.org/event/boys-varsity-cross-country-meet-6/
LOCATION:Chase Farms\, 667 Great Road\, Lincoln\, RI.\, Chase Farms\, 667 Great Road\, Lincoln\, RI.
CATEGORIES:Athletics Calendar,Boys Varsity Cross Country
END:VEVENT
BEGIN:VEVENT
DTSTART;TZID=America/New_York:20241101T153000
DTEND;TZID=America/New_York:20241101T170000
DTSTAMP:20260425T125026
CREATED:20240822T210606Z
LAST-MODIFIED:20241104T190401Z
UID:10010209-1730475000-1730480400@concordacademy.org
SUMMARY:Boys Thirds Soccer vs Landmark School (Home)
DESCRIPTION:\n\nEVENT DETAILS\n\nOpponent: Landmark School\nHome/Away: Home\nLocation: Main Campus\nResult: L 1-2
URL:https://concordacademy.org/event/boys-thirds-soccer-vs-landmark-school-home/
LOCATION:Main Campus\, 166 Main Street\, Concord\, MA\, 01742\, United States
CATEGORIES:Athletics Calendar,Boys Thirds Soccer
END:VEVENT
BEGIN:VEVENT
DTSTART;TZID=America/New_York:20241101T153000
DTEND;TZID=America/New_York:20241101T170000
DTSTAMP:20260425T125026
CREATED:20240822T210707Z
LAST-MODIFIED:20241104T190444Z
UID:10010311-1730475000-1730480400@concordacademy.org
SUMMARY:Girls Varsity Field Hockey vs Lexington Christian Academy (Home)
DESCRIPTION:\n\nEVENT DETAILS\n\nOpponent: Lexington Christian Academy\nHome/Away: Home\nLocation: Moriarty Athletic Campus\nResult: W 4-1\nTransportation: Shuttle\nShuttle At: 2:30 p.m.
URL:https://concordacademy.org/event/girls-varsity-field-hockey-vs-lexington-christian-academy-home/
LOCATION:Moriarty Athletic Campus\, 153 Fairhaven Rd\, Concord\, MA\, 01742
CATEGORIES:Athletics Calendar,Girls Varsity Field Hockey
END:VEVENT
BEGIN:VEVENT
DTSTART;TZID=America/New_York:20241101T153000
DTEND;TZID=America/New_York:20241101T171500
DTSTAMP:20260425T125026
CREATED:20240822T210320Z
LAST-MODIFIED:20241104T190840Z
UID:10010177-1730475000-1730481300@concordacademy.org
SUMMARY:Boys Varsity Soccer vs Landmark School (Home)
DESCRIPTION:\n\nEVENT DETAILS\n\nOpponent: Landmark School\nHome/Away: Home\nLocation: Moriarty Athletic Campus\nResult: W 7-0\nTransportation: Shuttle\nShuttle At: 2:30 p.m.
URL:https://concordacademy.org/event/boys-varsity-soccer-vs-landmark-school-home/
LOCATION:Moriarty Athletic Campus\, 153 Fairhaven Rd\, Concord\, MA\, 01742
CATEGORIES:Athletics Calendar,Boys Varsity Soccer
END:VEVENT
BEGIN:VEVENT
DTSTART;TZID=America/New_York:20241101T153000
DTEND;TZID=America/New_York:20241101T173000
DTSTAMP:20260425T125026
CREATED:20240822T210556Z
LAST-MODIFIED:20241104T190538Z
UID:10010197-1730475000-1730482200@concordacademy.org
SUMMARY:Boys Junior Varsity Soccer vs Belmont Hill School (Away)
DESCRIPTION:\n\nEVENT DETAILS\n\nOpponent: Belmont Hill School\nHome/Away: Away\nLocation: Belmont Hill School\nResult: W 3-0\nTransportation: Bedford Charter\nShuttle At: 2:30 p.m.
URL:https://concordacademy.org/event/boys-junior-varsity-soccer-vs-belmont-hill-school-away/
LOCATION:Belmont Hill School
CATEGORIES:Athletics Calendar,Boys Junior Varsity Soccer
END:VEVENT
BEGIN:VEVENT
DTSTART;TZID=America/New_York:20241101T160000
DTEND;TZID=America/New_York:20241101T173000
DTSTAMP:20260425T125026
CREATED:20240822T210626Z
LAST-MODIFIED:20241104T190635Z
UID:10010245-1730476800-1730482200@concordacademy.org
SUMMARY:Girls Junior Varsity Soccer vs Cushing Academy (Home)
DESCRIPTION: \n\nEVENT DETAILS\n\nOpponent: Cushing Academy\nHome/Away: Home\nLocation: Main Campus, 166 Main St., Concord, MA\nResult: W 6-0
URL:https://concordacademy.org/event/girls-junior-varsity-soccer-vs-cushing-academy-away/
LOCATION:Cushing Academy
CATEGORIES:Athletics Calendar,Girls Junior Varsity Soccer
END:VEVENT
BEGIN:VEVENT
DTSTART;TZID=America/New_York:20241101T163000
DTEND;TZID=America/New_York:20241101T180000
DTSTAMP:20260425T125026
CREATED:20240822T210635Z
LAST-MODIFIED:20241104T190952Z
UID:10010261-1730478600-1730484000@concordacademy.org
SUMMARY:Girls Varsity Volleyball vs Beaver Country Day School (Away)
DESCRIPTION:\n\nEVENT DETAILS\n\nOpponent: Beaver Country Day School\nHome/Away: Away\nLocation: Beaver Country Day Schhol\nResult: W 3-0\nTransportation: Bedford Charter\nShuttle At: 2:35 p.m.
URL:https://concordacademy.org/event/girls-varsity-volleyball-vs-beaver-country-day-school-away/
LOCATION:Beaver Country Day Schhol
CATEGORIES:Athletics Calendar,Girls Varsity Volleyball
END:VEVENT
BEGIN:VEVENT
DTSTART;TZID=America/New_York:20241101T163000
DTEND;TZID=America/New_York:20241101T180000
DTSTAMP:20260425T125026
CREATED:20240822T210647Z
LAST-MODIFIED:20241104T191055Z
UID:10010282-1730478600-1730484000@concordacademy.org
SUMMARY:Girls Junior Varsity Volleyball vs Beaver Country Day School (Away)
DESCRIPTION:\n\nEVENT DETAILS\n\nOpponent: Beaver Country Day School\nHome/Away: Away\nLocation: Beaver Country Day School\nResult: W 2-1\nTransportation: Bedford Charter\nShuttle At: 2:35 p.m.
URL:https://concordacademy.org/event/girls-junior-varsity-volleyball-vs-beaver-country-day-school-away/
LOCATION:Beaver Country Day School
CATEGORIES:Athletics Calendar,Girls Junior Varsity Volleyball
END:VEVENT
BEGIN:VEVENT
DTSTART;TZID=America/New_York:20241101T170000
DTEND;TZID=America/New_York:20241101T184500
DTSTAMP:20260425T125026
CREATED:20240822T210615Z
LAST-MODIFIED:20241104T191139Z
UID:10010225-1730480400-1730486700@concordacademy.org
SUMMARY:Girls Varsity Soccer vs Holderness School (Away)
DESCRIPTION:\n\nEVENT DETAILS\n\nOpponent: Holderness School\nHome/Away: Away\nLocation: Holderness School\nResult: L 0-3\nTransportation: Bedford Charter\nShuttle At: 1:30 p.m. \nExcused At: 1:15 pm
URL:https://concordacademy.org/event/girls-varsity-soccer-vs-holderness-school-away/
LOCATION:Holderness School
CATEGORIES:Athletics Calendar,Girls Varsity Soccer
END:VEVENT
END:VCALENDAR